Workbook

Sheet PLANILHA ORÇ.
B10: PREFEITURA MUNICIPAL DE GUARAPARI
B11: SEMOP - SECRETARIA MUNICIPAL DE OBRAS PÚBLICAS
B13: OBRA: | C13: RECONSTRUÇÃO E/OU CONSTRUÇÃO DA PRAÇA DA PRAIA DA CERCA, PRAÇA BELO HORIZONTE, PRAÇA DA BÍBLIA, PRAÇA DA RUA DA MARINHA E PRAÇA PARIS | H13: ÁREA: | I13: 3451,71 m²
B14: LOCAL: | C14: EM DIVERSOS BAIRROS DESTE MUNICÍPIO | H14: DATA: | I14: 44477
B15: TABELAS DE REF.: | C15: DER-ES 06/2021 | H15: *BDI: | I15: 0.3196 | L15: BDI CONFORME 2º FAIXA DA TABELA 01 DA RESOLUÇÃO TC Nº329, DE 24/09/2019 DO TCEES
B17: PLANILHA ORÇAMENTÁRIA
B19: ITEM | C19: FONTE | D19: CÓD. | E19: ESPECIFICAÇÃO DE SERVIÇO | F19: UND. | G19: QUANT. | H19: PREÇO UNITÁRIO | I19: PREÇO TOTAL | K19: VALOR
B20: 1 | E20: SERVIÇOS PRELIMINARES | K20: S/ BDI | L20: C/ BDI | N20: qtd
B21: 1.1 | E21: DEMOLIÇÕES E RETIRADAS
B22: 1.1.1 | C22: DER-ES | D22: 10206 | E22: Demolição de revestimento com azulejos | F22: m² | G22: ='QUANT.RUA MAR'!F6+'QUANT.PRAÇA BÍBLIA'!F7 -> 50.97 | H22: =L22 -> 52.67 | I22: =ROUND(G22*H22,2) -> 2684.59 | K22: 39.91 | L22: =ROUND(K22*(1+I15),2) -> 52.67 | N22: ='QUANT.PRAÇA BÍBLIA'!F7+'QUANT.RUA MAR'!F6 -> 50.97
B23: 1.1.2 | C23: DER-ES | D23: 10201 | E23: Demolição de piso cimentado inclusive lastro de concreto | F23: m² | G23: ='QUANT.PRAÇA CERCA'!F6+'QUANT.RUA MAR'!F7+QUANT.PARIS!F6+'QUANT.PRAÇA BÍBLIA'!F8 -> 2478.32 | H23: =L23 -> 27.38 | I23: =ROUND(G23*H23,2) -> 67856.4 | K23: 20.75 | L23: =ROUND(K23*(1+$I$15),2) -> 27.38 | N23: ='QUANT.PRAÇA BÍBLIA'!F8+QUANT.PARIS!F6+'QUANT.PRAÇA CERCA'!F6+'QUANT.RUA MAR'!F7 -> 2478.32
B24: 1.1.3 | C24: DER-ES | D24: 10209 | E24: Demolição de alvenaria | F24: m³ | G24: =QUANT.PARIS!F8 -> 7.13 | H24: =L24 -> 63.2 | I24: =ROUND(G24*H24,2) -> 450.62 | K24: 47.89 | L24: =ROUND(K24*(1+$I$15),2) -> 63.2 | N24: =QUANT.PARIS!F8 -> 7.13
B25: 1.1.4 | C25: DER-ES | D25: 10216 | E25: Retirada de meio-fio de concreto | F25: m | G25: ='QUANT.PRAÇA BELO HOR.'!F7+'QUANT.PRAÇA CERCA'!F9+'QUANT.RUA MAR'!F10+QUANT.PARIS!F9+'QUANT.PRAÇA BÍBLIA'!F9 -> 509.37 | H25: =L25 -> 10.53 | I25: =ROUND(G25*H25,2) -> 5363.67 | K25: 7.98 | L25: =ROUND(K25*(1+$I$15),2) -> 10.53 | N25: ='QUANT.PRAÇA BÍBLIA'!F9+QUANT.PARIS!F9+'QUANT.PRAÇA BELO HOR.'!F7+'QUANT.PRAÇA CERCA'!F9+'QUANT.RUA MAR'!F10 -> 509.37
B26: 1.1.5 | C26: DER-ES | D26: 10219 | E26: Demolição manual de concreto armado (EMOP 05.001.033) | F26: m³ | G26: ='QUANT.PRAÇA CERCA'!F7 -> 0.18 | H26: =L26 -> 348.94 | I26: =ROUND(G26*H26,2) -> 62.81 | K26: 264.43 | L26: =ROUND(K26*(1+$I$15),2) -> 348.94 | N26: ='QUANT.PRAÇA CERCA'!F7 -> 0.18
B27: 1.1.6 | C27: DER-ES | D27: 10403 | E27: Corte e destocamento de árvores com diâmetro de até 15 cm | F27: und | G27: =QUANT.PARIS!F7+'QUANT.PRAÇA BELO HOR.'!F6+'QUANT.PRAÇA CERCA'!F8 -> 4 | H27: =L27 -> 55.62 | I27: =ROUND(G27*H27,2) -> 222.48 | K27: 42.15 | L27: =ROUND(K27*(1+$I$15),2) -> 55.62 | N27: =QUANT.PARIS!F7+'QUANT.PRAÇA BELO HOR.'!F6+'QUANT.PRAÇA CERCA'!F8 -> 4
B28: 1.1.7 | C28: DER-ES | D28: 10331 | E28: Demolição de piso, soleira, peitoris e escadas em mármore ou granito, exclusive regularização | F28: m² | G28: ='QUANT.RUA MAR'!F9 -> 25.29 | H28: =L28 -> 11.3 | I28: =ROUND(G28*H28,2) -> 285.78 | K28: 8.56 | L28: =ROUND(K28*(1+$I$15),2) -> 11.3 | N28: ='QUANT.RUA MAR'!F9 -> 25.29
B29: 1.1.8 | C29: DER-ES | D29: 10326 | E29: Retirada de estrutura em madeira do telhado | F29: m² | G29: ='QUANT.RUA MAR'!F8 -> 19.32 | H29: =L29 -> 30.96 | I29: =ROUND(G29*H29,2) -> 598.15 | K29: 23.46 | L29: =ROUND(K29*(1+$I$15),2) -> 30.96 | N29: ='QUANT.RUA MAR'!F8 -> 19.32
B30: 1.2 | E30: LIMPEZA DO TERRENO
B31: 1.2.1 | C31: DER-ES | D31: 10402 | E31: Raspagem e limpeza do terreno (manual) | F31: m² | G31: ='QUANT.PRAÇA BELO HOR.'!F9 -> 105.29 | H31: =L31 -> 4.63 | I31: =ROUND(G31*H31,2) -> 487.49 | K31: 3.51 | L31: =ROUND(K31*(1+$I$15),2) -> 4.63 | N31: ='QUANT.PRAÇA BELO HOR.'!F9 -> 105.29
B32: 1.3 | E32: LOCAÇÃO
B33: 1.3.1 | C33: DER-ES | D33: 10501 | E33: Locação de obra com gabarito de madeira | F33: m² | G33: ='QUANT.PRAÇA BELO HOR.'!F11 -> 206.04 | H33: =L33 -> 12.39 | I33: =ROUND(G33*H33,2) -> 2552.84 | K33: 9.39 | L33: =ROUND(K33*(1+$I$15),2) -> 12.39 | N33: ='QUANT.PRAÇA BELO HOR.'!F11 -> 206.04
B34: 2 | E34: INSTALAÇÃO DO CANTEIRO DE OBRAS
B35: 2.1 | E35: TAPUMES, BARRACÕES E COBERTURAS
B36: 2.1.1 | C36: DER-ES | D36: 20305 | E36: Placa de obra nas dimensões de 2.0 x 4.0 m, padrão IOPES | F36: m² | G36: ='QUANT.PRAÇA BELO HOR.'!F14+'QUANT.PRAÇA CERCA'!F12+'QUANT.RUA MAR'!F13+QUANT.PARIS!F12+'QUANT.PRAÇA BÍBLIA'!F12 -> 40 | H36: =L36 -> 377.97 | I36: =ROUND(G36*H36,2) -> 15118.8 | K36: 286.43 | L36: =ROUND(K36*(1+$I$15),2) -> 377.97 | N36: 40
B37: 2.1.2 | C37: DER-ES | D37: 20352 | E37: Aluguel mensal container para escritório, dim. 6.00x2.40m, c/ banheiro (vaso+lavat+chuveiro e básc), incl. porta, 2 janelas, abert p/ ar cond., 2 pt iluminação, 2 tom. elét. e 1 tom.telef. Isolam.térmico(teto e paredes), piso em comp. Naval, cert. NR18, incl. laudo descontaminação. | F37: ms | G37: ='QUANT.PRAÇA BELO HOR.'!F16+'QUANT.PRAÇA CERCA'!F13+'QUANT.RUA MAR'!F14+QUANT.PARIS!F13+'QUANT.PRAÇA BÍBLIA'!F13 -> 24 | H37: =L37 -> 1038.96 | I37: =ROUND(G37*H37,2) -> 24935.04 | K37: 787.33 | L37: =ROUND(K37*(1+$I$15),2) -> 1038.96 | N37: ='QUANT.PRAÇA BÍBLIA'!F13+QUANT.PARIS!F13+'QUANT.PRAÇA CERCA'!F13+'QUANT.PRAÇA BELO HOR.'!F16+'QUANT.RUA MAR'!F14 -> 24
B38: 2.1.3 | C38: DER-ES | D38: 20344 | E38: Mobilização e desmobilização de conteiner locado para barracão de obra | F38: und | G38: ='QUANT.PRAÇA BELO HOR.'!F15+'QUANT.PRAÇA CERCA'!F14+'QUANT.RUA MAR'!F15+QUANT.PARIS!F14+'QUANT.PRAÇA BÍBLIA'!F14 -> 5 | H38: =L38 -> 1366.67 | I38: =ROUND(G38*H38,2) -> 6833.35 | K38: 1035.67 | L38: =ROUND(K38*(1+$I$15),2) -> 1366.67 | N38: 5
B39: 2.1.4 | C39: DER-ES | D39: 20350 | E39: Tapume Telha Metálica Ondulada em aço galvalume 0,50mm Branca h=2,20m, incl. montagem estr. mad. 8"x8", c/adesivo "IOPES" 60x60cm a cada 10m, incl. faixas pint. esmalte sint. cores azul c/ h=30cm e rosa c/ h=10cm (Reaproveitamento 2x) | F39: m | G39: ='QUANT.PRAÇA BELO HOR.'!F17+'QUANT.PRAÇA CERCA'!F15+'QUANT.RUA MAR'!F16+QUANT.PARIS!F15+'QUANT.PRAÇA BÍBLIA'!F15 -> 526.7 | H39: =L39 -> 236.82 | I39: =ROUND(G39*H39,2) -> 124733.09 | K39: 179.46 | L39: =ROUND(K39*(1+$I$15),2) -> 236.82 | N39: ='QUANT.PRAÇA BÍBLIA'!F15+QUANT.PARIS!F15+'QUANT.PRAÇA BELO HOR.'!F17+'QUANT.PRAÇA CERCA'!F15+'QUANT.RUA MAR'!F16 -> 526.7
B40: 2.2 | E40: INSTALAÇÃO DO CANTEIRO DE OBRAS (UTILIZAÇÃO 2 VEZES), PROJETO PADRÃO LABOR - NR.18 (OBRAS COM PRAZO DE EXECUÇÃO DE 6 A 12 MESES)
B41: 2.2.1 | C41: DER-ES | D41: 20812 | E41: Rede de água, com padrão de entrada d'água diâm. 3/4", conf. espec. CESAN, incl. tubos e conexões para alimentação, distribuição, extravasor e limpeza, cons. o padrão a 25m, conf. projeto (2 utilizações) | F41: m | G41: ='QUANT.PRAÇA BELO HOR.'!F19+'QUANT.PRAÇA CERCA'!F17+'QUANT.RUA MAR'!F18+QUANT.PARIS!F17+'QUANT.PRAÇA BÍBLIA'!F17 -> 28 | H41: =L41 -> 38.82 | I41: =ROUND(G41*H41,2) -> 1086.96 | K41: 29.42 | L41: =ROUND(K41*(1+$I$15),2) -> 38.82 | N41: ='QUANT.PRAÇA BÍBLIA'!F17+QUANT.PARIS!F17+'QUANT.PRAÇA BELO HOR.'!F19+'QUANT.PRAÇA CERCA'!F17+'QUANT.RUA MAR'!F18 -> 28
B42: 2.2.2 | C42: DER-ES | D42: 20713 | E42: Rede de luz, incl. padrão entrada de energia trifás., cabo de ligação até barracões, quadro de distrib., disj. E chave de força (quando necessário), cons. 20m entre padrão entrada e QDG, conf. projeto (1 utilização) | F42: m | G42: ='QUANT.PRAÇA BELO HOR.'!F20+'QUANT.PRAÇA CERCA'!F18+'QUANT.RUA MAR'!F19+QUANT.PARIS!F18+'QUANT.PRAÇA BÍBLIA'!F18 -> 40 | H42: =L42 -> 805.52 | I42: =ROUND(G42*H42,2) -> 32220.8 | K42: 610.43 | L42: =ROUND(K42*(1+$I$15),2) -> 805.52 | N42: ='QUANT.PRAÇA BÍBLIA'!F18+QUANT.PARIS!F18+'QUANT.PRAÇA BELO HOR.'!F20+'QUANT.PRAÇA CERCA'!F18+'QUANT.RUA MAR'!F19 -> 40
B43: 3 | E43: MOVIMENTO DE TERRA
B44: 3.1 | E44: ESCAVAÇÕES
B45: 3.1.1 | C45: DER-ES | D45: 30101 | E45: Escavação manual em material de 1a. categoria, até 1.50 m de profundidade | F45: m³ | G45: ='QUANT.PRAÇA BELO HOR.'!F23+'QUANT.PRAÇA CERCA'!F21+'QUANT.RUA MAR'!F22+QUANT.PARIS!F21+'QUANT.PRAÇA BÍBLIA'!F21 -> 21.31 | H45: =L45 -> 60.25 | I45: =ROUND(G45*H45,2) -> 1283.93 | K45: 45.66 | L45: =ROUND(K45*(1+$I$15),2) -> 60.25 | N45: ='QUANT.PRAÇA BÍBLIA'!F21+QUANT.PARIS!F21+'QUANT.PRAÇA BELO HOR.'!F23+'QUANT.PRAÇA CERCA'!F21+'QUANT.RUA MAR'!F22 -> 21.31
B46: 3.1.2 | C46: DER-ES | D46: 30103 | E46: Escavação mecânica em material de 1a. Categoria | F46: m³ | G46: =QUANT.PARIS!F22 -> 61.32 | H46: =L46 -> 13.02 | I46: =ROUND(G46*H46,2) -> 798.39 | K46: 9.87 | L46: =ROUND(K46*(1+$I$15),2) -> 13.02 | N46: =QUANT.PARIS!F22 -> 61.32
B47: 3.1.3 | C47: DER-ES | D47: 30119 | E47: Apiloamento do fundo de vala com maço de 30 a 60kg | F47: m² | G47: ='QUANT.PRAÇA BELO HOR.'!F24+'QUANT.PRAÇA CERCA'!F22+'QUANT.RUA MAR'!F23+QUANT.PARIS!F23+'QUANT.PRAÇA BÍBLIA'!F22 -> 66.09 | H47: =L47 -> 31.53 | I47: =ROUND(G47*H47,2) -> 2083.82 | K47: 23.89 | L47: =ROUND(K47*(1+$I$15),2) -> 31.53 | N47: ='QUANT.PRAÇA BÍBLIA'!F22+QUANT.PARIS!F23+'QUANT.PRAÇA BELO HOR.'!F24+'QUANT.PRAÇA CERCA'!F22+'QUANT.RUA MAR'!F23 -> 66.09
B48: 3.2 | E48: REATERRO E COMPACTAÇÃO
B49: 3.2.1 | C49: DER-ES | D49: 30201 | E49: Reaterro apiloado de cavas de fundação, em camadas de 20 cm | F49: m³ | G49: ='QUANT.PRAÇA BELO HOR.'!F26+'QUANT.PRAÇA CERCA'!F23+'QUANT.RUA MAR'!F24+QUANT.PARIS!F24+'QUANT.PRAÇA BÍBLIA'!F23 -> 13.05 | H49: =L49 -> 64.9 | I49: =ROUND(G49*H49,2) -> 846.95 | K49: 49.18 | L49: =ROUND(K49*(1+$I$15),2) -> 64.9 | N49: ='QUANT.PRAÇA BÍBLIA'!F23+QUANT.PARIS!F24+'QUANT.PRAÇA BELO HOR.'!F26+'QUANT.PRAÇA CERCA'!F23+'QUANT.RUA MAR'!F24 -> 13.05
B50: 3.2.2 | C50: DER-ES | D50: 30210 | E50: Aterro compactado utilizando compactador de placa vibratória com reaproveitamento do material | F50: m³ | G50: ='QUANT.PRAÇA BELO HOR.'!F27 -> 26.32 | H50: =L50 -> 32.29 | I50: =ROUND(G50*H50,2) -> 849.87 | K50: 24.47 | L50: =ROUND(K50*(1+$I$15),2) -> 32.29 | N50: ='QUANT.PRAÇA BELO HOR.'!F27 -> 26.32
B51: 3.3 | E51: TRANSPORTES
B52: 3.3.1 | C52: DER-ES | D52: 30304 | E52: Índice de preço para remoção de entulho decorrente da execução de obras (Classe A CONAMA - NBR 10.004 - Classe II-B), incluindo aluguel da caçamba, carga, transporte e descarga em área licenciada | F52: m³ | G52: ='QUANT.PRAÇA BELO HOR.'!F29+'QUANT.PRAÇA CERCA'!F25+'QUANT.RUA MAR'!F26+QUANT.PARIS!F26+'QUANT.PRAÇA BÍBLIA'!F25 -> 329.84 | H52: =L52 -> 64.46 | I52: =ROUND(G52*H52,2) -> 21261.49 | K52: 48.85 | L52: =ROUND(K52*(1+$I$15),2) -> 64.46 | N52: ='QUANT.PRAÇA BÍBLIA'!F25+QUANT.PARIS!F26+'QUANT.PRAÇA BELO HOR.'!F29+'QUANT.PRAÇA CERCA'!F25+'QUANT.RUA MAR'!F26 -> 329.84
...

Sheet LICITAÇÃO PARIS
B10: PREFEITURA MUNICIPAL DE GUARAPARI
B13: OBRA: | C13: RECONSTRUÇÃO DA PRAÇA PARIS | H13: ÁREA: | I13: 1519,51 m²
B14: LOCAL: | C14: AV. PARIS, BAIRRO: Praia do Morro, Guarapari - ES | H14: DATA: | I14: 44477
B15: TABELAS DE REF.: | C15: DER-ES 06/2021. | H15: BDI: | I15: 0.3196
B17: PLANILHA ORÇAMENTÁRIA
B19: ITEM | C19: FONTE | D19: CÓD. | F19: UND. | G19: QUANT. | H19: PREÇO UNITÁRIO | I19: PREÇO TOTAL
B20: 1 | E20: SERVIÇOS PRELIMINARES | K20: VALOR
B21: 1.1 | E21: DEMOLIÇÕES E RETIRADAS | K21: S/ BDI | L21: C/ BDI
B22: 1.1.1 | C22: IOPES | D22: 10201 | E22: Demolição de piso cimentado inclusive lastro de concreto | F22: m² | G22: =QUANT.PARIS!$F$6 -> 1157.95 | H22: =L22 -> 27.38 | I22: =G22*H22 -> 31704.671 | K22: 20.75 | L22: =ROUND(K22*(1+$I$15),2) -> 27.38
B23: 1.1.2 | C23: IOPES | D23: 10403 | E23: Corte e destocamento de árvores com diâmetro de até 15 cm | F23: und | G23: =QUANT.PARIS!$F$7 -> 1 | H23: =L23 -> 55.62 | I23: =G23*H23 -> 55.62 | K23: 42.15 | L23: =ROUND(K23*(1+$I$15),2) -> 55.62
B24: 1.1.3 | C24: IOPES | D24: 10209 | E24: Demolição de alvenaria | F24: m³ | G24: =QUANT.PARIS!$F$8 -> 7.13 | H24: =L24 -> 63.2 | I24: =G24*H24 -> 450.616 | K24: 47.89 | L24: =ROUND(K24*(1+$I$15),2) -> 63.2
B25: 1.1.4 | C25: IOPES | D25: 10216 | E25: Retirada de meio-fio de concreto | F25: m | G25: =QUANT.PARIS!$F$9 -> 167.35 | H25: =L25 -> 10.53 | I25: =G25*H25 -> 1762.1955 | K25: 7.98 | L25: =ROUND(K25*(1+$I$15),2) -> 10.53
B26: 2 | E26: INSTALAÇÃO DO CANTEIRO DE OBRAS
B27: 2.1 | E27: TAPUMES, BARRACÕES E COBERTURAS
B28: 2.1.1 | C28: IOPES | D28: 20305 | E28: Placa de obra nas dimensões de 2.0 x 4.0 m, padrão IOPES | F28: m² | G28: =QUANT.PARIS!$F$12 -> 8 | H28: =L28 -> 377.97 | I28: =G28*H28 -> 3023.76 | K28: 286.43 | L28: =ROUND(K28*(1+$I$15),2) -> 377.97
B29: 2.1.2 | C29: IOPES | D29: 20352 | E29: Aluguel mensal container para escritório, dim. 6.00x2.40m, c/ banheiro (vaso+lavat+chuveiro e básc), incl. porta, 2 janelas, abert p/ ar cond., 2 pt iluminação, 2 tom. elét. e 1 tom.telef. Isolam.térmico(teto e paredes), piso em comp. Naval, cert. NR18, incl. laudo descontaminação. | F29: ms | G29: =QUANT.PARIS!$F$13 -> 6 | H29: =L29 -> 1038.96 | I29: =G29*H29 -> 6233.76 | K29: 787.33 | L29: =ROUND(K29*(1+$I$15),2) -> 1038.96
B30: 2.1.3 | C30: IOPES | D30: 20344 | E30: Mobilização e desmobilização de conteiner locado para barracão de obra | F30: und | G30: =QUANT.PARIS!$F$14 -> 1 | H30: =L30 -> 1366.67 | I30: =G30*H30 -> 1366.67 | K30: 1035.67 | L30: =ROUND(K30*(1+$I$15),2) -> 1366.67
B31: 2.1.4 | C31: IOPES | D31: 20350 | E31: Tapume Telha Metálica Ondulada em aço galvalume 0,50mm Branca h=2,20m, incl. montagem estr. mad.8"x8", c/adesivo "IOPES" 60x60cm a cada 10m, incl. faixas pint. esmalte sint. cores azul c/ h=30cm e rosa c/ h=10cm (Reaproveitamento 2x) | F31: m | G31: =QUANT.PARIS!$F$15 -> 157.82 | H31: =L31 -> 236.82 | I31: =G31*H31 -> 37374.932 | K31: 179.46 | L31: =ROUND(K31*(1+$I$15),2) -> 236.82
B32: 2.2 | E32: INSTALAÇÃO DO CANTEIRO DE OBRAS (UTILIZAÇÃO 2 VEZES), PROJETO PADRÃO LABOR -NR.18 (OBRAS COM PRAZO DE EXECUÇÃO DE 6 A 12 MESES)
B33: 2.2.1 | C33: IOPES | D33: 20812 | E33: Rede de água, com padrão de entrada d'água diâm. 3/4", conf. espec. CESAN, incl. tubos e conexões para alimentação, distribuição, extravasor e limpeza, cons. o padrão a 25m, conf. projeto (2 utilizações) | F33: m | G33: =QUANT.PARIS!$F$17 -> 6 | H33: =L33 -> 38.82 | I33: =G33*H33 -> 232.92 | K33: 29.42 | L33: =ROUND(K33*(1+$I$15),2) -> 38.82
B34: 2.2.2 | C34: IOPES | D34: 20713 | E34: Rede de luz, incl. padrão entrada de energia trifás., cabo de ligação até barracões, quadro de distrib., disj. e chave de força (quando necessário), cons. 20m entre padrão entrada e QDG, conf. projeto (1 utilização) | F34: m | G34: =QUANT.PARIS!$F$18 -> 8 | H34: =L34 -> 805.52 | I34: =G34*H34 -> 6444.16 | K34: 610.43 | L34: =ROUND(K34*(1+$I$15),2) -> 805.52
B35: 3 | E35: MOVIMENTO DE TERRA
B36: 3.1 | E36: ESCAVAÇÕES
B37: 3.1.1 | C37: IOPES | D37: 30101 | E37: Escavação manual em material de 1a. categoria, até 1.50 m de profundidade | F37: m³ | G37: =QUANT.PARIS!$F$21 -> 4.37 | H37: =L37 -> 60.25 | I37: =G37*H37 -> 263.2925 | K37: 45.66 | L37: =ROUND(K37*(1+$I$15),2) -> 60.25
B38: 3.1.2 | C38: IOPES | D38: 30103 | E38: Escavação mecânica em material de 1a. Categoria | F38: m³ | G38: =QUANT.PARIS!$F$22 -> 61.32 | H38: =L38 -> 13.02 | I38: =G38*H38 -> 798.3864 | K38: 9.87 | L38: =ROUND(K38*(1+$I$15),2) -> 13.02
B39: 3.1.3 | C39: IOPES | D39: 30119 | E39: Apiloamento do fundo de vala com maço de 30 a 60kg | F39: m² | G39: =QUANT.PARIS!$F$23 -> 11.01 | H39: =L39 -> 31.53 | I39: =G39*H39 -> 347.1453 | K39: 23.89 | L39: =ROUND(K39*(1+$I$15),2) -> 31.53
B40: 3.1.4 | C40: IOPES | D40: 30201 | E40: Reaterro apiloado de cavas de fundação, em camadas de 20 cm | F40: m³ | G40: =QUANT.PARIS!$F$24 -> 1.93 | H40: =L40 -> 64.9 | I40: =G40*H40 -> 125.257 | K40: 49.18 | L40: =ROUND(K40*(1+$I$15),2) -> 64.9
B41: 3.2 | E41: TRANSPORTES
B42: 3.2.1 | C42: IOPES | D42: 30304 | E42: Índice de preço para remoção de entulho decorrente da execução de obras (Classe A CONAMA - NBR 10.004 - Classe II-B), incluindo aluguel da caçamba, carga, transporte e descarga em área licenciada | F42: m³ | G42: =QUANT.PARIS!$F$26 -> 137.99 | H42: =L42 -> 64.46 | I42: =G42*H42 -> 8894.8354 | K42: 48.85 | L42: =ROUND(K42*(1+$I$15),2) -> 64.46
B43: 4 | E43: PAREDES E PAINÉIS
B44: 4.1 | E44: ALVENARIA DE VEDAÇÃO EMPREGANDO ARGAMASSA DE CIMENTO, CAL E AREIA
B45: 4.1.1 | C45: IOPES | D45: 50601 | E45: Alvenaria de blocos de concreto 9x19x39cm, c/ resist. mínimo a compres. 2.5 MPa, assent. c/ arg. De cimento, cal hidratada CH1 e areia no traço 1:0.5:8 esp. das juntas 10mm e esp. das paredes, s/ rev. 9cm (canteiros) | F45: m² | G45: =QUANT.PARIS!$F$43 -> 28.54 | H45: =L45 -> 71.36 | I45: =G45*H45 -> 2036.6144 | K45: 54.08 | L45: =ROUND(K45*(1+$I$15),2) -> 71.36
B46: 5 | E46: REVESTIMENTO DE PAREDES
B47: 5.1 | E47: REVESTIMENTO COM ARGAMASSA
B48: 5.1.1 | C48: IOPES | D48: 120101 | E48: Chapisco de argamassa de cimento e areia média ou grossa lavada, no traço 1:3, espessura 5 mm (canteiros) | F48: m² | G48: =QUANT.PARIS!$F$46 -> 57.94 | H48: =L48 -> 7.35 | I48: =G48*H48 -> 425.859 | K48: 5.57 | L48: =ROUND(K48*(1+$I$15),2) -> 7.35
B49: 5.1.2 | C49: IOPES | D49: 120301 | E49: Emboço de argamassa de cimento, cal hidratada CH1 e areia média ou grossa lavada no traço 1:0.5:6, espessura 20 mm (canteiros) | F49: m² | G49: =QUANT.PARIS!$F$47 -> 57.94 | H49: =L49 -> 36.12 | I49: =G49*H49 -> 2092.7928 | K49: 27.37 | L49: =ROUND(K49*(1+$I$15),2) -> 36.12
B50: 5.2 | E50: ACABAMENTOS
B51: 5.2.1 | C51: COMP.17 | E51: Piso porcelanato deck legno maso ripado 26x106cm Biancogres/equiv, utilizando dupla colagem de argamassa colante para porcelanato tipo ACIII e rejunte 1mm para porcelanato (canteiros) | F51: m² | G51: =QUANT.PARIS!$F$49 -> 31.4 | H51: =L51 -> 147.31 | I51: =G51*H51 -> 4625.534 | K51: 111.63 | L51: =ROUND(K51*(1+$I$15),2) -> 147.31
B52: 6 | E52: IMPERMEABILIZAÇÃO
B53: 6.1 | E53: IMPERMEABILIZAÇÃO CALHAS, LAJES DESCOBERTAS, BALDRAMES, PAREDES E JARDINEIRAS
...

Sheet licitação B.hor
B11: PREFEITURA MUNICIPAL DE GUARAPARI
B12: SEMOP - SECRETARIA MUNICIPAL DE OBRAS PÚBLICAS
B14: OBRA: | C14: CONSTRUÇÃO DA PRAÇA BELO HORIZONTE | H14: ÁREA: | I14: 263,23 m2
B15: LOCAL: | C15: AV.MUNIR ABUD - BAIRRO: PRAIA DO MORRO - GUARAPARI - ES | H15: DATA: | I15: 44477
B16: TABELAS DE REF.: | C16: DER-ES 06/2021; | H16: BDI: | I16: 0.3196 | M16: ''''''
B18: PLANILHA ORÇAMENTÁRIA
K19: VALOR
B20: ITEM | C20: FONTE | D20: CÓD. | F20: UND. | G20: QUANT. | H20: PREÇO UNITÁRIO | I20: PREÇO TOTAL | K20: S/ BDI | L20: C/ BDI
B21: 1 | E21: SERVIÇOS PRELIMINARES
B22: 1.1 | E22: DEMOLIÇÕES E RETIRADAS
B23: 1.1.1 | C23: IOPES | D23: 10403 | E23: Corte e destocamento de árvores com diâmetro de até 15 cm | F23: und | G23: ='QUANT.PRAÇA BELO HOR.'!$F$6 -> 1 | H23: =L23 -> 55.62 | I23: =ROUND(G23*H23,2) -> 55.62 | K23: 42.15 | L23: =ROUND(K23*(1+$I$16),2) -> 55.62
B24: 1.1.2 | C24: IOPES | D24: 10216 | E24: Retirada de meio-fio de concreto | F24: m | G24: ='QUANT.PRAÇA BELO HOR.'!$F$7 -> 38.83 | H24: =L24 -> 10.53 | I24: =G24*H24 -> 408.8799 | K24: 7.98 | L24: =ROUND(K24*(1+$I$16),2) -> 10.53
B25: 1.2 | E25: LIMPEZA DO TERRENO
B26: 1.2.1 | C26: IOPES | D26: 10402 | E26: Raspagem e limpeza do terreno (manual) | F26: m² | G26: ='QUANT.PRAÇA BELO HOR.'!$F$9 -> 105.29 | H26: =L26 -> 4.63 | I26: =G26*H26 -> 487.4927 | K26: 3.51 | L26: =ROUND(K26*(1+$I$16),2) -> 4.63
B27: 1.3 | E27: LOCAÇÃO
B28: 1.3.1 | C28: IOPES | D28: 10501 | E28: Locação de obra com gabarito de madeira | F28: m² | G28: ='QUANT.PRAÇA BELO HOR.'!$F$11 -> 206.04 | H28: =L28 -> 12.39 | I28: =G28*H28 -> 2552.8356 | K28: 9.39 | L28: =ROUND(K28*(1+$I$16),2) -> 12.39
B29: 2 | E29: INSTALAÇÃO DO CANTEIRO DE OBRAS
B30: 2.1 | E30: TAPUMES, BARRACÕES E COBERTURAS
B31: 2.1.1 | C31: IOPES | D31: 20305 | E31: Placa de obra nas dimensões de 2.0 x 4.0 m, padrão IOPES | F31: m² | G31: ='QUANT.PRAÇA BELO HOR.'!$F$14 -> 8 | H31: =L31 -> 377.97 | I31: =G31*H31 -> 3023.76 | K31: 286.43 | L31: =ROUND(K31*(1+$I$16),2) -> 377.97
B32: 2.1.2 | C32: IOPES | D32: 20344 | E32: Mobilização e desmobilização de conteiner locado para barracão de obra | F32: und | G32: ='QUANT.PRAÇA BELO HOR.'!$F$15 -> 1 | H32: =L32 -> 1366.67 | I32: =G32*H32 -> 1366.67 | K32: 1035.67 | L32: =ROUND(K32*(1+$I$16),2) -> 1366.67
B33: 2.1.3 | C33: IOPES | D33: 20352 | E33: Aluguel mensal container para escritório, dim. 6.00x2.40m, c/ banheiro (vaso+lavat+chuveiro e básc), incl. porta, 2 janelas, abert p/ ar cond., 2 pt iluminação, 2 tom. elét. e 1 tom.telef. Isolam. térmico (teto e paredes), piso em comp. Naval, cert. NR18, incl. laudo descontaminação. | F33: ms | G33: ='QUANT.PRAÇA BELO HOR.'!$F$16 -> 4 | H33: =L33 -> 1038.96 | I33: =G33*H33 -> 4155.84 | K33: 787.33 | L33: =ROUND(K33*(1+$I$16),2) -> 1038.96
B34: 2.1.4 | C34: IOPES | D34: 20350 | E34: Tapume Telha Metálica Ondulada em aço galvalume 0,50mm Branca h=2,20m, incl. montagem estr. mad. 8"x8", c/adesivo "IOPES" 60x60cm a cada 10m, incl. faixas pint. esmalte sint. cores azul c/ h=30cm e rosa c/ h=10cm (Reaproveitamento 2x) | F34: m | G34: ='QUANT.PRAÇA BELO HOR.'!$F$17 -> 60.7 | H34: =L34 -> 236.82 | I34: =G34*H34 -> 14374.974 | K34: 179.46 | L34: =ROUND(K34*(1+$I$16),2) -> 236.82
B35: 2.2 | E35: INSTALAÇÃO DO CANTEIRO DE OBRAS (UTILIZAÇÃO 2 VEZES), PROJETO PADRÃO LABOR - NR.18 (OBRAS COM PRAZO DE EXECUÇÃO DE 6 A 12 MESES)
B36: 2.2.1 | C36: IOPES | D36: 20812 | E36: Rede de água, com padrão de entrada d'água diâm. 3/4", conf. espec. CESAN, incl. tubos e conexões para alimentação, distribuição, extravasor e limpeza, cons. o padrão a 25m, conf. projeto (2 utilizações) | F36: m | G36: ='QUANT.PRAÇA BELO HOR.'!$F$19 -> 4 | H36: =L36 -> 38.82 | I36: =G36*H36 -> 155.28 | K36: 29.42 | L36: =ROUND(K36*(1+$I$16),2) -> 38.82
B37: 2.2.2 | C37: IOPES | D37: 20713 | E37: Rede de luz, incl. padrão entrada de energia trifás., cabo de ligação até barracões, quadro de distrib., disj. E chave de força (quando necessário), cons. 20m entre padrão entrada e QDG, conf. projeto (1 utilização) | F37: m | G37: ='QUANT.PRAÇA BELO HOR.'!$F$20 -> 8 | H37: =L37 -> 805.52 | I37: =G37*H37 -> 6444.16 | K37: 610.43 | L37: =ROUND(K37*(1+$I$16),2) -> 805.52
B38: 3 | E38: MOVIMENTO DE TERRA
B39: 3.1 | E39: ESCAVAÇÕES
B40: 3.1.1 | C40: IOPES | D40: 30101 | E40: Escavação manual em material de 1a. categoria, até 1.50 m de profundidade | F40: m³ | G40: ='QUANT.PRAÇA BELO HOR.'!$F$23 -> 1.94 | H40: =L40 -> 60.25 | I40: =G40*H40 -> 116.885 | K40: 45.66 | L40: =ROUND(K40*(1+$I$16),2) -> 60.25
B41: 3.1.2 | C41: IOPES | D41: 30119 | E41: Apiloamento do fundo de vala com maço de 30 a 60kg | F41: m² | G41: ='QUANT.PRAÇA BELO HOR.'!$F$24 -> 3.24 | H41: =L41 -> 31.53 | I41: =G41*H41 -> 102.1572 | K41: 23.89 | L41: =ROUND(K41*(1+$I$16),2) -> 31.53
B42: 3.2 | E42: REATERRO E COMPACTAÇÃO
B43: 3.2.1 | C43: IOPES | D43: 30201 | E43: Reaterro apiloado de cavas de fundação, em camadas de 20 cm | F43: m³ | G43: ='QUANT.PRAÇA BELO HOR.'!$F$26 -> 1.51 | H43: =L43 -> 64.9 | I43: =G43*H43 -> 97.999 | K43: 49.18 | L43: =ROUND(K43*(1+$I$16),2) -> 64.9
B44: 3.2.2 | C44: IOPES | D44: 30210 | E44: Aterro compactado utilizando compactador de placa vibratória com reaproveitamento do material | F44: m³ | G44: ='QUANT.PRAÇA BELO HOR.'!$F$27 -> 26.32 | H44: =L44 -> 32.29 | I44: =G44*H44 -> 849.8728 | K44: 24.47 | L44: =ROUND(K44*(1+$I$16),2) -> 32.29
B45: 3.3 | E45: TRANSPORTES
B46: 3.3.1 | C46: IOPES | D46: 30304 | E46: Índice de preço para remoção de entulho decorrente da execução de obras (Classe A CONAMA - NBR 10.004 - Classe II-B), incluindo aluguel da caçamba, carga, transporte e descarga em área licenciada | F46: m³ | G46: ='QUANT.PRAÇA BELO HOR.'!$F$29 -> 3.71 | H46: =L46 -> 64.46 | I46: =G46*H46 -> 239.1466 | K46: 48.85 | L46: =ROUND(K46*(1+$I$16),2) -> 64.46
B47: 4 | E47: PISOS INTERNOS E EXTERNOS
B48: 4.1 | E48: LASTRO DE CONTRAPISO
B49: 4.1.1 | C49: IOPES | D49: 130112 | E49: Lastro de concreto não estrutural, espessura de 6 cm | F49: m² | G49: ='QUANT.PRAÇA BELO HOR.'!$F$32 -> 209.76 | H49: =L49 -> 51.53 | I49: =G49*H49 -> 10808.933 | K49: 39.05 | L49: =ROUND(K49*(1+$I$16),2) -> 51.53
B50: 4.1.2 | C50: IOPES | D50: 130103 | E50: Regularização de base p/ revestimento cerâmico, com argamassa de cimento e areia no traço 1:5, espessura 3cm | F50: m² | G50: ='QUANT.PRAÇA BELO HOR.'!$F$33 -> 55.91 | H50: =L50 -> 25.31 | I50: =G50*H50 -> 1415.0821 | K50: 19.18 | L50: =ROUND(K50*(1+$I$16),2) -> 25.31
B51: 4.1.3 | C51: SINAPI | D51: 97087 | E51: Camada separadora para execução de radier, em lona plástica. af_09/2017 | F51: m² | G51: ='QUANT.PRAÇA BELO HOR.'!$F$34 -> 209.76 | H51: =L51 -> 2.61 | I51: =G51*H51 -> 547.4736 | K51: 1.98 | L51: =ROUND(K51*(1+$I$16),2) -> 2.61
B52: 4.1.4 | C52: ORSE | D52: 3637 | E52: Fornecimento e instalação de tela aço soldada nervurada CA-60, Q-92, malha 15x15cm, ferro 4.2mm (1.48 kg/m2), painel 2,45x6,0m, Telcon ou similar | F52: m² | G52: ='QUANT.PRAÇA BELO HOR.'!$F$35 -> 209.76 | H52: =L52 -> 49.43 | I52: =G52*H52 -> 10368.437 | K52: 37.46 | L52: =ROUND(K52*(1+$I$16),2) -> 49.43
...

Sheet LICITAÇÃO R.MAR
B11: PREFEITURA MUNICIPAL DE GUARAPARI
B14: OBRA: | C14: REFORMA DA PRAÇA RUA DA MARINHA | H14: ÁREA: | I14: 675,17 m²
B15: LOCAL: | C15: RUA DA MARINHA, BAIRRO: ITAPEBUSSU, GUARAPARI - ES | H15: DATA: | I15: 44477
B16: TABELAS DE REF.: | C16: DER-IOPES ES 06/2021. | H16: BDI: | I16: 0.3196
B18: PLANILHA ORÇAMENTÁRIA
B20: ITEM | C20: FONTE | D20: CÓD. | E20: ESPECIFICAÇÃO DO SERVIÇO | F20: UND. | G20: QUANT. | H20: PREÇO UNITÁRIO | I20: PREÇO TOTAL | K20: S/ BDI | L20: C/ BDI
B21: 1 | E21: SERVIÇOS PRELIMINARES
B22: 1.1 | E22: DEMOLIÇÕES E RETIRADAS
B23: 1.1.1 | C23: IOPES | D23: 10206 | E23: Demolição de revestimento com azulejos | F23: m² | G23: ='[3]QUANT.RUA MAR'!$F$6 -> 33.72 | H23: =L23 -> 52.67 | I23: =G23*H23 -> 1776.0324 | K23: 39.91 | L23: =ROUND(K23*(1+$I$16),2) -> 52.67
B24: 1.1.2 | C24: IOPES | D24: 10201 | E24: Demolição de piso cimentado inclusive lastro de concreto | F24: m² | G24: ='[3]QUANT.RUA MAR'!$F$7 -> 516.31 | H24: =L24 -> 27.38 | I24: =G24*H24 -> 14136.568 | K24: 20.75 | L24: =ROUND(K24*(1+$I$16),2) -> 27.38
B25: 1.1.3 | C25: IOPES | D25: 10326 | E25: Retirada de estrutura em madeira do telhado | F25: m² | G25: ='[3]QUANT.RUA MAR'!$F$8 -> 19.32 | H25: =L25 -> 30.96 | I25: =G25*H25 -> 598.1472 | K25: 23.46 | L25: =ROUND(K25*(1+$I$16),2) -> 30.96
B26: 1.1.4 | C26: IOPES | D26: 10331 | E26: Demolição de piso, soleira, peitoris e escadas em mármore ou granito, exclusive regularização | F26: m² | G26: ='[3]QUANT.RUA MAR'!$F$9 -> 25.29 | H26: =L26 -> 11.3 | I26: =G26*H26 -> 285.777 | K26: 8.56 | L26: =ROUND(K26*(1+$I$16),2) -> 11.3
B27: 1.1.5 | C27: IOPES | D27: 10216 | E27: Retirada de meio-fio de concreto | F27: m | G27: ='[3]QUANT.RUA MAR'!$F$10 -> 128.14 | H27: =L27 -> 10.53 | I27: =G27*H27 -> 1349.3142 | K27: 7.98 | L27: =ROUND(K27*(1+$I$16),2) -> 10.53
B28: 2 | E28: INSTALAÇÃO DO CANTEIRO DE OBRAS
B29: 2.1 | E29: TAPUMES, BARRACÕES E COBERTURAS
B30: 2.1.1 | C30: IOPES | D30: 20305 | E30: Placa de obra nas dimensões de 2.0 x 4.0 m, padrão IOPES | F30: m² | G30: ='[3]QUANT.RUA MAR'!$F$13 -> 8 | H30: =L30 -> 377.97 | I30: =G30*H30 -> 3023.76 | K30: 286.43 | L30: =ROUND(K30*(1+$I$16),2) -> 377.97
B31: 2.1.2 | C31: IOPES | D31: 20352 | E31: Aluguel mensal container para escritório, dim. 6.00x2.40m, c/ banheiro (vaso+lavat+chuveiro e básc), incl. porta, 2 janelas, abert p/ ar cond., 2 pt iluminação, 2 tom. elét. e 1 tom.telef. Isolam.térmico(teto e paredes), piso em comp. Naval, cert. NR18, incl. laudo descontaminação. | F31: ms | G31: ='[3]QUANT.RUA MAR'!$F$14 -> 6 | H31: =L31 -> 1038.96 | I31: =G31*H31 -> 6233.76 | K31: 787.33 | L31: =ROUND(K31*(1+$I$16),2) -> 1038.96
B32: 2.1.3 | C32: IOPES | D32: 20344 | E32: Mobilização e desmobilização de conteiner locado para barracão de obra | F32: und | G32: ='[3]QUANT.RUA MAR'!$F$15 -> 1 | H32: =L32 -> 1366.67 | I32: =G32*H32 -> 1366.67 | K32: 1035.67 | L32: =ROUND(K32*(1+$I$16),2) -> 1366.67
B33: 2.1.4 | C33: IOPES | D33: 20350 | E33: Tapume Telha Metálica Ondulada em aço galvalume 0,50mm Branca h=2,20m, incl. montagem estr. mad.8"x8", c/adesivo "DER-ES" 60x60cm a cada 10m, incl. faixas pint. esmalte sint. cores azul c/ h=30cm e rosac/ h=10cm (Reaproveitamento 2x) | F33: m | G33: ='[3]QUANT.RUA MAR'!$F$16 -> 124.72 | H33: =L33 -> 236.82 | I33: =G33*H33 -> 29536.19 | K33: 179.46 | L33: =ROUND(K33*(1+$I$16),2) -> 236.82
B34: 2.2 | E34: INSTALAÇÃO DO CANTEIRO DE OBRAS (UTILIZAÇÃO 2 VEZES), PROJETO PADRÃO LABOR - NR.18 (OBRAS COM PRAZO DE EXECUÇÃO DE 6 A 12 MESES)
B35: 2.2.1 | C35: IOPES | D35: 20812 | E35: Rede de água, com padrão de entrada d'água diâm. 3/4", conf. espec. CESAN, incl. tubos e conexões para alimentação, distribuição, extravasor e limpeza, cons. o padrão a 25m, conf. projeto (2 utilizações) | F35: m | G35: ='[3]QUANT.RUA MAR'!$F$18 -> 6 | H35: =L35 -> 38.82 | I35: =G35*H35 -> 232.92 | K35: 29.42 | L35: =ROUND(K35*(1+$I$16),2) -> 38.82
B36: 2.2.2 | C36: IOPES | D36: 20713 | E36: Rede de luz, incl. padrão entrada de energia trifás., cabo de ligação até barracões, quadro de distrib., disj. E chave de força (quando necessário), cons. 20m entre padrão entrada e QDG, conf. projeto (1 utilização) | F36: m | G36: ='[3]QUANT.RUA MAR'!$F$19 -> 8 | H36: =L36 -> 805.52 | I36: =G36*H36 -> 6444.16 | K36: 610.43 | L36: =ROUND(K36*(1+$I$16),2) -> 805.52
B37: 3 | E37: MOVIMENTO DE TERRA
B38: 3.1 | E38: ESCAVAÇÕES
B39: 3.1.1 | C39: IOPES | D39: 30101 | E39: Escavação manual em material de 1a. categoria, até 1.50 m de profundidade | F39: m³ | G39: ='[3]QUANT.RUA MAR'!$F$22 -> 8.83 | H39: =L39 -> 60.25 | I39: =G39*H39 -> 532.0075 | K39: 45.66 | L39: =ROUND(K39*(1+$I$16),2) -> 60.25
B40: 3.1.2 | C40: IOPES | D40: 30119 | E40: Apiloamento do fundo de vala com maço de 30 a 60kg | F40: m² | G40: ='[3]QUANT.RUA MAR'!$F$23 -> 33.87 | H40: =L40 -> 31.53 | I40: =G40*H40 -> 1067.9211 | K40: 23.89 | L40: =ROUND(K40*(1+$I$16),2) -> 31.53
B41: 3.1.3 | C41: IOPES | D41: 30201 | E41: Reaterro apiloado de cavas de fundação, em camadas de 20 cm | F41: m³ | G41: ='[3]QUANT.RUA MAR'!$F$24 -> 5.57 | H41: =L41 -> 64.9 | I41: =G41*H41 -> 361.493 | K41: 49.18 | L41: =ROUND(K41*(1+$I$16),2) -> 64.9
B42: 3.2 | E42: TRANSPORTES
B43: 3.2.1 | C43: IOPES | D43: 30304 | E43: Índice de preço para remoção de entulho decorrente da execução de obras (Classe A CONAMA - NBR 10.004 - Classe II-B), incluindo aluguel da caçamba, carga, transporte e descarga em área licenciada | F43: m³ | G43: ='[3]QUANT.RUA MAR'!$F$26 -> 69.01 | H43: =L43 -> 64.46 | I43: =G43*H43 -> 4448.3846 | K43: 48.85 | L43: =ROUND(K43*(1+$I$16),2) -> 64.46
B44: 4 | E44: REVESTIMENTO DE PAREDES
B45: 4.1 | E45: ACABAMENTOS
B46: 4.1.1 | C46: COMP.15 | E46: Piso porcelanato long deck maso (ripado), dim. 26x106cm,Biancogres/equiv, utilizando dupla colagem de argamassa colante para porcelanato tipo ACIII e rejunte 1mm para porcelanato (canteiros) | F46: m² | G46: ='[3]QUANT.RUA MAR'!$F$29 -> 37.25 | H46: =L46 -> 147.3 | I46: =G46*H46 -> 5486.925 | K46: =[4]COMPOSIÇOES!F330 -> 111.6282 | L46: =ROUND(K46*(1+$I$16),2) -> 147.3
B47: 5 | E47: IMPERMEABILIZAÇÃO
B48: 5.1 | E48: IMPERMEABILIZAÇÃO CALHAS, LAJES DESCOBERTAS, BALDRAMES, PAREDES E JARDINEIRAS
B49: 5.1.1 | C49: IOPES | D49: 100203 | E49: Pintura impermeabilizante com igolflex ou equivalente a 3 demãos (canteiros) | F49: m² | G49: ='[3]QUANT.RUA MAR'!$F$32 -> 33.87 | H49: =L49 -> 55.08 | I49: =G49*H49 -> 1865.5596 | K49: 41.74 | L49: =ROUND(K49*(1+$I$16),2) -> 55.08
B50: 6 | E50: PISOS INTERNOS E EXTERNOS
B51: 6.1 | E51: ACABAMENTOS
B52: 6.1.1 | C52: SINAPI | D52: 97087 | E52: Camada separadora para execução de radier, em lona plástica. af_09/2017 (calçada) | F52: m² | G52: ='[3]QUANT.RUA MAR'!$F$35 -> 251.04 | H52: =L52 -> 2.61 | I52: =G52*H52 -> 655.2144 | K52: 1.98 | L52: =ROUND(K52*(1+$I$16),2) -> 2.61
B53: 6.1.2 | C53: ORSE | D53: 3637 | E53: Fornecimento e instalação de tela aço soldada nervurada CA-60, Q-92, malha 15x15cm, ferro 4.2mm (1.48 kg/m2), painel 2,45x6,0m, Telcon ou similar (calçada) | F53: m² | G53: ='[3]QUANT.RUA MAR'!$F$36 -> 251.04 | H53: =L53 -> 49.43 | I53: =G53*H53 -> 12408.907 | K53: 37.46 | L53: =ROUND(K53*(1+$I$16),2) -> 49.43
B54: 6.1.3 | C54: IOPES | D54: 130112 | E54: Lastro de concreto não estrutural, espessura de 6 cm (calçada) | F54: m² | G54: ='[3]QUANT.RUA MAR'!$F$37 -> 251.04 | H54: =L54 -> 51.53 | I54: =G54*H54 -> 12936.091 | K54: 39.05 | L54: =ROUND(K54*(1+$I$16),2) -> 51.53
...

Sheet Licitação CERCA
B11: PREFEITURA MUNICIPAL DE GUARAPARI
B12: SEMOP - SECRETARIA MUNICIPAL DE OBRAS PÚBLICAS
B14: OBRA: | C14: RECONSTRUÇÃO DA PRAÇA - PRAIA DA CERCA | H14: ÁREA: | I14: 630,00 m2
B15: LOCAL: | C15: RUA: BELO HORIZONTE, BAIRRO: PRAIA DO MORRO, GUARAPARI - ES | H15: DATA: | I15: 44477
B16: TABELAS DE REF.: | C16: DER-ES 06/2021. | H16: BDI: | I16: 0.3196
B18: PLANILHA ORÇAMENTÁRIA
K19: VALOR
B20: ITEM | C20: FONTE | D20: CÓD. | F20: UND. | G20: QUANT. | H20: PREÇO UNITÁRIO | I20: PREÇO TOTAL | K20: S/ BDI | L20: C/ BDI
B21: 1 | E21: SERVIÇOS PRELIMINARES
B22: 1.1 | E22: DEMOLIÇÕES E RETIRADAS
B23: 1.1.1 | C23: IOPES | D23: 10201 | E23: Demolição de piso cimentado inclusive lastro de concreto | F23: m² | G23: ='QUANT.PRAÇA CERCA'!$F$6 -> 509.42 | H23: =L23 -> 27.38 | I23: =G23*H23 -> 13947.92 | K23: 20.75 | L23: =ROUND(K23*(1+$I$16),2) -> 27.38
B24: 1.1.2 | C24: IOPES | D24: 10219 | E24: Demolição manual de concreto armado (EMOP 05.001.033) | F24: m³ | G24: ='QUANT.PRAÇA CERCA'!$F$7 -> 0.18 | H24: =L24 -> 348.94 | I24: =G24*H24 -> 62.8092 | K24: 264.43 | L24: =ROUND(K24*(1+$I$16),2) -> 348.94
B25: 1.1.3 | C25: IOPES | D25: 10403 | E25: Corte e destocamento de árvores com diâmetro de até 15 cm | F25: und | G25: ='QUANT.PRAÇA CERCA'!$F$8 -> 2 | H25: =L25 -> 55.62 | I25: =G25*H25 -> 111.24 | K25: 42.15 | L25: =ROUND(K25*(1+$I$16),2) -> 55.62
B26: 1.1.4 | C26: IOPES | D26: 10216 | E26: Retirada de meio-fio de concreto | F26: m | G26: ='QUANT.PRAÇA CERCA'!$F$9 -> 87.94 | H26: =L26 -> 10.53 | I26: =G26*H26 -> 926.0082 | K26: 7.98 | L26: =ROUND(K26*(1+$I$16),2) -> 10.53
B27: 2 | E27: INSTALAÇÃO DO CANTEIRO DE OBRAS
B28: 2.1 | E28: TAPUMES, BARRACÕES E COBERTURAS
B29: 2.1.1 | C29: IOPES | D29: 20305 | E29: Placa de obra nas dimensões de 2.0 x 4.0 m, padrão IOPES | F29: m² | G29: ='QUANT.PRAÇA CERCA'!$F$12 -> 8 | H29: =L29 -> 377.97 | I29: =G29*H29 -> 3023.76 | K29: 286.43 | L29: =ROUND(K29*(1+$I$16),2) -> 377.97
B30: 2.1.2 | C30: IOPES | D30: 20352 | E30: Aluguel mensal container para escritório, dim. 6.00x2.40m, c/ banheiro (vaso+lavat+chuveiro e básc), incl. porta, 2 janelas, abert p/ ar cond., 2 pt iluminação, 2 tom. elét. e 1 tom.telef. Isolam.térmico(teto e paredes), piso em comp. Naval, cert. NR18, incl. laudo descontaminação. | F30: ms | G30: ='QUANT.PRAÇA CERCA'!$F$13 -> 4 | H30: =L30 -> 1038.96 | I30: =G30*H30 -> 4155.84 | K30: 787.33 | L30: =ROUND(K30*(1+$I$16),2) -> 1038.96
B31: 2.1.3 | C31: IOPES | D31: 20344 | E31: Mobilização e desmobilização de conteiner locado para barracão de obra | F31: und | G31: ='QUANT.PRAÇA CERCA'!$F$14 -> 1 | H31: =L31 -> 1366.67 | I31: =G31*H31 -> 1366.67 | K31: 1035.67 | L31: =ROUND(K31*(1+$I$16),2) -> 1366.67
B32: 2.1.4 | C32: IOPES | D32: 20350 | E32: Tapume Telha Metálica Ondulada em aço galvalume 0,50mm Branca h=2,20m, incl. montagem estr. mad. 8"x8", c/adesivo "IOPES" 60x60cm a cada 10m, incl. faixas pint. esmalte sint. cores azul c/ h=30cm e rosa c/ h=10cm (Reaproveitamento 2x) | F32: m | G32: ='QUANT.PRAÇA CERCA'!$F$15 -> 89.36 | H32: =L32 -> 236.82 | I32: =G32*H32 -> 21162.235 | K32: 179.46 | L32: =ROUND(K32*(1+$I$16),2) -> 236.82
B33: 2.2 | E33: INSTALAÇÃO DO CANTEIRO DE OBRAS (UTILIZAÇÃO 2 VEZES), PROJETO PADRÃO LABOR - NR.18 (OBRAS COM PRAZO DE EXECUÇÃO DE 6 A 12 MESES)
B34: 2.2.1 | C34: IOPES | D34: 20812 | E34: Rede de água, com padrão de entrada d'água diâm. 3/4", conf. espec. CESAN, incl. tubos e conexões para alimentação, distribuição, extravasor e limpeza, cons. o padrão a 25m, conf. projeto (2 utilizações) | F34: m | G34: ='QUANT.PRAÇA CERCA'!$F$17 -> 6 | H34: =L34 -> 38.82 | I34: =G34*H34 -> 232.92 | K34: 29.42 | L34: =ROUND(K34*(1+$I$16),2) -> 38.82
B35: 2.2.2 | C35: IOPES | D35: 20713 | E35: Rede de luz, incl. padrão entrada de energia trifás., cabo de ligação até barracões, quadro de distrib., disj. E chave de força (quando necessário), cons. 20m entre padrão entrada e QDG, conf. projeto (1 utilização) | F35: m | G35: ='QUANT.PRAÇA CERCA'!$F$18 -> 8 | H35: =L35 -> 805.52 | I35: =G35*H35 -> 6444.16 | K35: 610.43 | L35: =ROUND(K35*(1+$I$16),2) -> 805.52
B36: 3 | E36: MOVIMENTO DE TERRA
B37: 3.1 | E37: ESCAVAÇÕES
B38: 3.1.1 | C38: IOPES | D38: 30101 | E38: Escavação manual em material de 1a. categoria, até 1.50 m de profundidade | F38: m³ | G38: ='QUANT.PRAÇA CERCA'!$F$21 -> 2.32 | H38: =L38 -> 60.25 | I38: =G38*H38 -> 139.78 | K38: 45.66 | L38: =ROUND(K38*(1+$I$16),2) -> 60.25
B39: 3.1.2 | C39: IOPES | D39: 30119 | E39: Apiloamento do fundo de vala com maço de 30 a 60kg | F39: m² | G39: ='QUANT.PRAÇA CERCA'!$F$22 -> 4.76 | H39: =L39 -> 31.53 | I39: =G39*H39 -> 150.0828 | K39: 23.89 | L39: =ROUND(K39*(1+$I$16),2) -> 31.53
B40: 3.1.3 | C40: IOPES | D40: 30201 | E40: Reaterro apiloado de cavas de fundação, em camadas de 20 cm | F40: m³ | G40: ='QUANT.PRAÇA CERCA'!$F$23 -> 1.82 | H40: =L40 -> 64.9 | I40: =G40*H40 -> 118.118 | K40: 49.18 | L40: =ROUND(K40*(1+$I$16),2) -> 64.9
B41: 3.2 | E41: TRANSPORTES
B42: 3.2.1 | C42: IOPES | D42: 30304 | E42: Índice de preço para remoção de entulho decorrente da execução de obras (Classe A CONAMA - NBR 10.004 - Classe II-B), incluindo aluguel da caçamba, carga, transporte e descarga em área licenciada | F42: m³ | G42: ='QUANT.PRAÇA CERCA'!$F$25 -> 71.51 | H42: =L42 -> 64.46 | I42: =G42*H42 -> 4609.5346 | K42: 48.85 | L42: =ROUND(K42*(1+$I$16),2) -> 64.46
B43: 4 | E43: PISOS INTERNOS E EXTERNOS
B44: 4.1 | E44: LASTRO DE CONTRAPISO
B45: 4.1.1 | C45: IOPES | D45: 130112 | E45: Lastro de concreto não estrutural, espessura de 6 cm | F45: m² | G45: ='QUANT.PRAÇA CERCA'!$F$28 -> 237.13 | H45: =L45 -> 51.53 | I45: =G45*H45 -> 12219.309 | K45: 39.05 | L45: =ROUND(K45*(1+$I$16),2) -> 51.53
B46: 4.1.2 | C46: IOPES | D46: 130103 | E46: Regularização de base p/ revestimento cerâmico, com argamassa de cimento e areia no traço 1:5, espessura 3cm | F46: m² | G46: ='QUANT.PRAÇA CERCA'!$F$29 -> 120.9 | H46: =L46 -> 25.31 | I46: =G46*H46 -> 3059.979 | K46: 19.18 | L46: =ROUND(K46*(1+$I$16),2) -> 25.31
B47: 4.1.3 | C47: SINAPI | D47: 97087 | E47: Camada separadora para execução de radier, em lona plástica. af_09/2017 (calçada) | F47: m² | G47: ='QUANT.PRAÇA CERCA'!$F$30 -> 237.13 | H47: =L47 -> 2.61 | I47: =G47*H47 -> 618.9093 | K47: 1.98 | L47: =ROUND(K47*(1+$I$16),2) -> 2.61
B48: 4.1.4 | C48: ORSE | D48: 3637 | E48: Fornecimento e instalação de tela aço soldada nervurada CA-60, Q-92, malha 15x15cm, ferro 4.2mm (1.48 kg/m2), painel 2,45x6,0m, Telcon ou similar | F48: m² | G48: ='QUANT.PRAÇA CERCA'!$F$31 -> 237.13 | H48: =L48 -> 49.43 | I48: =G48*H48 -> 11721.336 | K48: 37.46 | L48: =ROUND(K48*(1+$I$16),2) -> 49.43
B49: 4.2 | E49: ACABAMENTOS
B50: 4.2.1 | C50: ORSE | D50: 7675 | E50: Piso de borracha reciclada, granulada, tipo"S", da marca HAIAH ou similar, fornecimento e instalação, exclusive lastro de brita e areia | F50: m² | G50: ='QUANT.PRAÇA CERCA'!$F$33 -> 94.23 | H50: =L50 -> 256.83 | I50: =G50*H50 -> 24201.091 | K50: 194.63 | L50: =ROUND(K50*(1+$I$16),2) -> 256.83
B51: 4.2.2 | C51: Comp. 01 | E51: Piso porcelanato long deck maso 26x106cm, Biancogres/equiv, utilizando dupla colagem de argamassa colante para porcelanato tipo ACIII e rejunte 1mm para porcelanato | F51: m² | G51: ='QUANT.PRAÇA CERCA'!$F$34 -> 38.76 | H51: =L51 -> 152.82 | I51: =G51*H51 -> 5923.3032 | K51: =[5]COMPOSIÇOES!F38 -> 115.8102 | L51: =ROUND(K51*(1+$I$16),2) -> 152.82
B52: 4.2.3 | C52: Comp. 08 | E52: Piso argamassa alta resistência tipo granilite ou equiv de qualidade comprovada, esp de 10mm, com juntas plástica em quadros de 1m, na cor cimento queimado, com acabamento anti-derrapante mecanizado, inclusive regularização e=3.0cm | F52: m² | G52: ='QUANT.PRAÇA CERCA'!$F$35 -> 63.33 | H52: =L52 -> 144.27 | I52: =G52*H52 -> 9136.6191 | K52: =[5]COMPOSIÇOES!F76 -> 109.32883 | L52: =ROUND(K52*(1+$I$16),2) -> 144.27
...

Sheet LICITAÇÃO BIBLIA  (corrigida)
B10: PREFEITURA MUNICIPAL DE GUARAPARI
B14: OBRA: | C14: RECONSTRUÇÃO DA PRAÇA DA BÍBLIA | H14: ÁREA: | I14: 363,80m²
B15: LOCAL: | C15: AV.DAVINO MATTOS, GUARAPARI, ES. | H15: DATA: | I15: 44477
B16: TABELAS DE REF.: | C16: DER-ES 06/2021. | H16: BDI: | I16: 0.3196
B18: PLANILHA ORÇAMENTÁRIA
B20: ITEM | C20: FONTE | D20: CÓD. | E20: ESPECIFICAÇÃO DO SERVIÇO | F20: UND. | G20: QUANT. | H20: PREÇO UNITÁRIO | I20: PREÇO TOTAL | K20: S/ BDI | L20: C/ BDI
B21: 1 | E21: SERVIÇOS PRELIMINARES
B22: 1.1 | E22: DEMOLIÇÕES E RETIRADAS
B23: 1.1.1 | C23: IOPES | D23: 10206 | E23: Demolição de revestimento com azulejos | F23: m² | G23: ='[6]QUANT.PRAÇA BÍBLIA'!$F$7 -> 17.25 | H23: =L23 -> 52.67 | I23: =G23*H23 -> 908.5575 | K23: 39.91 | L23: =ROUND(K23*(1+$I$16),2) -> 52.67
B24: 1.1.2 | C24: IOPES | D24: 10201 | E24: Demolição de piso cimentado inclusive lastro de concreto | F24: m² | G24: ='[6]QUANT.PRAÇA BÍBLIA'!$F$8 -> 294.64 | H24: =L24 -> 27.38 | I24: =G24*H24 -> 8067.2432 | K24: 20.75 | L24: =ROUND(K24*(1+$I$16),2) -> 27.38
B25: 1.1.3 | C25: IOPES | D25: 10216 | E25: Retirada de meio-fio de concreto | F25: m | G25: ='[6]QUANT.PRAÇA BÍBLIA'!$F$9 -> 87.11 | H25: =L25 -> 10.53 | I25: =G25*H25 -> 917.2683 | K25: 7.98 | L25: =ROUND(K25*(1+$I$16),2) -> 10.53
B26: 2 | E26: INSTALAÇÃO DO CANTEIRO DE OBRAS
B27: 2.1 | E27: TAPUMES, BARRACÕES E COBERTURAS
B28: 2.1.1 | C28: IOPES | D28: 20305 | E28: Placa de obra nas dimensões de 2.0 x 4.0 m, padrão IOPES | F28: m² | G28: ='[6]QUANT.PRAÇA BÍBLIA'!$F$12 -> 8 | H28: =L28 -> 377.97 | I28: =G28*H28 -> 3023.76 | K28: 286.43 | L28: =ROUND(K28*(1+$I$16),2) -> 377.97
B29: 2.1.2 | C29: IOPES | D29: 20352 | E29: Aluguel mensal container para escritório, dim. 6.00x2.40m, c/ banheiro (vaso+lavat+chuveiro e básc), incl. porta, 2 janelas, abert p/ ar cond., 2 pt iluminação, 2 tom. elét. e 1 tom.telef. Isolam.térmico(teto e paredes), piso em comp. Naval, cert. NR18, incl. laudo descontaminação. | F29: ms | G29: ='[6]QUANT.PRAÇA BÍBLIA'!$F$13 -> 4 | H29: =L29 -> 1038.96 | I29: =G29*H29 -> 4155.84 | K29: 787.33 | L29: =ROUND(K29*(1+$I$16),2) -> 1038.96
B30: 2.1.3 | C30: IOPES | D30: 20344 | E30: Mobilização e desmobilização de conteiner locado para barracão de obra | F30: und | G30: ='[6]QUANT.PRAÇA BÍBLIA'!$F$14 -> 1 | H30: =L30 -> 1366.67 | I30: =G30*H30 -> 1366.67 | K30: 1035.67 | L30: =ROUND(K30*(1+$I$16),2) -> 1366.67
B31: 2.1.4 | C31: IOPES | D31: 20350 | E31: Tapume Telha Metálica Ondulada em aço galvalume 0,50mm Branca h=2,20m, incl. montagem estr. mad. 8"x8", c/adesivo "DER-ES" 60x60cm a cada 10m, incl. faixas pint. esmalte sint. cores azul c/ h=30cm e rosa c/ h=10cm (Reaproveitamento 2x) | F31: m | G31: ='[6]QUANT.PRAÇA BÍBLIA'!$F$15 -> 94.1 | H31: =L31 -> 236.82 | I31: =G31*H31 -> 22284.762 | K31: 179.46 | L31: =ROUND(K31*(1+$I$16),2) -> 236.82
B32: 2.2 | E32: INSTALAÇÃO DO CANTEIRO DE OBRAS (UTILIZAÇÃO 2 VEZES), PROJETO PADRÃO LABOR - NR.18 (OBRAS COM PRAZO DE EXECUÇÃO DE 6 A 12 MESES)
B33: 2.2.1 | C33: IOPES | D33: 20812 | E33: Rede de água, com padrão de entrada d'água diâm. 3/4", conf. espec. CESAN, incl. tubos e conexões para alimentação, distribuição, extravasor e limpeza, cons. o padrão a 25m, conf. projeto (2 utilizações) | F33: m | G33: ='[6]QUANT.PRAÇA BÍBLIA'!$F$17 -> 6 | H33: =L33 -> 38.82 | I33: =G33*H33 -> 232.92 | K33: 29.42 | L33: =ROUND(K33*(1+$I$16),2) -> 38.82
B34: 2.2.2 | C34: IOPES | D34: 20713 | E34: Rede de luz, incl. padrão entrada de energia trifás., cabo de ligação até barracões, quadro de distrib., disj. E chave de força (quando necessário), cons. 20m entre padrão entrada e QDG, conf. projeto (1 utilização) | F34: m | G34: ='[6]QUANT.PRAÇA BÍBLIA'!$F$18 -> 8 | H34: =L34 -> 805.52 | I34: =G34*H34 -> 6444.16 | K34: 610.43 | L34: =ROUND(K34*(1+$I$16),2) -> 805.52
B35: 3 | E35: MOVIMENTO DE TERRA
B36: 3.1 | E36: ESCAVAÇÕES
B37: 3.1.1 | C37: IOPES | D37: 30101 | E37: Escavação manual em material de 1a. categoria, até 1.50 m de profundidade | F37: m³ | G37: ='[6]QUANT.PRAÇA BÍBLIA'!$F$21 -> 3.85 | H37: =L37 -> 60.25 | I37: =G37*H37 -> 231.9625 | K37: 45.66 | L37: =ROUND(K37*(1+$I$16),2) -> 60.25
B38: 3.1.2 | C38: IOPES | D38: 30119 | E38: Apiloamento do fundo de vala com maço de 30 a 60kg | F38: m² | G38: ='[6]QUANT.PRAÇA BÍBLIA'!$F$22 -> 13.21 | H38: =L38 -> 31.53 | I38: =G38*H38 -> 416.5113 | K38: 23.89 | L38: =ROUND(K38*(1+$I$16),2) -> 31.53
B39: 3.1.3 | C39: IOPES | D39: 30201 | E39: Reaterro apiloado de cavas de fundação, em camadas de 20 cm | F39: m³ | G39: ='[6]QUANT.PRAÇA BÍBLIA'!$F$23 -> 2.22 | H39: =L39 -> 64.9 | I39: =G39*H39 -> 144.078 | K39: 49.18 | L39: =ROUND(K39*(1+$I$16),2) -> 64.9
B40: 3.2 | E40: TRANSPORTES
B41: 3.2.1 | C41: IOPES | D41: 30304 | E41: Índice de preço para remoção de entulho decorrente da execução de obras (Classe A CONAMA - NBR 10.004 - Classe II-B), incluindo aluguel da caçamba, carga, transporte e descarga em área licenciada | F41: m³ | G41: ='[6]QUANT.PRAÇA BÍBLIA'!$F$25 -> 47.62 | H41: =L41 -> 64.46 | I41: =G41*H41 -> 3069.5852 | K41: 48.85 | L41: =ROUND(K41*(1+$I$16),2) -> 64.46
B42: 4 | E42: PAREDES E PAINÉIS
B43: 4.1 | E43: ALVENARIA DE VEDAÇÃO EMPREGANDO ARGAMASSA DE CIMENTO, CAL E AREIA
B44: 4.1.1 | C44: IOPES | D44: 50601 | E44: Alvenaria de blocos de concreto 9x19x39cm, c/ resist. mínimo a compres. 2.5 MPa, assent. c/ arg. De cimento, cal hidratada CH1 e areia no traço 1:0.5:8 esp. das juntas 10mm e esp. das paredes, s/ rev. 9cm (canteiros) | F44: m² | G44: ='[6]QUANT.PRAÇA BÍBLIA'!$F$28 -> 13.45 | H44: =L44 -> 71.36 | I44: =G44*H44 -> 959.792 | K44: 54.08 | L44: =ROUND(K44*(1+$I$16),2) -> 71.36
B45: 5 | E45: REVESTIMENTO DE PAREDES
B46: 5.1 | E46: REVESTIMENTO COM ARGAMASSA
B47: 5.1.1 | C47: IOPES | D47: 120101 | E47: Chapisco de argamassa de cimento e areia média ou grossa lavada, no traço 1:3, espessura 5 mm (canteiros) | F47: m² | G47: ='[6]QUANT.PRAÇA BÍBLIA'!$F$31 -> 26.89 | H47: =L47 -> 7.35 | I47: =G47*H47 -> 197.6415 | K47: 5.57 | L47: =ROUND(K47*(1+$I$16),2) -> 7.35
B48: 5.1.2 | C48: IOPES | D48: 120301 | E48: Emboço de argamassa de cimento, cal hidratada CH1 e areia média ou grossa lavada no traço 1:0.5:6, espessura 20 mm (canteiros) | F48: m² | G48: ='[6]QUANT.PRAÇA BÍBLIA'!$F$32 -> 26.89 | H48: =L48 -> 36.12 | I48: =G48*H48 -> 971.2668 | K48: 27.37 | L48: =ROUND(K48*(1+$I$16),2) -> 36.12
B49: 5.2 | E49: ACABAMENTOS
B50: 5.2.1 | C50: COMP.04 | E50: Piso porcelanato deck legno maso (ripado), dim. 26x106cm, Biancogres/equiv, utilizando dupla colagem de argamassa colante para porcelanato tipo ACIII e rejunte 1mm para porcelanato (canteiros) | F50: m² | G50: ='[6]QUANT.PRAÇA BÍBLIA'!$F$34 -> 35.3 | H50: =L50 -> 147.3 | I50: =G50*H50 -> 5199.69 | K50: =[7]COMPOSIÇOES!F292 -> 111.6282 | L50: =ROUND(K50*(1+$I$16),2) -> 147.3
B51: 6 | E51: IMPERMEABILIZAÇÃO
B52: 6.1 | E52: IMPERMEABILIZAÇÃO CALHAS, LAJES DESCOBERTAS, BALDRAMES, PAREDES E JARDINEIRAS
B53: 6.1.1 | C53: IOPES | D53: 100203 | E53: Pintura impermeabilizante com igolflex ou equivalente a 3 demãos (canteiros) | F53: m² | G53: ='[6]QUANT.PRAÇA BÍBLIA'!$F$37 -> 17.75 | H53: =L53 -> 55.08 | I53: =G53*H53 -> 977.67 | K53: 41.74 | L53: =ROUND(K53*(1+$I$16),2) -> 55.08
B54: 7 | E54: PISOS INTERNOS E EXTERNOS
...

Sheet QUANT.PRAÇA CERCA
B3: ESPECIFICAÇÃO DO SERVIÇO
B4: SERVIÇOS PRELIMINARES | E4: PRACA DA CERCA
B5: FONTE | C5: CÓD. | D5: DEMOLIÇÕES E RETIRADAS | E5: UND. | F5: QUANT.
B6: IOPES | C6: 10201 | D6: Demolição de piso cimentado inclusive lastro de concreto | E6: m² | F6: 509.42
B7: IOPES | C7: 10219 | D7: Demolição manual de concreto armado (EMOP 05.001.033) | E7: m³ | F7: 0.18
B8: IOPES | C8: 10403 | D8: Corte e destocamento de árvores com diâmetro de até 15 cm | E8: und | F8: 2
B9: IOPES | C9: 10216 | D9: Retirada de meio-fio de concreto | E9: m | F9: 87.94
B10: INSTALAÇÃO DO CANTEIRO DE OBRAS
D11: TAPUMES, BARRACÕES E COBERTURAS
B12: IOPES | C12: 20305 | D12: Placa de obra nas dimensões de 2.0 x 4.0 m, padrão IOPES | E12: m² | F12: 8
B13: IOPES | C13: 20352 | D13: Aluguel mensal container para escritório, dim. 6.00x2.40m, c/ banheiro (vaso+lavat+chuveiro e básc), incl. porta, 2 janelas, abert p/ ar cond., 2 pt iluminação, 2 tom. elét. e 1 tom.telef. Isolam.térmico(teto e paredes), piso em comp. Naval, cert. NR18, incl. laudo descontaminação. | E13: und | F13: 4
B14: IOPES | C14: 20344 | D14: Mobilização e desmobilização de conteiner locado para barracão de obra | E14: und | F14: 1
B15: IOPES | C15: 20350 | D15: Tapume Telha Metálica Ondulada em aço galvalume 0,50mm Branca h=2,20m, incl. montagem estr. mad. 8"x8", c/adesivo "IOPES" 60x60cm a cada 10m, incl. faixas pint. esmalte sint. cores azul c/ h=30cm e rosa c/ h=10cm (Reaproveitamento 2x) | E15: m | F15: 89.36
D16: INSTALAÇÃO DO CANTEIRO DE OBRAS (UTILIZAÇÃO 2 VEZES), PROJETO PADRÃO LABOR - NR.18 (OBRAS COM PRAZO DE EXECUÇÃO DE 6 A 12 MESES)
B17: IOPES | C17: 20812 | D17: Rede de água, com padrão de entrada d'água diâm. 3/4", conf. espec. CESAN, incl. tubos e conexões para alimentação, distribuição, extravasor e limpeza, cons. o padrão a 25m, conf. projeto (2 utilizações) | E17: m | F17: 6
B18: IOPES | C18: 20713 | D18: Rede de luz, incl. padrão entrada de energia trifás., cabo de ligação até barracões, quadro de distrib., disj. E chave de força (quando necessário), cons. 20m entre padrão entrada e QDG, conf. projeto (1 utilização) | E18: m | F18: 8
B19: MOVIMENTO DE TERRA
D20: ESCAVAÇÕES
B21: IOPES | C21: 30101 | D21: Escavação manual em material de 1a. categoria, até 1.50 m de profundidade | E21: m³ | F21: 2.32
B22: IOPES | C22: 30119 | D22: Apiloamento do fundo de vala com maço de 30 a 60kg | E22: m² | F22: 4.76
B23: IOPES | C23: 30201 | D23: Reaterro apiloado de cavas de fundação, em camadas de 20 cm | E23: m³ | F23: 1.82
D24: TRANSPORTES
B25: IOPES | C25: 30304 | D25: Índice de preço para remoção de entulho decorrente da execução de obras (Classe A CONAMA - NBR 10.004 - Classe II-B), incluindo aluguel da caçamba, carga, transporte e descarga em área licenciada | E25: m³ | F25: 71.51
B26: PISOS INTERNOS E EXTERNOS
D27: LASTRO DE CONTRAPISO
B28: IOPES | C28: 130112 | D28: Lastro de concreto não estrutural, espessura de 6 cm | E28: m² | F28: 237.13
B29: IOPES | C29: 130103 | D29: Regularização de base p/ revestimento cerâmico, com argamassa de cimento e areia no traço 1:5, espessura 3cm | E29: m² | F29: 120.9
B30: SINAPI | C30: 97087 | D30: Camada separadora para execução de radier, em lona plástica. af_09/2017 (calçada) | E30: m² | F30: 237.13
B31: ORSE | C31: 3637 | D31: Fornecimento e instalação de tela aço soldada nervurada CA-60, Q-92, malha 15x15cm, ferro 4.2mm (1.48 kg/m2), painel 2,45x6,0m, Telcon ou similar | E31: m² | F31: 237.13
D32: ACABAMENTOS
B33: ORSE | C33: 7675 | D33: Piso de borracha reciclada, granulada, tipo"S", da marca HAIAH ou similar, fornecimento e instalação, exclusive lastro de brita e areia | E33: m² | F33: 94.23
B34: Comp. 01 | D34: Piso porcelanato long deck maso 26x106cm, Biancogres/equiv, utilizando dupla colagem de argamassa colante para porcelanato tipo ACIII e rejunte 1mm para porcelanato | E34: m² | F34: 38.76
B35: Comp. 08 | D35: Piso argamassa alta resistência tipo granilite ou equiv de qualidade comprovada, esp de 10mm, com juntas plástica em quadros de 1m, na cor cimento queimado, com acabamento anti-derrapante mecanizado, inclusive regularização e=3.0cm | E35: m² | F35: 63.33
B36: Comp. 07 | D36: Piso argamassa alta resistência tipo granilite ou equiv de qualidade comprovada, esp de 10mm, com juntas plástica em quadros de 1m, na cor beje, com acabamento anti-derrapante mecanizado, inclusive regularização e=3.0cm | E36: m² | F36: 33.29
D37: DEGRAUS, RODAPÉS, SOLEIRAS E PEITORIS
B38: IOPES | C38: 130308 | D38: Tabeira de granito esp. 2 cm e largura de 15 cm | E38: m | F38: 153.02
B39: INSTALAÇÕES ELÉTRICAS
D40: CAIXAS DE PASSAGEM
B41: IOPES | C41: 150614 | D41: Caixa de passagem de alvenaria de blocos de concreto 9x19x39cm, dimensões de 30x30x50cm, com revestimento interno em chapisco e reboco, tampa de concreto esp.5cm e lastro de brita 5 cm | E41: und | F41: 3
B42: IOPES | C42: 150628 | D42: Caixa de embutir marca de referência Tigreflex, 4x2" | E42: und | F42: 24
...

Sheet QUANT.PRAÇA BÍBLIA
B4: ESPECIFICAÇÃO DO SERVIÇO
B5: SERVIÇOS PRELIMINARES | E5: PRAÇA DA BIBLIA
B6: FONTE | C6: CÓD. | D6: DEMOLIÇÕES E RETIRADAS | E6: UND. | F6: QUANT.
B7: IOPES | C7: 10206 | D7: Demolição de revestimento com azulejos | E7: m² | F7: 17.25
B8: IOPES | C8: 10201 | D8: Demolição de piso cimentado inclusive lastro de concreto | E8: m² | F8: 294.64
B9: IOPES | C9: 10216 | D9: Retirada de meio-fio de concreto | E9: m | F9: 87.11
B10: INSTALAÇÃO DO CANTEIRO DE OBRAS
D11: TAPUMES, BARRACÕES E COBERTURAS
B12: IOPES | C12: 20305 | D12: Placa de obra nas dimensões de 2.0 x 4.0 m, padrão IOPES | E12: m² | F12: 8
B13: IOPES | C13: 20352 | D13: Aluguel mensal container para escritório, dim. 6.00x2.40m, c/ banheiro (vaso+lavat+chuveiro e básc), incl. porta, 2 janelas, abert p/ ar cond., 2 pt iluminação, 2 tom. elét. e 1 tom.telef. Isolam.térmico(teto e paredes), piso em comp. Naval, cert. NR18, incl. laudo descontaminação. | E13: unid. | F13: 4
B14: IOPES | C14: 20344 | D14: Mobilização e desmobilização de conteiner locado para barracão de obra | E14: unid. | F14: 1
B15: IOPES | C15: 20350 | D15: Tapume Telha Metálica Ondulada em aço galvalume 0,50mm Branca h=2,20m, incl. montagem estr. mad. 8"x8", c/adesivo "DER-ES" 60x60cm a cada 10m, incl. faixas pint. esmalte sint. cores azul c/ h=30cm e rosa c/ h=10cm (Reaproveitamento 2x) | E15: m | F15: 94.1
D16: INSTALAÇÃO DO CANTEIRO DE OBRAS (UTILIZAÇÃO 2 VEZES), PROJETO PADRÃO LABOR - NR.18 (OBRAS COM PRAZO DE EXECUÇÃO DE 6 A 12 MESES)
B17: IOPES | C17: 20812 | D17: Rede de água, com padrão de entrada d'água diâm. 3/4", conf. espec. CESAN, incl. tubos e conexões para alimentação, distribuição, extravasor e limpeza, cons. o padrão a 25m, conf. projeto (2 utilizações) | E17: m | F17: 6
B18: IOPES | C18: 20713 | D18: Rede de luz, incl. padrão entrada de energia trifás., cabo de ligação até barracões, quadro de distrib., disj. E chave de força (quando necessário), cons. 20m entre padrão entrada e QDG, conf. projeto (1 utilização) | E18: m | F18: 8
B19: MOVIMENTO DE TERRA
D20: ESCAVAÇÕES
B21: IOPES | C21: 30101 | D21: Escavação manual em material de 1a. categoria, até 1.50 m de profundidade | E21: m³ | F21: 3.85
B22: IOPES | C22: 30119 | D22: Apiloamento do fundo de vala com maço de 30 a 60kg | E22: m² | F22: 13.21
B23: IOPES | C23: 30201 | D23: Reaterro apiloado de cavas de fundação, em camadas de 20 cm | E23: m³ | F23: 2.22
D24: TRANSPORTES
B25: IOPES | C25: 30304 | D25: Índice de preço para remoção de entulho decorrente da execução de obras (Classe A CONAMA - NBR 10.004 - Classe II-B), incluindo aluguel da caçamba, carga, transporte e descarga em área licenciada | E25: m³ | F25: 47.62
B26: PAREDES E PAINÉIS
D27: ALVENARIA DE VEDAÇÃO EMPREGANDO ARGAMASSA DE CIMENTO, CAL E AREIA
B28: IOPES | C28: 50601 | D28: Alvenaria de blocos de concreto 9x19x39cm, c/ resist. mínimo a compres. 2.5 MPa, assent. c/ arg. De cimento, cal hidratada CH1 e areia no traço 1:0.5:8 esp. das juntas 10mm e esp. das paredes, s/ rev. 9cm (canteiros) | E28: m² | F28: 13.45
B29: REVESTIMENTO DE PAREDES
D30: REVESTIMENTO COM ARGAMASSA
B31: IOPES | C31: 120101 | D31: Chapisco de argamassa de cimento e areia média ou grossa lavada, no traço 1:3, espessura 5 mm (canteiros) | E31: m² | F31: 26.89
B32: IOPES | C32: 120301 | D32: Emboço de argamassa de cimento, cal hidratada CH1 e areia média ou grossa lavada no traço 1:0.5:6, espessura 20 mm (canteiros) | E32: m² | F32: 26.89
D33: ACABAMENTOS
B34: COMP.04 | D34: Piso porcelanato deck legno maso (ripado), dim. 26x106cm,Biancogres/equiv, utilizando dupla colagem de argamassa colante para porcelanato tipo ACIII e rejunte 1mm para porcelanato (canteiros) | E34: m² | F34: 35.3
B35: IMPERMEABILIZAÇÃO
D36: IMPERMEABILIZAÇÃO CALHAS, LAJES DESCOBERTAS, BALDRAMES, PAREDES E JARDINEIRAS
B37: IOPES | C37: 100203 | D37: Pintura impermeabilizante com igolflex ou equivalente a 3 demãos (canteiros) | E37: m² | F37: 17.75
B38: PISOS INTERNOS E EXTERNOS
D39: ACABAMENTOS
B40: SINAPI | C40: 97087 | D40: Camada separadora para execução de radier, em lona plástica. af_09/2017 | E40: m² | F40: 170.42
B41: ORSE | C41: 3637 | D41: Fornecimento e instalação de tela aço soldada nervurada CA-60, Q-92, malha 15x15cm, ferro 4.2mm (1.48 kg/m2), painel 2,45x6,0m, Telcon ou similar | E41: m² | F41: 170.42
B42: IOPES | C42: 130112 | D42: Lastro de concreto não estrutural, espessura de 6 cm | E42: m² | F42: 170.42
B43: IOPES | C43: 130103 | D43: Regularização de base p/ revestimento cerâmico, com argamassa de cimento e areia no traço 1:5, espessura 3cm | E43: m² | F43: 100.14
...

Sheet QUANT.PRAÇA BELO HOR.
B3: ESPECIFICAÇÃO DO SERVIÇO
B4: SERVIÇOS PRELIMINARES | E4: PRAÇA BELO HOR.
B5: FONTE | C5: CÓD. | D5: DEMOLIÇÕES E RETIRADAS | E5: UND. | F5: QUANT.
B6: IOPES | C6: 10403 | D6: Corte e destocamento de árvores com diâmetro de até 15 cm | E6: und | F6: 1
B7: IOPES | C7: 10216 | D7: Retirada de meio-fio de concreto | E7: m | F7: 38.83
D8: LIMPEZA DO TERRENO
B9: IOPES | C9: 10402 | D9: Raspagem e limpeza do terreno (manual) | E9: m2 | F9: 105.29
D10: LOCAÇÃO
B11: IOPES | C11: 10501 | D11: Locação de obra com gabarito de madeira | E11: m² | F11: 206.04
B12: INSTALAÇÃO DO CANTEIRO DE OBRAS
D13: TAPUMES, BARRACÕES E COBERTURAS
B14: IOPES | C14: 20305 | D14: Placa de obra nas dimensões de 2.0 x 4.0 m, padrão IOPES | E14: m² | F14: 8
B15: IOPES | C15: 20344 | D15: Mobilização e desmobilização de conteiner locado para barracão de obra | E15: und | F15: 1
B16: IOPES | C16: 20352 | D16: Aluguel mensal container para escritório, dim. 6.00x2.40m, c/ banheiro (vaso+lavat+chuveiro e básc), incl. porta, 2 janelas, abert p/ ar cond., 2 pt iluminação, 2 tom. elét. e 1 tom.telef. Isolam.térmico(teto e paredes), piso em comp. Naval, cert. NR18, incl. laudo descontaminação. | E16: ms | F16: 4
B17: IOPES | C17: 20350 | D17: Tapume Telha Metálica Ondulada em aço galvalume 0,50mm Branca h=2,20m, incl. montagem estr. mad. 8"x8", c/adesivo "IOPES" 60x60cm a cada 10m, incl. faixas pint. esmalte sint. cores azul c/ h=30cm e rosa c/ h=10cm (Reaproveitamento 2x) | E17: m | F17: 60.7
D18: INSTALAÇÃO DO CANTEIRO DE OBRAS (UTILIZAÇÃO 2 VEZES), PROJETO PADRÃO LABOR - NR.18 (OBRAS COM PRAZO DE EXECUÇÃO DE 6 A 12 MESES)
B19: IOPES | C19: 20812 | D19: Rede de água, com padrão de entrada d'água diâm. 3/4", conf. espec. CESAN, incl. tubos e conexões para alimentação, distribuição, extravasor e limpeza, cons. o padrão a 25m, conf. projeto (2 utilizações) | E19: m | F19: 4
B20: IOPES | C20: 20713 | D20: Rede de luz, incl. padrão entrada de energia trifás., cabo de ligação até barracões, quadro de distrib., disj. E chave de força (quando necessário), cons. 20m entre padrão entrada e QDG, conf. projeto (1 utilização) | E20: m | F20: 8
B21: MOVIMENTO DE TERRA
D22: ESCAVAÇÕES
B23: IOPES | C23: 30101 | D23: Escavação manual em material de 1a. categoria, até 1.50 m de profundidade | E23: m³ | F23: 1.94
B24: IOPES | C24: 30119 | D24: Apiloamento do fundo de vala com maço de 30 a 60kg | E24: m² | F24: 3.24
D25: REATERRO E COMPACTAÇÃO
B26: IOPES | C26: 30201 | D26: Reaterro apiloado de cavas de fundação, em camadas de 20 cm | E26: m³ | F26: 1.51
B27: IOPES | C27: 30210 | D27: Aterro compactado utilizando compactador de placa vibratória com reaproveitamento do material | E27: m³ | F27: 26.32
D28: TRANSPORTES
B29: IOPES | C29: 30304 | D29: Índice de preço para remoção de entulho decorrente da execução de obras (Classe A CONAMA - NBR 10.004 - Classe II-B), incluindo aluguel da caçamba, carga, transporte e descarga em área licenciada | E29: m³ | F29: 3.71
B30: PISOS INTERNOS E EXTERNOS
D31: LASTRO DE CONTRAPISO
