Workbook
Name _Fill: #REF!
Name _Key1: #REF!
Name _Key2: #REF!
Name _Order1: 255
Name _Order2: 255
Name _Sort: #REF!
Name AÇOCA50: #REF!
Name AÇOCA60: #REF!
Name ACRE: #REF!
Name ademir: {#N/A,#N/A,FALSE,"Cronograma";#N/A,#N/A,FALSE,"Cronogr. 2"}
Name ASDF: #REF!
Name Bm.Periodos: '[1]Orçamento e Medição'!$Q$12:$AB$12
Name Bm.posAtual: IF(mediçao<N(Bm.Periodos),-1,MATCH(mediçao,Bm.Periodos)-1)
Name bosta: {#N/A,#N/A,FALSE,"Cronograma";#N/A,#N/A,FALSE,"Cronogr. 2"}
Name CA´L: {#N/A,#N/A,FALSE,"Cronograma";#N/A,#N/A,FALSE,"Cronogr. 2"}
Name concorrentes: {#N/A,#N/A,FALSE,"Cronograma";#N/A,#N/A,FALSE,"Cronogr. 2"}
Name de: #REF!
Name éAcertoGlosa: SUM(Orç.éGlosado)
Name éAditadoDepois: COUNTIF(Orç.colAdit,">"&mediçao)
Name éAditadoNoPeríodo: COUNTIF(Orç.colAdit,mediçao)
Name FDSA: #N/A
Name mediçao: [1]RESUMO!$M$2
Name Orç.colAcum: '[1]Orçamento e Medição'!$N$13:$N$51
Name Orç.colAdit: '[1]Orçamento e Medição'!$J$13:$J$51
Name Orç.éAditado: LEN(TRIM(Orç.colAdit))
Name Orç.éGlosado: IF(Orç.colAdit=mediçao,IF(ISNUMBER(Orç.colAcum),IF(Orç.colAcum-IF(ISNUMBER(Bm.colAtual),Bm.colAtual)>IF(Orç.quantLic<Orç.quant,Orç.quantLic,Orç.quant),1)))*1
Name Orç.quant: IF(Orç.éAditado*ISNUMBER(Orç.quantAlt),Orç.quantAlt,Orç.quantLic)
Name Orç.quantAlt: '[1]Orçamento e Medição'!$H$13:$H$51
Name Orç.quantLic: '[1]Orçamento e Medição'!$F$13:$F$51
Name Popular: {#N/A,#N/A,FALSE,"Cronograma";#N/A,#N/A,FALSE,"Cronogr. 2"}
Name Res.éAditadoDepois: COUNTIF(OFFSET(Orç.colAdit,Res.posInicio,,Res.posDelta,1),">"&mediçao)
Name Res.éAditadoNoPeriodo: COUNTIF(OFFSET(Orç.colAdit,Res.posInicio,,Res.posDelta,1),mediçao)
Name Res.posDelta: INDIRECT(ADDRESS(ROW(),16))
Name Res.posInicio: INDIRECT(ADDRESS(ROW(),15))
Name rio: {#N/A,#N/A,FALSE,"Cronograma";#N/A,#N/A,FALSE,"Cronogr. 2"}
Name SINAPI_AC: #REF!
Name ss: {#N/A,#N/A,FALSE,"Cronograma";#N/A,#N/A,FALSE,"Cronogr. 2"}
Name tabBM: '[1]Orçamento e Medição'!$Q$13:$AB$51
Name tabelaaço: #REF!
Name TipoContrato: #REF!
Name wrn.Cronograma.: {#N/A,#N/A,FALSE,"Cronograma";#N/A,#N/A,FALSE,"Cronogr. 2"}
Name wrn.GERAL.: {#N/A,#N/A,FALSE,"ET-CAPA";#N/A,#N/A,FALSE,"ET-PAG1";#N/A,#N/A,FALSE,"ET-PAG2";#N/A,#N/A,FALSE,"ET-PAG3";#N/A,#N/A,FALSE,"ET-PAG4";#N/A,#N/A,FALSE,"ET-PAG5"}

Sheet Planilha Orçamentária
B8: PREFEITURA MUNICIPAL DE GUARAPARI
B9: SEMOP - SECRETARIA MUNICIPAL DE OBRAS PÚBLICAS
B12: OBRA: | C12: CONSTRUÇÃO DO CEMEI FÁTIMA CIDADE JARDIM | G12: ÁREA: | H12: 1.104,98 m²
B13: LOCAL: | C13: RUA 20 - BAIRRO FÁTIMA CIDADE JARDIM - GUARAPARI - ES | G13: DATA: | H13: 44314
B14: TABELAS DE REF.: | C14: SINAPI 01/2021, IOPES 01/2021, ORSE 01/2021, SEDOP 03/2021 E SUDECAP 01/2021 | G14: BDI: | H14: 0.2661
B16: PLANILHA ORÇAMENTÁRIA
B18: ITEM | C18: CÓDIGO/FONTE | D18: DESCRIÇÃO DOS SERVIÇOS | E18: UND. | F18: QUANT. | G18: VALOR UNT. (R$) | H18: VALOR TOTAL (R$)
B20: 1 | D20: DEMOLIÇÕES, RETIRADAS E LOCAÇÃO | J20: $ unitário | K20: $ unitário c/ BDI
B21: 1.1 | C21: 10402 IOPES | D21: Raspagem e limpeza do terreno (manual) | E21: M2 | F21: 2256.48 | G21: =K21 -> 4.15 | H21: =G21*F21 -> 9364.392 | J21: 3.28 | K21: =ROUND(J21*(1+$H$14),2) -> 4.15
B22: 1.2 | C22: 10501 IOPES | D22: Locação de obra com gabarito de madeira | E22: M2 | F22: 1104.98 | G22: =K22 -> 9.55 | H22: =G22*F22 -> 10552.559 | J22: 7.54 | K22: =ROUND(J22*(1+$H$14),2) -> 9.55
B23: 2 | D23: SERVIÇOS PRELIMINARES
B24: 2.1 | C24: 20305 IOPES | D24: Placa de obra nas dimensões de 2.0 x 4.0 m, padrão IOPES | E24: M2 | F24: =2*4 -> 8 | G24: =K24 -> 307.09 | H24: =F24*G24 -> 2456.72 | J24: 242.55 | K24: =ROUND(J24*(1+$H$14),2) -> 307.09
B25: 2.2 | C25: 20350 IOPES | D25: Tapume Telha Metálica Ondulada 0,50mm Branca h=2,20m, incl. montagem estr. mad. 8"x8", c/adesivo "IOPES" 60x60cm a cada 10m, incl. faixas pint. esmalte sint. cores azul c/ h=30cm e rosa c/ h=10cm (Reaproveitamento 2x) | E25: M | F25: 65 | G25: =K25 -> 205.75 | H25: =F25*G25 -> 13373.75 | J25: 162.51 | K25: =ROUND(J25*(1+$H$14),2) -> 205.75
B26: 2.3 | C26: 20712 IOPES | D26: Rede de água com padrão de entrada d'água diâm. 3/4", conf. espec. CESAN, incl. tubos e conexões para alimentação, distribuição, extravasor e limpeza, cons. o padrão a 25m, conf. projeto (1 utilização) | E26: M | F26: 15 | G26: =K26 -> 43.77 | H26: =F26*G26 -> 656.55 | J26: 34.57 | K26: =ROUND(J26*(1+$H$14),2) -> 43.77
B27: 2.4 | C27: 20713 IOPES | D27: Rede de luz, incl. padrão entrada de energia trifás., cabo de ligação até barracões, quadro de distrib., disj. e chave de força (quando necessário), cons. 20m entre padrão entrada e QDG, conf. projeto (1 utilização) | E27: M | F27: 10 | G27: =K27 -> 626.62 | H27: =F27*G27 -> 6266.2 | J27: 494.92 | K27: =ROUND(J27*(1+$H$14),2) -> 626.62
B28: 2.5 | C28: 20714 IOPES | D28: Rede de esgoto, contendo fossa e filtro, inclusive tubos e conexões de ligação entre caixas, considerando distância de 25m, conforme projeto (1 utilização) | E28: M | F28: 10 | G28: =K28 -> 364.24 | H28: =F28*G28 -> 3642.4 | J28: 287.69 | K28: =ROUND(J28*(1+$H$14),2) -> 364.24
B29: 2.6 | C29: 20339 IOPES | D29: Locação de andaime metálico para trabalho em fachada de edifíco (aluguel de 1 m² por 1 mês) inclusive frete, montagem e desmontagem | E29: M2 | F29: =300 -> 300 | G29: =K29 -> 13.69 | H29: =F29*G29 -> 4107 | J29: 10.81 | K29: =ROUND(J29*(1+$H$14),2) -> 13.69
B30: 2.7 | C30: 020702 IOPES | D30: Barracão para almoxarifado área de 10.90m2, de chapa de compensado de 12mm e pontalete 8x8cm, piso cimentado e cobertura de telhas de fibrocimento de 6mm, incl. ponto de luz, conf. projeto (1 utilização) | E30: M2 | F30: 10.9 | G30: =K30 -> 506.57 | H30: =F30*G30 -> 5521.613 | J30: 400.1 | K30: =ROUND(J30*(1+$H$14),2) -> 506.57
B31: 2.8 | C31: 020704 IOPES | D31: Refeitório com paredes de chapa de compens. 12mm e pontaletes 8x8cm, piso ciment. e cob. de telhas fibroc. 6mm, incl. ponto de luz e cx. de inspeção (cons. 1.21 m2/func./turno), conf. projeto (1 utilização) | E31: M2 | F31: =(1.21)*10 -> 12.1 | G31: =K31 -> 408.52 | H31: =F31*G31 -> 4943.092 | J31: 322.66 | K31: =ROUND(J31*(1+$H$14),2) -> 408.52
B32: 2.9 | C32: 020705 IOPES | D32: Unidade de sanitário e vestiário p/ até 20 func. área de 18.15m2, paredes de chapa compens. 12mm e pontalete 8x8cm, piso cimentado, cobert. telha fibroc. 6mm, incl. instalação de luz e cx. de inspeção, conf. projeto (1 utilização) | E32: UND | F32: 1 | G32: =K32 -> 13437.95 | H32: =F32*G32 -> 13437.95 | J32: 10613.66 | K32: =ROUND(J32*(1+$H$14),2) -> 13437.95
B33: 2.10 | C33: 020710 IOPES | D33: Reservatório de poliestileno de 500L, incl. suporte em madeira de 7x12cm e 5x7cm, elevado de 4m, conf. projeto (1 utilização) | E33: UND | F33: 1 | G33: =K33 -> 2119.27 | H33: =F33*G33 -> 2119.27 | J33: 1673.86 | K33: =ROUND(J33*(1+$H$14),2) -> 2119.27
B34: 3 | D34: MOVIMENTO DE TERRA
B35: 3.1 | D35: ESCAVAÇÕES
B36: 3.1.1 | C36: 30101 IOPES | D36: Escavação manual em material de 1a. categoria, até 1.50 m de profundidade | E36: M3 | F36: ='INFRA E SUPER'!C34 -> 173.2684 | G36: =K36 -> 53.99 | H36: =F36*G36 -> 9354.7609 | J36: 42.64 | K36: =ROUND(J36*(1+$H$14),2) -> 53.99
B37: 3.1.2 | C37: 41022 DER | D37: Perfuração rotativa vertical, em solo, com coroa de Widia ou similar, diâmetro N(75mm), inclusive deslocamento e posicionamento em cada furo (conforme projeto) | E37: M | F37: ='INFRA E SUPER'!K10 -> 774 | G37: =K37 -> 170.62 | H37: =F37*G37 -> 132059.88 | J37: 134.76 | K37: =ROUND(J37*(1+$H$14),2) -> 170.62
B38: 3.1.3 | C38: 30119 IOPES | D38: Apiloamento do fundo de vala com maço de 30 a 60kg | E38: M2 | F38: ='INFRA E SUPER'!E74 -> 369.331 | G38: =K38 -> 28.23 | H38: =F38*G38 -> 10426.214 | J38: 22.3 | K38: =ROUND(J38*(1+$H$14),2) -> 28.23
B39: 3.2 | D39: REATERRO E COMPACTAÇÃO
B40: 3.2.1 | C40: 30201 IOPES | D40: Reaterro apiloado de cavas de fundação, em camadas de 20 cm | E40: M3 | F40: ='INFRA E SUPER'!B47 -> 103.4239 | G40: =K40 -> 58.14 | H40: =F40*G40 -> 6013.0655 | J40: 45.92 | K40: =ROUND(J40*(1+$H$14),2) -> 58.14
B41: 3.2.2 | C41: 30210 IOPES | D41: Aterro compactado utilizando compactador de placa vibratória com reaproveitamento do material | E41: M3 | F41: =Infra!L81 -> 1668.7778 | G41: =K41 -> 28.84 | H41: =F41*G41 -> 48127.551 | J41: 22.78 | K41: =ROUND(J41*(1+$H$14),2) -> 28.84
B42: 3.3 | D42: TRANSPORTES
B43: 3.3.1 | C43: 30304 IOPES | D43: Índice de preço para remoção de entulho decorrente da execução de obras (Classe A CONAMA - NBR 10.004 - Classe II-B), incluindo aluguel da caçamba, carga, transporte e descarga em área licenciada | E43: M3 | F43: ='INFRA E SUPER'!F50:F50 -> 161.91 | G43: =K43 -> 67.45 | H43: =F43*G43 -> 10920.829 | J43: 53.27 | K43: =ROUND(J43*(1+$H$14),2) -> 67.45
B44: 4 | D44: ESTRUTURAS
B45: 4.1 | D45: INFRA-ESTRUTURA (FUNDAÇÃO)
B46: 4.1.1 | C46: 40206 IOPES | D46: Fôrma de tábua de madeira de 2.5 x 30.0 cm para fundações, levando-se em conta a utilização 5 vezes (incluido o material, corte, montagem, escoramento e desforma) | E46: M2 | F46: ='INFRA E SUPER'!J78 -> 632.98 | G46: =K46 -> 76.98 | H46: =F46*G46 -> 48726.8 | J46: 60.8 | K46: =ROUND(J46*(1+$H$14),2) -> 76.98
B47: 4.1.2 | C47: 40243 IOPES | D47: Fornecimento, dobragem e colocação em fôrma, de armadura CA-50 A média, diâmetro de 6.3 a 10.0 mm | E47: KG | F47: ='INFRA E SUPER'!P29 -> 4686.4114 | G47: =K47 -> 13.76 | H47: =F47*G47 -> 64485.021 | J47: 10.87 | K47: =ROUND(J47*(1+$H$14),2) -> 13.76
B48: 4.1.3 | C48: 40246 IOPES | D48: Fornecimento, dobragem e colocação em fôrma, de armadura CA-60 B fina, diâmetro de 4.0 a 7.0mm | E48: KG | F48: ='INFRA E SUPER'!P30 -> 1443.1454 | G48: =K48 -> 15.16 | H48: =F48*G48 -> 21878.085 | J48: 11.97 | K48: =ROUND(J48*(1+$H$14),2) -> 15.16
B49: 4.1.4 | C49: 40240 IOPES | D49: Fornecimento e aplicação de concreto USINADO Fck=25 MPa - considerando lançamento MANUAL para INFRA-ESTRUTURA (5% de perdas já incluído no custo) | E49: M3 | F49: ='INFRA E SUPER'!F55 -> 124.54 | G49: =K49 -> 553.32 | H49: =F49*G49 -> 68910.473 | J49: 437.03 | K49: =ROUND(J49*(1+$H$14),2) -> 553.32
B50: 4.1.5 | C50: 40231 IOPES | D50: Fornecimento, preparo e aplicação de concreto magro com consumo mínimo de cimento de 250 kg/m3 (brita 1 e 2) - (5% de perdas já incluído no custo) | E50: M3 | F50: ='INFRA E SUPER'!K67 -> 18.4935 | G50: =K50 -> 595.59 | H50: =F50*G50 -> 11014.544 | J50: 470.41 | K50: =ROUND(J50*(1+$H$14),2) -> 595.59
B51: 4.2 | D51: SUPER - ESTRUTURA
B52: 4.2.1 | D52: CONCRETO ARMADO - PILARES, VIGAS, LAJES
...

Sheet Cronograma Fís-Financ 
B3: CRONOGRAMA FÍSICO - FINANCEIRO
B4: OBRA: | C4: ='Planilha Orçamentária'!C12 -> CONSTRUÇÃO DO CEMEI FÁTIMA CIDADE JARDIM
B5: LOCAL: | C5: ='Planilha Orçamentária'!C13 -> RUA 20 - BAIRRO FÁTIMA CIDADE JARDIM - GUARAPARI - ES
B6: DATA: | C6: ='Planilha Orçamentária'!H13 -> 44314
B8: ITEM | C8: ATIVIDADE | D8: CUSTO TOTAL | F8: 1º Mês | G8: 2º Mês | H8: 3º Mês | I8: 4º Mês | J8: 5º Mês | K8: 6º Mês | L8: 7º Mês | M8: 8º Mês | N8: 9º Mês | O8: 10º Mês | P8: 11º Mês | Q8: 12º Mês
F9: _____________ | G9: _____________ | H9: _____________ | I9: _____________ | J9: _____________ | K9: _____________ | L9: _____________ | M9: _____________ | N9: _____________ | O9: _____________ | P9: _____________ | Q9: _____________
B10: 1 | C10: DEMOLIÇÕES, RETIRADAS E LOCAÇÃO | D10: =E10/$E$64 -> 0.0052277565 | E10: =SUM('Planilha Orçamentária'!H21:H22) -> 19916.951 | F10: =E10*F11 -> 19916.951
D11: =E11/$E$64 -> 0 | F11: 1
B12: 2 | C12: SERVIÇOS PRELIMINARES | D12: =E12/$E$64 -> 0.014836435 | E12: =SUM('Planilha Orçamentária'!H24:H33) -> 56524.545 | F12: =$E$12*F13 -> 45219.636 | G12: =$E$12*G13 -> 11304.909
F13: 0.8 | G13: 0.2
B14: 3 | C14: =[2]Planilha!C35 -> MOVIMENTO DE TERRA | D14: =E14/$E$64 -> 0.056932028 | E14: =SUM('Planilha Orçamentária'!H36:H43) -> 216902.3 | F14: =$E$14*F15 -> 130141.38 | G14: =$E$14*G15 -> 86760.92
F15: 0.6 | G15: 0.4
B16: 4 | C16: =[2]Planilha!C43 -> ESTRUTURAS | D16: =E16/$E$64 -> 0.18529058 | E16: =SUM('Planilha Orçamentária'!H46:H60) -> 705928.7 | G16: =$E$16*G17 -> 141185.74 | H16: =$E$16*H17 -> 352964.35 | I16: =$E$16*I17 -> 211778.61
G17: 0.2 | H17: 0.5 | I17: 0.3
B18: 5 | C18: =[2]Planilha!C52 -> PAREDES E PAINÉIS | D18: =E18/$E$64 -> 0.061793975 | E18: =SUM('Planilha Orçamentária'!H63:H71) -> 235425.57 | I18: =$E$18*I19 -> 47085.115 | J18: =$E$18*J19 -> 117712.79 | K18: =$E$18*K19 -> 70627.672
I19: 0.2 | J19: 0.5 | K19: 0.3
B20: 6 | C20: ESQUADRIAS DE MADEIRA | D20: =E20/$E$64 -> 0.0099220515 | E20: =SUM('Planilha Orçamentária'!H74:H79) -> 37801.495 | K20: =$E$20*K21 -> 7560.299 | N20: =$E$20*N21 -> 30241.196
K21: 0.2 | N21: 0.8
B22: 7 | C22: =[2]Planilha!C57 -> ESQUADRIAS METÁLICAS | D22: =E22/$E$64 -> 0.067582164 | E22: =SUM('Planilha Orçamentária'!H82:H90) -> 257477.69 | K22: =$E$22*K23 -> 128738.84 | L22: =$E$22*L23 -> 128738.84
K23: 0.5 | L23: 0.5
B24: 8 | C24: =[2]Planilha!C63 -> VIDROS E ESPELHOS | D24: =E24/$E$64 -> 0.00077593308 | E24: =SUM('Planilha Orçamentária'!H93) -> 2956.1861 | M24: =$E$24*M25 -> 1478.093 | N24: =$E$24*N25 -> 1478.093
M25: 0.5 | N25: 0.5
B26: 9 | C26: =[2]Planilha!C65 -> COBERTURA | D26: =E26/$E$64 -> 0.063468198 | E26: =SUM('Planilha Orçamentária'!H96:H102) -> 241804.11 | J26: =$E$26*J27 -> 120902.05 | K26: =$E$26*K27 -> 120902.05
J27: 0.5 | K27: 0.5
B28: 10 | C28: =[2]Planilha!C74 -> IMPERMEABILIZAÇÃO | D28: =E28/$E$64 -> 0.014550978 | E28: =SUM('Planilha Orçamentária'!H104:H106) -> 55436.995 | H28: =$E$28*H29 -> 16631.098 | J28: =$E$28*J29 -> 16631.098 | K28: =$E$28*K29 -> 22174.798
H29: 0.3 | J29: 0.3 | K29: 0.4
B30: 11 | C30: =[2]Planilha!C77 -> TETOS E FORROS | D30: =E30/$E$64 -> 0.014284475 | E30: =SUM('Planilha Orçamentária'!H109:H110) -> 54421.659 | L30: =$E$30*L31 -> 27210.829 | M30: =$E$30*M31 -> 27210.829
L31: 0.5 | M31: 0.5
B32: 12 | C32: REVESTIMENTO DE PAREDES | D32: =E32/$E$64 -> 0.099171723 | E32: =SUM('Planilha Orçamentária'!H113:H124) -> 377829.06 | K32: =$E$32*K33 -> 75565.812 | L32: =$E$32*L33 -> 188914.53 | M32: =$E$32*M33 -> 113348.72
K33: 0.2 | L33: 0.5 | M33: 0.3
B34: 13 | C34: PISOS INTERNOS E EXTERNOS | D34: =E34/$E$64 -> 0.088378199 | E34: =SUM('Planilha Orçamentária'!H127:H134) -> 336707.39 | J34: =$E$34*J35 -> 67341.479 | K34: =$E$34*K35 -> 101012.22 | O34: =$E$34*O35 -> 168353.7
J35: 0.2 | K35: 0.3 | O35: 0.5
B36: 14 | C36: DEGRAUS, RODAPÉS, SOLEIRAS E PEITORIS | D36: =E36/$E$64 -> 0.0037225148 | E36: =SUM('Planilha Orçamentária'!H136:H139) -> 14182.211 | L36: =$E$36*L37 -> 3545.5527 | M36: =$E$36*M37 -> 7091.1054 | N36: =$E$36*N37 -> 3545.5527
L37: 0.25 | M37: 0.5 | N37: 0.25
B38: 15 | C38: PAVIMENTAÇÃO EXTERNA | D38: =E38/$E$64 -> 0.024074523 | E38: =SUM('Planilha Orçamentária'!H141:H145) -> 91720.241 | M38: =$E$38*M39 -> 22930.06 | N38: =$E$38*N39 -> 45860.121 | O38: =$E$38*O39 -> 22930.06
M39: 0.25 | N39: 0.5 | O39: 0.25
B40: 16 | C40: PINTURA E ACABAMENTOS | D40: =E40/$E$64 -> 0.032391066 | E40: =SUM('Planilha Orçamentária'!H147:H151) -> 123405 | M40: =$E$40*M41 -> 30851.249 | N40: =$E$40*N41 -> 30851.249 | O40: =$E$40*O41 -> 30851.249 | P40: =$E$40*P41 -> 30851.249
M41: 0.25 | N41: 0.25 | O41: 0.25 | P41: 0.25
B42: 17 | C42: INSTALAÇÕES HIDRO-SANITÁRIAS | D42: =E42/$E$64 -> 0.066396076 | E42: =SUM('Planilha Orçamentária'!H154:H243) -> 252958.87 | J42: =$E$42*J43 -> 12647.944 | L42: =$E$42*L43 -> 63239.718 | M42: =$E$42*M43 -> 63239.718 | N42: =$E$42*N43 -> 63239.718 | O42: =$E$42*O43 -> 50591.774
J43: 0.05 | L43: 0.25 | M43: 0.25 | N43: 0.25 | O43: 0.2
...

Sheet composições
B2: LISTA DE MATERIAL CFTV
B4: COMP-01 FORNECIMENTO E INSTALAÇAO DE CAMERA IP IR BULLET REF. INTELBRAS/VIP 3230 D OU SIMILAR | I4: UND: UND
B5: BASE :ORSE 11520
B7: Levantamento de preços de mercado - Data: 16/04/2021
B9: Estabelecimento | C9: Contato | E9: Unid | F9: Pr. Unit.
B10: Monitora - Alarmes e Câmeras - Guarapari ES | C10: 27 996516462 | E10: und | F10: 525.05
B11: Crissom segur. Eletrronica - Guarapari ES | C11: 27 33611105 | E11: und | F11: 498.39
B12: lojas americanas - Guarapari ES | C12: 27 988859614 | E12: und | F12: 455.6
B13: Pr.Unit | F13: =F12 -> 455.6
B15: MÃO DE OBRA | C15: Unid | D15: Código | E15: Coefic. | F15: C. Prod. | G15: Pr. Prod. | H15: Pr. Improd. | I15: Pr. Unit. | J15: Fator Ac.
B16: Técnico | C16: H | D16: 6698 | E16: 1 | I16: 21.76 | J16: =E16*I16 -> 21.76
B17: SubTotal: | J17: =J16 -> 21.76
B19: MATERIAL | C19: Unid | D19: Código | E19: Coefic. | F19: C. Prod. | G19: Pr. Prod. | H19: Pr. Improd. | I19: Pr. Unit. | J19: Fator Ac.
B20: Camera ip ir Ibullet ( intelbras/vip 3230 D) | C20: UN | D20: Mercado | E20: 1 | I20: =F13 -> 455.6 | J20: =I20 -> 455.6
B21: SubTotal: | J21: =J20 -> 455.6
B23: RESUMO
B24: DISCRIMINAÇÃO | E24: TAXA(%) | F24: VALORES
B25: Mão-de-Obra(A) | E25: 128.33 | F25: =J17 -> 21.76
B26: Materiais(B) | F26: =J21 -> 455.6
B27: Equipamentos(C) | F27: 0
B28: Produção da Equipe(D) | F28: 1
B29: Custo Horário Total(A+C) | F29: =F25+F27 -> 21.76
B30: Custo Unitário da Execução[(A/D)+(C/D)] = E | F30: =(F25/F28)+(F27/F28) -> 21.76
B31: Custo Direto Total(B+E) | F31: =F26+F30 -> 477.36
B32: Bonificações e Despesas Indiretas - BDI | E32: 0 | F32: =F31*(E32/100) -> 0
B33: CUSTO UNITÁRIO (Adotado) | F33: =F31+F32 -> 477.36
B38: COMP-02 FORNECIMENTO E INSTALAÇAO DE CAMERA IP IR DOME INTELBRAS/VIP 3230 D OU SIMILAR (CFTV) | I38: UND: UND
B39: BASE :ORSE 11520
B41: Levantamento de preços de mercado - Data: 16/04/2021
B43: Estabelecimento | C43: Contato | E43: Unid | F43: Pr. Unit.
B44: Monitora - Alarmes e Câmeras - Guarapari ES | C44: 27 996516462 | E44: und | F44: 548.3
B45: Crissom segur. Eletrronica - Guarapari ES | C45: 27 33611105 | E45: und | F45: 579.53
B46: lojas americanas - Guarapari ES | C46: 27 988859614 | E46: und | F46: 550.76
B47: Pr.Unit | F47: =F44 -> 548.3
B49: MÃO DE OBRA | C49: Unid | D49: Código | E49: Coefic. | F49: C. Prod. | G49: Pr. Prod. | H49: Pr. Improd. | I49: Pr. Unit. | J49: Fator Ac.
B50: Técnico | C50: H | D50: 6698 | E50: 1 | I50: 21.76 | J50: =E50*I50 -> 21.76
B51: SubTotal: | J51: =J50 -> 21.76
B53: MATERIAL | C53: Unid | D53: Código | E53: Coefic. | F53: C. Prod. | G53: Pr. Prod. | H53: Pr. Improd. | I53: Pr. Unit. | J53: Fator Ac.
B54: CAMERA IP IR DOME (INTELBRAS/VIP3230 D) | C54: UN | D54: Mercado | E54: 1 | I54: =F47 -> 548.3 | J54: =E54*I54 -> 548.3
B55: SubTotal: | J55: =J54 -> 548.3
...

Sheet Curva ABC
A2: COD. | B2: DESCRIÇÃO | C2: VALOR TOTAL | D2: % | E2: % ACUMUL. | F2: CLASSE
J3: Classe | K3: Corte
A4: 27.1 | B4: Administração Local OBS.: A taxa de Administração Local será paga PROPORCIONALMENTE ao andamento da obra. | C4: =VLOOKUP(A4,'Planilha Orçamentária'!$B$20:$H$430,7,FALSE) -> 176250.36 | D4: =C4/$C$335 -> 0.046261798 | E4: =D4 -> 0.046261798 | F4: =IF(E4<=$K$4,"A",IF(E4<=$K$5,"B","C")) -> A | J4: A | K4: 0.8
A5: 5.5.1 | B5: Alvenaria de blocos de concreto 14x19x39cm, c/ resist. mínimo a compres. 2.5 MPa, assent. c/ arg. de cimento, cal hidratada CH1 e areia no traço 1:0.5:8 esp. das juntas 10mm e esp. das paredes, s/ rev. 14cm | C5: =VLOOKUP(A5,'Planilha Orçamentária'!$B$20:$H$430,7,FALSE) -> 137798.25 | D5: =C5/$C$335 -> 0.036168975 | E5: =D5+E4 -> 0.082430773 | F5: =IF(E5<=$K$4,"A",IF(E5<=$K$5,"B","C")) -> A | J5: B | K5: 0.95
A6: 4.2.2 | B6: Fôrma em chapa de madeira compensada plastificada 12mm para estrutura em geral, 5 reaproveitamentos, reforçada com sarrafos de madeira 2.5x10cm (incl material, corte, montagem, escoras em eucalipto e desforma) | C6: =VLOOKUP(A6,'Planilha Orçamentária'!$B$20:$H$430,7,FALSE) -> 132920.77 | D6: =C6/$C$335 -> 0.034888746 | E6: =D6+E5 -> 0.11731952 | F6: =IF(E6<=$K$4,"A",IF(E6<=$K$5,"B","C")) -> A | J6: C | K6: 1
A7: 4.2.6 | B7: Fornecimento e aplicação de concreto USINADO Fck=30 MPa - considerando BOMBEAMENTO (5% de perdas já incluído no custo) (6% de taxa p/ concr. bombeavel) | C7: =VLOOKUP(A7,'Planilha Orçamentária'!$B$20:$H$430,7,FALSE) -> 132725.84 | D7: =C7/$C$335 -> 0.034837581 | E7: =D7+E6 -> 0.1521571 | F7: =IF(E7<=$K$4,"A",IF(E7<=$K$5,"B","C")) -> A
A8: 3.1.2 | B8: Perfuração rotativa vertical, em solo, com coroa de Widia ou similar, diâmetro N(75mm), inclusive deslocamento e posicionamento em cada furo (conforme projeto) | C8: =VLOOKUP(A8,'Planilha Orçamentária'!$B$20:$H$430,7,FALSE) -> 132059.88 | D8: =C8/$C$335 -> 0.03466278 | E8: =D8+E7 -> 0.18681988 | F8: =IF(E8<=$K$4,"A",IF(E8<=$K$5,"B","C")) -> A
A9: 9.1.1 | B9: Estrutura de madeira de lei tipo Paraju, peroba mica, angelim pedra ou equivalente para telhado de telha ondulada de fibrocimento esp. 6mm, com pontaletes e caibros, inclusive tratamento com cupinicida, exclusive telhas | C9: =VLOOKUP(A9,'Planilha Orçamentária'!$B$20:$H$430,7,FALSE) -> 129738.64 | D9: =C9/$C$335 -> 0.034053506 | E9: =D9+E8 -> 0.22087339 | F9: =IF(E9<=$K$4,"A",IF(E9<=$K$5,"B","C")) -> A
A10: 7.2.2 | B10: Pele de vidro ( Painel fixo) (fachada - Vidro laminado 8mm - 4+4mm) (conforme projeto) | C10: =VLOOKUP(A10,'Planilha Orçamentária'!$B$20:$H$430,7,FALSE) -> 100962.36 | D10: =C10/$C$335 -> 0.026500374 | E10: =D10+E9 -> 0.24737376 | F10: =IF(E10<=$K$4,"A",IF(E10<=$K$5,"B","C")) -> A
A11: 4.2.3 | B11: Fornecimento, dobragem e colocação em fôrma, de armadura CA-50 A média, diâmetro de 6.3 a 10.0 mm | C11: =VLOOKUP(A11,'Planilha Orçamentária'!$B$20:$H$430,7,FALSE) -> 94586.299 | D11: =C11/$C$335 -> 0.024826799 | E11: =D11+E10 -> 0.27220056 | F11: =IF(E11<=$K$4,"A",IF(E11<=$K$5,"B","C")) -> A
A12: 13.2.1 | B12: Porcelanato polido, acabamento acetinado, dim. 60x60cm, ref. de cor CIMENTO CINZA BOLD Potobello/equiv, utilizando dupla colagem de argamassa colante para porcelanato tipo ACIII e rejunte 1mm para porcelanato | C12: =VLOOKUP(A12,'Planilha Orçamentária'!$B$20:$H$430,7,FALSE) -> 82498.046 | D12: =C12/$C$335 -> 0.021653902 | E12: =D12+E11 -> 0.29385446 | F12: =IF(E12<=$K$4,"A",IF(E12<=$K$5,"B","C")) -> A
A13: 12.3.3 | B13: Porcelanato polido, Avorio, 60x60, Delta, Biancogres, Eliane, Portobello/equiv, utilizando dupla colagem de argamassa colante para porcelanato tipo ACIII e rejunte 1mm para porcelanato | C13: =VLOOKUP(A13,'Planilha Orçamentária'!$B$20:$H$430,7,FALSE) -> 81781.255 | D13: =C13/$C$335 -> 0.02146576 | E13: =D13+E12 -> 0.31532022 | F13: =IF(E13<=$K$4,"A",IF(E13<=$K$5,"B","C")) -> A
A14: 13.2.2 | B14: Piso em granito aplicado em ambientes internos. Af_06/2018 (conforme projeto) | C14: =VLOOKUP(A14,'Planilha Orçamentária'!$B$20:$H$430,7,FALSE) -> 80958.797 | D14: =C14/$C$335 -> 0.021249883 | E14: =D14+E13 -> 0.3365701 | F14: =IF(E14<=$K$4,"A",IF(E14<=$K$5,"B","C")) -> A
A15: 12.3.7 | B15: Revestimento metálico em alumínio composto (Alucobond), e=0,4mm, pintura Kaynar 500 composta por seis camadas, inclusive estrutura metálica auxiliar em perfil de viga "U" de 2" - fornecimento e montagem | C15: =VLOOKUP(A15,'Planilha Orçamentária'!$B$20:$H$430,7,FALSE) -> 77000.782 | D15: =C15/$C$335 -> 0.020210992 | E15: =D15+E14 -> 0.3567811 | F15: =IF(E15<=$K$4,"A",IF(E15<=$K$5,"B","C")) -> A
A16: 5.4.1 | B16: Alvenaria de blocos cerâmicos 10 furos 10x20x20cm, assentados c/argamassa de cimento, cal hidratada CH1 e areia traço 1:0,5:8, esp. das juntas 12mm e esp. das paredes s/revestimento, 10cm (bloco comprado na fábrica, posto obra) | C16: =VLOOKUP(A16,'Planilha Orçamentária'!$B$20:$H$430,7,FALSE) -> 76452.386 | D16: =C16/$C$335 -> 0.02006705 | E16: =D16+E15 -> 0.37684815 | F16: =IF(E16<=$K$4,"A",IF(E16<=$K$5,"B","C")) -> A
A17: 12.2.2 | B17: Reboco de argamassa de cimento, cal hidratada CH1 e areia média ou grossa lavada no traço 1:0.5:6, espessura 5mm | C17: =VLOOKUP(A17,'Planilha Orçamentária'!$B$20:$H$430,7,FALSE) -> 71300.289 | D17: =C17/$C$335 -> 0.01871474 | E17: =D17+E16 -> 0.39556289 | F17: =IF(E17<=$K$4,"A",IF(E17<=$K$5,"B","C")) -> A
A18: 4.1.4 | B18: Fornecimento e aplicação de concreto USINADO Fck=25 MPa - considerando lançamento MANUAL para INFRA-ESTRUTURA (5% de perdas já incluído no custo) | C18: =VLOOKUP(A18,'Planilha Orçamentária'!$B$20:$H$430,7,FALSE) -> 68910.473 | D18: =C18/$C$335 -> 0.018087466 | E18: =D18+E17 -> 0.41365035 | F18: =IF(E18<=$K$4,"A",IF(E18<=$K$5,"B","C")) -> A
... A333: 19.9.6 | B333: Disjuntor termomagnetico monopolar 16 A, padrão DIN (linha branca) curva de disparo B, corrente de interrupção 5KA, ref.: Siemens 5 SX1 ou similar. | C333: =VLOOKUP(A333,'Planilha Orçamentária'!$B$20:$H$430,7,FALSE) -> 19.11 | D333: =C333/$C$335 -> 5.0159498e-06 | E333: =D333+E332 -> 1 | F333: =IF(E333<=$K$4,"A",IF(E333<=$K$5,"B","C")) -> C
B335: total: | C335: =SUM(C4:C333) -> 3809846.7

Sheet Reboco e gesso 
A1: JANELAS | B1: C01 | C1: 4.2 | D1: 2 | E1: 2.1 | I1: J01 | J1: 0.6 | K1: 1 | L1: 0.6 | N1: PORTAS
I2: J02 | J2: 0.8 | K2: 1 | L2: 0.8 | O2: P2 | P2: 1.68 | Q2: 0.8 | R2: 2.1
I3: J03 | J3: 1.2 | K3: 1.5 | L3: 0.8 | O3: P3 E PV3 | P3: =0.9*2.1 -> 1.89 | Q3: 0.9 | R3: 2.1
I4: J04 | J4: 1.8 | K4: 1.5 | L4: 1.2 | O4: P4 | P4: 1.89 | Q4: 0.9 | R4: 2.1
I5: J05 | J5: 2.31 | K5: 1.4 | L5: 1.65 | O5: P5 | P5: 1.68 | Q5: 0.8 | R5: 2.1
B6: C06 | C6: =1.5*2.1 -> 3.15 | D6: 1.5 | E6: 2.1 | O6: P6 | P6: =3*3 -> 9 | Q6: 3 | R6: 3
I7: J07 | J7: 1.2 | K7: 2 | L7: 0.6 | O7: P7 | P7: =3.5*2.5 -> 8.75 | Q7: 3.5 | R7: 2.5
I8: J08 | J8: 2.4 | K8: 2 | L8: 1.2 | O8: P8 | P8: =4*2.2 -> 8.8 | Q8: 4 | R8: 2.2
I9: J09 | J9: =2*1 -> 2 | K9: 2 | L9: 1 | O9: P9 | P9: =4.7*2.5 -> 11.75 | Q9: 4.7 | R9: 2.5
I10: J10 | J10: =2*1.65 -> 3.3 | K10: 2 | L10: 1.65
I11: J11 | J11: =2.5*0.9 -> 2.25 | K11: 2.5 | L11: 0.9
I12: J12 | J12: =2.5*1.2 -> 3 | K12: 2.5 | L12: 1.2
I13: J13 | J13: =3*1.2 -> 3.6 | K13: 3 | L13: 1.2
B17: Chapisco, Reboco e Gesso
B19: Chapisco, Reboco e Gesso
D21: DADOS DE ENTRADA | N21: CHAPISCO, REBOCO E GESSO
B22: DESCRIÇÃO | E22: DIMENSÕES | H22: DESCONTOS | M22: PAREDES | R22: TETOS
B23: Pavimento | C23: Ambiente | D23: Quantidade | E23: Área (m2) | F23: Perímetro (m) | G23: Pé-direito (m) | H23: Parede (m2) | I23: Teto (m2) | J23: Chapisco | K23: Área (m2) | L23: Reboco interno | M23: Área (m2) | N23: Reboco Externo | O23: Área (m2) | P23: Emboço | Q23: Área (m2) | R23: Tipo Revestimento | S23: Área (m2)
B24: Térreo | C24: Recepção | D24: 1 | E24: 40.16 | F24: 33.39 | G24: 2.8 | H24: 52.636 | J24: Sim | K24: =IF(J24="Sim",(F24*G24-H24)*D24," ") -> 40.856 | L24: Sim | M24: 40.856 | O24: =IF(N24="Sim",(F24*G24-H24)*D24," ") | Q24: =IF(P24="Sim",(F24*G24-H24)*D24," ") | R24: Gesso | S24: =(E24-I24)*D24 -> 40.16
B25: Térreo | C25: Secretaria | D25: 1 | E25: 25.95 | F25: 20.44 | G25: 2.8 | H25: =J13+J13+P4+P5 -> 10.77 | J25: Sim | K25: =IF(J25="Sim",(F25*G25-H25)*D25," ") -> 46.462 | L25: Sim | M25: 46.462 | O25: =IF(N25="Sim",(F25*G25-H25)*D25," ") | Q25: =IF(P25="Sim",(F25*G25-H25)*D25," ") | R25: Gesso | S25: =(E25-I25)*D25 -> 25.95
B26: Térreo | C26: Arquivo | D26: 1 | E26: 14.03 | F26: 16.44 | G26: 2.8 | H26: =J1+P4 -> 2.49 | J26: Sim | K26: =IF(J26="Sim",(F26*G26-H26)*D26," ") -> 43.542 | L26: Sim | M26: 43.542 | O26: =IF(N26="Sim",(F26*G26-H26)*D26," ") | Q26: =IF(P26="Sim",(F26*G26-H26)*D26," ") | R26: Gesso | S26: =(E26-I26)*D26 -> 14.03
B27: Térreo | C27: Circulação | D27: 1 | E27: 25.8 | F27: 41.56 | G27: 2.8 | H27: =(1.65*2.8)+P5+P5+P5+P3+P3+J1+J1+P3 -> 16.53 | J27: Sim | K27: =IF(J27="Sim",(F27*G27-H27)*D27," ") -> 99.838 | L27: Sim | M27: 99.838 | O27: =IF(N27="Sim",(F27*G27-H27)*D27," ") | Q27: =IF(P27="Sim",(F27*G27-H27)*D27," ") | R27: Gesso | S27: =(E27-I27)*D27 -> 25.8
B28: Térreo | C28: Coordenação | D28: 1 | E28: 11.67 | F28: 14.14 | G28: 2.8 | H28: =P5+(3.06*2.8) -> 10.248 | J28: Sim | K28: =IF(J28="Sim",(F28*G28-H28)*D28," ") -> 29.344 | L28: Sim | M28: 29.344 | O28: =IF(N28="Sim",(F28*G28-H28)*D28," ") | Q28: =IF(P28="Sim",(F28*G28-H28)*D28," ") | R28: Gesso | S28: =(E28-I28)*D28 -> 11.67
B29: Térreo | C29: Direção | D29: 1 | E29: 9.73 | F29: 14.2 | G29: 2.8 | H29: =J8+P5+P2 -> 5.76 | J29: Sim | K29: =IF(J29="Sim",(F29*G29-H29)*D29," ") -> 34 | L29: Sim | M29: 34 | O29: =IF(N29="Sim",(F29*G29-H29)*D29," ") | Q29: =IF(P29="Sim",(F29*G29-H29)*D29," ") | R29: Gesso | S29: =(E29-I29)*D29 -> 9.73
B30: Térreo | C30: Banho | D30: 1 | E30: 2.8 | F30: 6.9 | G30: 2.8 | H30: =J1+P2 -> 2.28 | J30: Sim | K30: =IF(J30="Sim",(F30*G30-H30)*D30," ") -> 17.04 | O30: =IF(N30="Sim",(F30*G30-H30)*D30," ") | P30: Sim | Q30: =IF(P30="Sim",(F30*G30-H30)*D30," ") -> 17.04 | R30: Gesso | S30: =(E30-I30)*D30 -> 2.8
B31: Térreo | C31: Sala de Professores | D31: 1 | E31: 19.84 | F31: 18.8 | G31: 2.8 | H31: =J13+P5 -> 5.28 | J31: Sim | K31: =IF(J31="Sim",(F31*G31-H31)*D31," ") -> 47.36 | L31: Sim | M31: 47.36 | O31: =IF(N31="Sim",(F31*G31-H31)*D31," ") | Q31: =IF(P31="Sim",(F31*G31-H31)*D31," ") | R31: Gesso | S31: =(E31-I31)*D31 -> 19.84
B32: Térreo | C32: WC PNE Fem | D32: 1 | E32: 2.7 | F32: 6.6 | G32: 2.8 | H32: =P3+J1 -> 2.49 | J32: Sim | K32: =IF(J32="Sim",(F32*G32-H32)*D32," ") -> 15.99 | O32: =IF(N32="Sim",(F32*G32-H32)*D32," ") | P32: Sim | Q32: =IF(P32="Sim",(F32*G32-H32)*D32," ") -> 15.99 | R32: Gesso | S32: =(E32-I32)*D32 -> 2.7
B33: Térreo | C33: WC PNE | D33: 1 | E33: 2.7 | F33: 6.6 | G33: 2.8 | H33: =P3+J1 -> 2.49 | J33: Sim | K33: =IF(J33="Sim",(F33*G33-H33)*D33," ") -> 15.99 | O33: =IF(N33="Sim",(F33*G33-H33)*D33," ") | P33: Sim | Q33: =IF(P33="Sim",(F33*G33-H33)*D33," ") -> 15.99 | R33: Gesso | S33: =(E33-I33)*D33 -> 2.7
B34: Térreo | C34: Portaria | D34: 1 | E34: 10.45 | F34: 6.85 | G34: 2.8 | H34: =P3+P3+J1+(2.62*2.8) -> 11.716 | J34: Sim | K34: =IF(J34="Sim",(F34*G34-H34)*D34," ") -> 7.464 | L34: Sim | M34: 7.464 | O34: =IF(N34="Sim",(F34*G34-H34)*D34," ") | Q34: =IF(P34="Sim",(F34*G34-H34)*D34," ") | R34: Gesso | S34: =(E34-I34)*D34 -> 10.45
B35: Térreo | C35: WC | D35: 1 | E35: 2.85 | F35: 6.85 | G35: 2.8 | H35: =P2+J1 -> 2.28 | J35: Sim | K35: =IF(J35="Sim",(F35*G35-H35)*D35," ") -> 16.9 | O35: =IF(N35="Sim",(F35*G35-H35)*D35," ") | P35: Sim | Q35: =IF(P35="Sim",(F35*G35-H35)*D35," ") -> 16.9 | R35: Gesso | S35: =(E35-I35)*D35 -> 2.85
B36: Térreo | C36: Refeitório | D36: 1 | E36: 125.72 | F36: 48.53 | G36: 2.8 | H36: =P8+J12+J10+J5+P3+((7.72+5.61)*2.8) -> 56.624 | J36: Sim | K36: =IF(J36="Sim",(F36*G36-H36)*D36," ") -> 79.26 | O36: =IF(N36="Sim",(F36*G36-H36)*D36," ") | P36: Sim | Q36: =IF(P36="Sim",(F36*G36-H36)*D36," ") -> 79.26 | R36: Gesso | S36: =(E36-I36)*D36 -> 125.72
B37: Térreo | C37: Cozinha | D37: 1 | E37: 41.7 | F37: 36.41 | G37: 3.1 | H37: =J10+J5+P5+(1*2.1)+J11+J9 -> 13.64 | J37: Sim | K37: =IF(J37="Sim",(F37*G37-H37)*D37," ") -> 99.231 | O37: =IF(N37="Sim",(F37*G37-H37)*D37," ") | P37: Sim | Q37: =IF(P37="Sim",(F37*G37-H37)*D37," ") -> 99.231 | R37: Gesso | S37: =(E37-I37)*D37 -> 41.7
B38: Térreo | C38: Despensa | D38: 1 | E38: 6.51 | F38: 10.41 | G38: 3.1 | H38: =P3+J2 -> 2.69 | J38: Sim | K38: =IF(J38="Sim",(F38*G38-H38)*D38," ") -> 29.581 | O38: =IF(N38="Sim",(F38*G38-H38)*D38," ") | P38: Sim | Q38: =IF(P38="Sim",(F38*G38-H38)*D38," ") -> 29.581 | R38: Gesso | S38: =(E38-I38)*D38 -> 6.51
B39: Térreo | C39: Recebimento | D39: 1 | E39: 16.45 | F39: 16.77 | G39: 3.1 | H39: =P3+J2+C6+(5.31*2.5) -> 19.115 | I39: 8.89 | J39: Sim | K39: =IF(J39="Sim",(F39*G39-H39)*D39," ") -> 32.872 | O39: =IF(N39="Sim",(F39*G39-H39)*D39," ") | P39: Sim | Q39: =IF(P39="Sim",(F39*G39-H39)*D39," ") -> 32.872 | R39: Gesso | S39: =(E39-I39)*D39 -> 7.56
B40: Térreo | C40: Copa Funcionário | D40: 1 | E40: 10.02 | F40: 13.17 | G40: 3.1 | H40: =P5+P3+J4+2*(1*2.1) -> 9.57 | J40: Sim | K40: =IF(J40="Sim",(F40*G40-H40)*D40," ") -> 31.257 | O40: =IF(N40="Sim",(F40*G40-H40)*D40," ") | P40: Sim | Q40: =IF(P40="Sim",(F40*G40-H40)*D40," ") -> 31.257 | R40: Gesso | S40: =(E40-I40)*D40 -> 10.02
B41: Térreo | C41: Área de serviço | D41: 1 | E41: 4.36 | F41: 8.39 | G41: 3.1 | H41: =P3+(1*2.1) -> 3.99 | J41: Sim | K41: =IF(J41="Sim",(F41*G41-H41)*D41," ") -> 22.019 | O41: =IF(N41="Sim",(F41*G41-H41)*D41," ") | P41: Sim | Q41: =IF(P41="Sim",(F41*G41-H41)*D41," ") -> 22.019 | R41: Gesso | S41: =(E41-I41)*D41 -> 4.36
B42: Térreo | C42: Circulação | D42: 1 | E42: 7.21 | F42: 15.8 | G42: 3.1 | H42: 14.23 | J42: Sim | K42: =IF(J42="Sim",(F42*G42-H42)*D42," ") -> 34.75 | O42: =IF(N42="Sim",(F42*G42-H42)*D42," ") | P42: Sim | Q42: =IF(P42="Sim",(F42*G42-H42)*D42," ") -> 34.75 | R42: Gesso | S42: =(E42-I42)*D42 -> 7.21
B43: Térreo | C43: Lavanderia | D43: 1 | E43: 8.9 | F43: 12.03 | G43: 3.1 | H43: =P3+J11+J4 -> 5.94 | J43: Sim | K43: =IF(J43="Sim",(F43*G43-H43)*D43," ") -> 31.353 | O43: =IF(N43="Sim",(F43*G43-H43)*D43," ") | P43: Sim | Q43: =IF(P43="Sim",(F43*G43-H43)*D43," ") -> 31.353 | R43: Gesso | S43: =(E43-I43)*D43 -> 8.9
B44: Térreo | C44: DML | D44: 1 | E44: 5.42 | F44: 10.12 | G44: 3.1 | H44: =P3 -> 1.89 | J44: Sim | K44: =IF(J44="Sim",(F44*G44-H44)*D44," ") -> 29.482 | O44: =IF(N44="Sim",(F44*G44-H44)*D44," ") | P44: Sim | Q44: =IF(P44="Sim",(F44*G44-H44)*D44," ") -> 29.482 | R44: Gesso | S44: =(E44-I44)*D44 -> 5.42
B45: Térreo | C45: Rouparia | D45: 1 | E45: 7.33 | F45: 10.83 | G45: 3.1 | H45: =P3+J4+J9 -> 5.69 | J45: Sim | K45: =IF(J45="Sim",(F45*G45-H45)*D45," ") -> 27.883 | O45: =IF(N45="Sim",(F45*G45-H45)*D45," ") | P45: Sim | Q45: =IF(P45="Sim",(F45*G45-H45)*D45," ") -> 27.883 | R45: Gesso | S45: =(E45-I45)*D45 -> 7.33
...

Sheet INFRA E SUPER
A1: ESCAVAÇAO DAS ESTACAS DO MURO | F1: VOL. DE CONCR. DAS ESTACAS DO MURO
A2: QUANT | B2: DIAMETRO (m) | C2: ALT (m) | D2: VOL(m3) | F2: QUANT | G2: DIAMETRO (m) | H2: ALT (m) | I2: VOL(m3) | N2: AÇO TOTAL INFRAESTRUTURA
A3: 58 | B3: 0.3 | C3: 3 | D3: 12.29 | F3: 58 | G3: 0.3 | H3: 3 | I3: =D3 -> 12.29
N4: RELAÇAO DO AÇO (ESTACAS) DO MURO
A5: ESCAVAÇAO DAS ESTACAS DA EDIFICAÇÃO | F5: VOL. DE CONCR. DAS ESTACAS EDIFICAÇAO | N5: AÇO | O5: DIAM | P5: COMP | Q5: (kgf/m) | R5: total | S5: total c/perda 10%
A6: QUANT | B6: DIAMETRO (m) | C6: ALT (m) | D6: VOL(m3) | F6: QUANT | G6: DIAMETRO (m) | H6: ALT (m) | I6: =D7 -> 42.41 | N6: CA-50 | O6: 8mm | P6: 626.4 | Q6: 0.4 | R6: =P6*Q6 -> 250.56 | S6: 275.616
A7: 75 | B7: 0.3 | C7: 8 | D7: 42.41 | F7: 75 | G7: 0.3 | H7: 8 | N7: CA-60 | O7: 5mm | P7: 876.96 | Q7: 0.16 | R7: =P7*Q7 -> 140.3136 | S7: 154.34496
A9: ESCAV.MECANIZADA VOL(M3) | D9: =SUM(D7,D3) -> 54.7 | F9: VOL.CONC DAS ESTACAS (M3) | I9: =SUM(I6,I3) -> 54.7 | N9: RELAÇAO DO AÇO (ESTACAS) DA EDUFUCAÇAO
F10: PROFUNDIDADE DAS ESTACAS (M) | K10: =(F3*H3)+(F7*H7) -> 774 | N10: AÇO | O10: DIAM | P10: COMP | Q10: (kgf/m) | R10: total | S10: total c/perda 10%
N11: CA-50 | O11: 8mm | P11: 2160 | Q11: 0.4 | R11: =P11*Q11 -> 864 | S11: =R11*1.1 -> 950.4
A12: ESCAV.MANUAL DAS VIGAS BALDRAME DO MURO | G12: VOL. CONCR. VIGAS BALDRAME DO MURO | K12: fck 25mpa | N12: CA-60 | O12: 5mm | P12: 3024 | Q12: 0.16 | R12: =P12*Q12 -> 483.84 | S12: =R12*1.1 -> 532.224
A13: PER (m) | B13: LAR (m) | C13: ALT (m) | D13: VOL(m3) | G13: PER (m) | H13: LAR (m) | I13: ALT (m) | J13: VOL.TOT(m3)
A14: 202.02 | B14: 0.35 | C14: 0.4 | D14: =B14*C14*A14 -> 28.2828 | G14: 202.02 | H14: 0.15 | I14: 0.3 | J14: =H14*I14*G14 -> 9.0909 | N14: RELAÇAO DO AÇO (BLOCOS)
N15: AÇO | O15: DIAM | P15: COMP | Q15: (kgf/m) | R15: total | S15: total c/perda 10%
A16: ESCAV. MANUAL VIGAS BALDRAME DA EDIFIC | G16: VOL. CONCR. VIGAS BALDRAME DA EDIFIC. fck 25mpa | N16: CA-50 | O16: 8mm | P16: 3098.9 | Q16: 0.4 | R16: =P16*Q16 -> 1239.56 | S16: =R16*1.1 -> 1363.516
A17: PER (m) | B17: LAR (m) | C17: ALT (m) | D17: VOL(m3) | G17: PER (m) | H17: LAR (m) | I17: ALT (m) | J17: VOL(m3)
A18: 533.76 | B18: 0.4 | C18: 0.4 | D18: =B18*C18*A18 -> 85.4016 | G18: 533.76 | H18: 0.2 | I18: 0.3 | J18: =H18*I18*G18 -> 32.0256 | N18: RELAÇAO DO AÇO (BALDRAME) DA EDIFICAÇAO
N19: AÇO | O19: DIAM | P19: COMP | Q19: (kgf/m) | R19: total | S19: total c/perda 10%
A20: ESCAV.MANUAL BALDRAME VOL(M3) | E20: =SUM(D18,D14) -> 113.6844 | G20: VOL.CONC DAS BALDRAMES (M3) | K20: =J18+J14 -> 41.1165 | N20: CA-50 | O20: 10mm | P20: 2191.56 | Q20: 0.63 | R20: =P20*Q20 -> 1380.6828 | S20: =R20*1.1 -> 1518.7511
N21: CA-60 | O21: 5mm | P21: 3214.22 | Q21: 0.16 | R21: =P21*Q21 -> 514.2752 | S21: =R21*1.1 -> 565.70272
A23: ESCAV.MANUAL DOS BLOCOS MURO | G23: VOL. CONCR. BLOCOS DO MURO fck 25mpa | N23: RELAÇAO DO AÇO (BALDRAME) DO MURO
A24: QUANT | B24: COMPR (m) | C24: LARGURA (m) | D24: ALT (m) | E24: VOL(m3) | G24: QUANT | H24: COMPR (m) | I24: LAR (m) | J24: ALT (m) | K24: VOL(m3) | N24: AÇO | O24: DIAM | P24: COMP | Q24: (kgf/m) | R24: total | S24: total c/perda 10%
A25: 58 | B25: 0.8 | C25: 0.8 | D25: 0.7 | E25: =B25*C25*D25*A25 -> 25.984 | G25: 58 | H25: 0.6 | I25: 0.6 | J25: 0.6 | K25: =J25*I25*H25*G25 -> 12.528 | N25: CA-50 | O25: 10mm | P25: 834.24 | Q25: 0.63 | R25: =P25*Q25 -> 525.5712 | S25: =R25*1.1 -> 578.12832
N26: CA-60 | O26: 5mm | P26: 1084.51 | Q26: 0.16 | R26: =P26*Q26 -> 173.5216 | S26: =R26*1.1 -> 190.87376
A27: ESCAV.MANUAL DOS BLOCOS DA EDIFICAÇAO | G27: VOL. CONCR. BLOCOS DA EDIFICAÇAO fck 25mpa
A28: QUANT | B28: COMPR (m) | C28: LARGURA (m) | D28: ALT (m) | E28: VOL(m3) | G28: QUANT | H28: COMPR (m) | I28: LAR (m) | J28: ALT (m) | K28: VOL(m3) | N28: AÇO TOTAL PARA INFRAESTRUTURA (FUNDAÇAO) EM KG
A29: 75 | B29: 0.8 | C29: 0.8 | D29: 0.7 | E29: =B29*C29*D29*A29 -> 33.6 | G29: 75 | H29: 0.6 | I29: 0.6 | J29: 0.6 | K29: =J29*I29*H29*G29 -> 16.2 | N29: CA-50 (6,3 a 10 mm) | P29: =SUM(S6,S11,S16,S20,S25) -> 4686.4114
N30: CA-60 (4.0 a 7.0mm) | P30: =S7+S12+S21+S26 -> 1443.1454
A31: ESCAV.DOS BLOCOS VOL(M3) | E31: =E29+E25 -> 59.584 | G31: VOL.CONC DOS BLOCOS (M3) | K31: =K29+K25 -> 28.728
A33: VOLUME TOTAL DE ESCAVAÇAO M3 | O33: AÇO TOTAL SUPERESTRUTURA
A34: MANUAL | C34: =SUM(E31,E20) -> 173.2684
A35: MECANIZADO | C35: =D3+D7 -> 54.7 | N35: RELAÇAO DO AÇO (PILARES) DO MURO
A36: TOT.GERAL | C36: =C35+C34 -> 227.9684 | N36: AÇO | O36: DIAM | P36: COMP | Q36: (kgf/m) | R36: total | S36: total c/perda 10%
N37: CA-50 | O37: 10mm | P37: 594 | Q37: 0.63 | R37: =P37*Q37 -> 374.22 | S37: =R37*1.1 -> 411.642
N38: CA-60 | O38: 5mm | P38: 772.2 | Q38: 0.16 | R38: =P38*Q38 -> 123.552 | S38: =R38*1.1 -> 135.9072
A39: REATERRO MAN.DOS BLOCOS DO MURO | F39: REATERRO MANUAL VIGAS BALDRAME DO MURO
A40: VOL.ESCAVADO MENOS VOL.CONCRETADO | F40: VOL.ESCAVADO MENOS VOL.CONCRETADO | N40: RELAÇAO DO AÇO (PILARES) DA EDIFICAÇAO
A41: =E25-K25 -> 13.456 | F41: =D14-J14 -> 19.1919 | N41: AÇO | O41: DIAM | P41: COMP | Q41: (kgf/m) | R41: total | S41: total c/perda 10%
N42: CA-50 | O42: 10mm | P42: 1272 | Q42: 0.63 | R42: =P42*Q42 -> 801.36 | S42: =R42*1.1 -> 881.496
A43: REATERRO MAN.DOS BLOCOS EDIFICAÇAO | F43: REATERRO MANUAL DAS VIGAS BALD. DA EDIFICAÇAO | N43: CA-60 | O43: 5mm | P43: 1488.24 | Q43: 0.16 | R43: =P43*Q43 -> 238.1184 | S43: =R43*1.1 -> 261.93024
...

Sheet Plan1
A1: ESCAVAÇAO DAS ESTACAS DO MURO | G1: VOL. DE CONCR. DAS ESTACAS DO MURO | K1: fck 25mpa
A2: QUANT | B2: DIAMETRO (m) | C2: ALT (m) | D2: VOL(m3) | G2: QUANT | H2: DIAMETRO (m) | I2: ALT (m) | J2: VOL(m3)
A3: 58 | B3: 0.3 | C3: 3 | D3: 12.29 | G3: 58 | H3: 0.3 | I3: 3 | J3: 12.29
A5: ESCAVAÇAO DAS ESTACAS DA EDIFICAÇÃO | G5: VOL. DE CONCR. DAS ESTACAS EDIFICAÇAO | K5: fck 25 mpa | N5: AÇO TOTAL INFRAESTRUTURA
A6: QUANT | B6: DIAMETRO (m) | C6: ALT (m) | D6: VOL(m3) | G6: QUANT | H6: DIAMETRO (m) | I6: ALT (m) | J6: VOL(m3)
A7: 75 | B7: 0.3 | C7: 8 | D7: 42.41 | G7: 75 | H7: 0.3 | I7: 8 | J7: 42.41 | N7: RELAÇAO DO AÇO (ESTACAS) DO MURO
N8: AÇO | O8: DIAM | P8: COMP | Q8: (kgf/m) | R8: total | S8: total c/perda 10%
A9: ESCAVAÇAO DAS VIGAS BALDRAME DO MURO | G9: VOL. CONCR. VIGAS BALDRAME DO MURO | K9: fck 25mpa | N9: CA-50 | O9: 8mm | P9: 626.4 | Q9: 0.4 | R9: =P9*Q9 -> 250.56 | S9: =R9*1.1 -> 275.616
A10: PER (m) | B10: LAR (m) | C10: ALT (m) | D10: VOL(m3) | G10: PER (m) | H10: LAR (m) | I10: ALT (m) | J10: VOL.TOT(m3) | N10: CA-60 | O10: 5mm | P10: 876.96 | Q10: 0.16 | R10: =P10*Q10 -> 140.3136 | S10: =R10*1.1 -> 154.34496
A11: 202.02 | B11: 0.25 | C11: 0.4 | D11: =B11*C11*A11 -> 20.202 | G11: 202.02 | H11: 0.15 | I11: 0.3 | J11: =H11*I11*G11 -> 9.0909
N12: RELAÇAO DO AÇO (ESTACAS) DA EDUFUCAÇAO
A13: ESCAVAÇAO DAS VIGAS BALDRAME DA EDIFICAÇAO | G13: VOL. CONCR. VIGAS BALDRAME DA EDIFICAÇAO | L13: fck 25mpa | N13: AÇO | O13: DIAM | P13: COMP | Q13: (kgf/m) | R13: total | S13: total c/perda 10%
A14: PER (m) | B14: LAR (m) | C14: ALT (m) | D14: VOL(m3) | G14: PER (m) | H14: LAR (m) | I14: ALT (m) | J14: VOL(m3) | N14: CA-50 | O14: 8mm | P14: 2160 | Q14: 0.4 | R14: =P14*Q14 -> 864 | S14: =R14*1.1 -> 950.4
A15: 533.76 | B15: 0.3 | C15: 0.4 | D15: =B15*C15*A15 -> 64.0512 | G15: 533.76 | H15: 0.2 | I15: 0.3 | J15: =H15*I15*G15 -> 32.0256 | N15: CA-60 | O15: 5mm | P15: 3024 | Q15: 0.16 | R15: =P15*Q15 -> 483.84 | S15: =R15*1.1 -> 532.224
N17: RELAÇAO DO AÇO (BLOCOS)
A18: ESCAVAÇAO DOS BLOCOS MURO | G18: VOL. CONCR. BLOCOS DO MURO fck 25mpa | N18: AÇO | O18: DIAM | P18: COMP | Q18: (kgf/m) | R18: total | S18: total c/perda 10%
A19: QUANT | B19: COMPR (m) | C19: LARGURA (m) | D19: ALT (m) | E19: VOL(m3) | G19: QUANT | H19: COMPR (m) | I19: LAR (m) | J19: ALT (m) | K19: VOL(m3) | N19: CA-50 | O19: 8mm | P19: 3098.9 | Q19: 0.4 | R19: =P19*Q19 -> 1239.56 | S19: 1363.516
A20: 58 | B20: 0.7 | C20: 0.7 | D20: 0.6 | E20: =B20*C20*D20*A20 -> 17.052 | G20: 58 | H20: 0.6 | I20: 0.6 | J20: 0.6 | K20: =J20*I20*H20*G20 -> 12.528
N21: RELAÇAO DO AÇO (BALDRAME) DA EDIFICAÇAO
A22: ESCAVAÇAO DOS BLOCOS DA EDIFICAÇAO | G22: VOL. CONCR. BLOCOS DA EDIFICAÇAO fck 25mpa | N22: AÇO | O22: DIAM | P22: COMP | Q22: (kgf/m) | R22: total | S22: total c/perda 10%
A23: QUANT | B23: COMPR (m) | C23: LARGURA (m) | D23: ALT (m) | E23: VOL(m3) | G23: QUANT | H23: COMPR (m) | I23: LAR (m) | J23: ALT (m) | K23: VOL(m3) | N23: CA-50 | O23: 10mm | P23: 2191.56 | Q23: 0.63 | R23: =P23*Q23 -> 1380.6828 | S23: =R23*1.1 -> 1518.7511
A24: 75 | B24: 0.7 | C24: 0.7 | D24: 0.6 | E24: =B24*C24*D24*A24 -> 22.05 | G24: 75 | H24: 0.6 | I24: 0.6 | J24: 0.6 | K24: =J24*I24*H24*G24 -> 16.2 | N24: CA-60 | O24: 5mm | P24: 3214.22 | Q24: 0.16 | R24: =P24*Q24 -> 514.2752 | S24: =R24*1.1 -> 565.70272
A26: VOL. TOTAL DE ESCAVACAO | D26: VOL.ESC MANUAL | G26: VOL.ESC MECANIZADO | N26: RELAÇAO DO AÇO (BALDRAME) DO MURO
A27: =D3+D7+D11+D15+E20+E24 -> 178.0552 | B27: m3 | D27: =D11+D15+E20+E24 -> 123.3552 | E27: m3 | G27: =A27-D27 -> 54.7 | H27: m3 | N27: AÇO | O27: DIAM | P27: COMP | Q27: (kgf/m) | R27: total | S27: total c/perda 10%
N28: CA-50 | O28: 10mm | P28: 834.24 | Q28: 0.63 | R28: =P28*Q28 -> 525.5712 | S28: =R28*1.1 -> 578.12832
D29: SUPERESTRUTURAS:PILAR,VIGA E LAJES | N29: CA-60 | O29: 5mm | P29: 1084.51 | Q29: 0.16 | R29: =P29*Q29 -> 173.5216 | S29: =R29*1.1 -> 190.87376
A30: PILARES DO TERREO fck 30mpa | G30: PILARES DO muro fck 30mpa
A31: QUANT | B31: COMPR (m) | C31: LARGURA (m) | D31: ALT (m) | E31: VOL(m3) | G31: QUANT | H31: COMPR (m) | I31: LARGURA (m) | J31: ALT (m) | K31: VOL(m3) | N31: AÇO TOTAL PARA INFRAESTRUTURA (FUNDAÇAO) EM KG
A32: 53 | B32: 0.45 | C32: 0.15 | D32: 3.25 | E32: =B32*C32*D32*A32 -> 11.626875 | G32: 55 | H32: 0.3 | I32: 0.15 | J32: 2.5 | K32: =H32*I32*J32*G32 -> 6.1875 | N32: CA-50 (6,3 a 10 mm) | P32: =SUM(S9,S14,S19,S23,S28) -> 4686.4114
N33: CA-60 (4.0 a 7.0mm) | P33: =S10+S15+S24+S29 -> 1443.1454
C34: PILARES DO TERREO fck 30mpa
A35: QUANT | B35: COMPR (m) | C35: LARGURA (m) | D35: ALT (m) | E35: VOL(m3) | I35: VIGAS SUPERIOR DO MURO FCK 25 MPA
A36: 22 | B36: 0.45 | C36: 0.15 | D36: 4.25 | E36: =B36*C36*D36*A36 -> 6.31125 | G36: COMP (m) | H36: LAR (m) | I36: ALT (m) | J36: VOL.TOT(m3) | O36: AÇO TOTAL SUPERESTRUTURA
G37: 159.32 | H37: 0.15 | I37: 0.3 | J37: =H37*I37*G37 -> 7.1694
C38: VIGAS DA COBERTURA 30MPA | N38: RELAÇAO DO AÇO (PILARES) DO MURO
A39: PER (m) | B39: LAR (m) | C39: ALT (m) | D39: VOL(m3) | N39: AÇO | O39: DIAM | P39: COMP | Q39: (kgf/m) | R39: total | S39: total c/perda 10%
A40: 533.76 | B40: 0.15 | C40: 0.55 | D40: =A40*B40*C40 -> 44.0352 | N40: CA-50 | O40: 10mm | P40: 594 | Q40: 0.63 | R40: =P40*Q40 -> 374.22 | S40: 411.642
N41: CA-60 | O41: 5mm | P41: 772.2 | Q41: 0.16 | R41: =P41*Q41 -> 123.552 | S41: =R41*1.1 -> 135.9072
B42: LAJE COBERTURA FCK 30mpa | D42: m3 concreto/m2 construído: | G42: 0.15
A43: AREA m2 | N43: RELAÇAO DO AÇO (PILARES) DA EDIFICAÇAO
...

Sheet Infra
B7: Fundação
B12: blocos da edificaçao | C12: Comprimento (m) | D12: Largura (m) | E12: Altura (m) | F12: Critério de Escavação | G12: Escavação (m³) | H12: Apiloamento Fundo de Valas | I12: Concreto Magro h=10cm (m³) | J12: Fôrma (m²) | K12: Concreto (m³) | L12: Reaterro (m³) | M12: Transporte Mat. Escavado (fator 1,3) (m³)
B13: B1 | C13: 0.6 | D13: 0.6 | E13: 0.06 | F13: 0.1 | G13: 1.014 | H13: =(D13+F13)*(C13+F13) -> 0.49 | I13: 0.169 | J13: =(D13*2+C13*2)*E13 -> 0.144 | K13: =D13*C13*E13 -> 0.0216 | L13: =G13-K13-I13 -> 0.8234 | M13: =(G13-L13)*1.3 -> 0.24778
B14: B2 | C14: 0 | D14: 0 | E14: 0 | F14: 0 | G14: 0 | H14: =(D14+F14)*(C14+F14) -> 0 | I14: 0 | J14: =(D14*2+C14*2)*E14 -> 0 | K14: =D14*C14*E14 -> 0 | L14: =G14-K14-I14 -> 0 | M14: 0
B15: B3 | C15: 0 | D15: 0 | E15: 0 | F15: 0 | G15: 0 | H15: =(D15+F15)*(C15+F15) -> 0 | I15: 0 | J15: =(D15*2+C15*2)*E15 -> 0 | K15: =D15*C15*E15 -> 0 | L15: =G15-K15-I15 -> 0 | M15: 0
B16: B4 | C16: 0 | D16: 0 | E16: 0 | F16: 0 | G16: 0 | H16: =(D16+F16)*(C16+F16) -> 0 | I16: 0 | J16: =(D16*2+C16*2)*E16 -> 0 | K16: =D16*C16*E16 -> 0 | L16: =G16-K16-I16 -> 0 | M16: 0
B17: B5 | C17: 0 | D17: 0 | E17: 0 | F17: 0 | G17: 0 | H17: =(D17+F17)*(C17+F17) -> 0 | I17: 0 | J17: =(D17*2+C17*2)*E17 -> 0 | K17: =D17*C17*E17 -> 0 | L17: =G17-K17-I17 -> 0 | M17: 0
B18: B6 | C18: 0 | D18: 0 | E18: 0 | F18: 0 | G18: 0 | H18: =(D18+F18)*(C18+F18) -> 0 | I18: 0 | J18: =(D18*2+C18*2)*E18 -> 0 | K18: =D18*C18*E18 -> 0 | L18: =G18-K18-I18 -> 0 | M18: 0
B19: B7 | C19: 0 | D19: 0 | E19: 0 | F19: 0 | G19: 0 | H19: =(D19+F19)*(C19+F19) -> 0 | I19: 0 | J19: =(D19*2+C19*2)*E19 -> 0 | K19: =D19*C19*E19 -> 0 | L19: =G19-K19-I19 -> 0 | M19: 0
B20: B8 | C20: 0 | D20: 1.2 | E20: 0 | F20: 0 | G20: 0 | H20: =(D20+F20)*(C20+F20) -> 0 | I20: 0 | J20: =(D20*2+C20*2)*E20 -> 0 | K20: =D20*C20*E20 -> 0 | L20: =G20-K20-I20 -> 0 | M20: 0
B21: Quantidade: | C21: 75 | D21: 0 | F21: TOTAL | G21: =SUM(G13:G13)*$C$21 -> 76.05 | H21: =SUM(H13:H13)*$C$21 -> 36.75 | I21: =SUM(I13:I13)*$C$21 -> 12.675 | J21: =SUM(J13:J13)*$C$21 -> 10.8 | K21: =SUM(K13:K13)*$C$21 -> 1.62 | L21: =SUM(L13:L13)*$C$21 -> 61.755 | M21: =SUM(M13:M13)*$C$21 -> 18.5835
E23: Considerar 10cm para cada lado na escavação devido ao uso da retro-escavadeira | F23: Considerar 10cm para cada lado na escavação | I23: Considerar que o concreto magro ocupará todo o fundo da vala | M23: Considerar empolamento de 30%
B32: Cintamento/viga baldrame
B36: Cinta / Baldrame | C36: Comprimento (m) | D36: Largura (m) | E36: Altura (m) | F36: Critério de Escavação | G36: Escavação (m³) | H36: Apiloamento Fundo de Valas | I36: Concreto Magro h=10cm (m³) | J36: Fôrma (m²) | K36: Concreto (m³) | L36: Reaterro (m³) | M36: Transporte Mat. Escavado (fator 1,3) (m³)
C37: 5 | D37: 0.3 | E37: 0.3 | F37: 0.1 | G37: 0.8 | H37: =C37*(D37+F37) -> 2 | I37: 0.2 | J37: =(C37*E37)*2 -> 3 | K37: =C37*D37*E37 -> 0.45 | L37: =G37-K37-I37 -> 0.15 | M37: =(G37-L37)*1.3 -> 0.845
B38: Quantidade: | C38: 60 | F38: Total | G38: =SUM(G37:G37)*$C$38 -> 48 | H38: =SUM(H37:H37)*$C$38 -> 120 | I38: =SUM(I37:I37)*$C$38 -> 12 | J38: =SUM(J37:J37)*$C$38 -> 180 | K38: =SUM(K37:K37)*$C$38 -> 27 | L38: =SUM(L37:L37)*$C$38 -> 9 | M38: =SUM(M37:M37)*$C$38 -> 50.7
B44: RESUMO
B45: Item | C45: Total | D45: Unidade
B46: Escavação | C46: =ROUND(SUM(G38,G21),2) -> 124.05 | D46: m3 | E46: OK
B47: Apiloamento | C47: =ROUND(SUM(H21,H38),2) -> 156.75 | D47: m2 | E47: OK
B48: Conc. Magro | C48: =ROUND(SUM(I21,I38),2) -> 24.68 | D48: m3 | E48: OK
B49: Fôrma | C49: =ROUND(SUM(J21,J38),2) -> 190.8 | D49: m2 | E49: OK
B50: Concreto | C50: =ROUND(SUM(K21,K38),2) -> 28.62 | D50: m3 | E50: OK
B51: Aço | C51: =ROUND(C50*G51,2) -> 1144.8 | D51: kg | E51: OK | F51: Kg aço/m3 concreto: | G51: 40
B52: Reaterro | C52: =ROUND(SUM(L21,L38),2) -> 70.76 | D52: m3 | E52: OK
B53: Transporte | C53: =ROUND(SUM(M21,M38),2) -> 69.28 | D53: m3 | E53: OK
B56: Impermeablização de cintas e blocos
B60: Cintas | C60: Quantidade | D60: Comprimento (m) | E60: Largura (m) | F60: Altura (m) | G60: Área impermeabilizada (m2)
C61: 60 | D61: 6 | E61: 0.3 | F61: 0.3 | G61: =((D61*E61)+((F61*D61)*2))*C61 -> 324
F62: Total | G62: =ROUND(SUM(G61:G61),2) -> 324 | H62: OK
F67: Resumo | G67: Área total impermeabilizada (m2)
F68: Cintas | G68: =G62 -> 324
F69: TOTAL | G69: =SUM(G68:G68) -> 324 | H69: OK
C74: Aterro
C77: Local | D77: Área (m2) | E77: Altura (m) | F77: Volume (m3) | I77: Local | J77: Área (m2) | K77: Altura (m) | L77: Volume (m3)
C78: Metade terreno | D78: =2256.48/2 -> 1128.24 | E78: 1.2 | F78: =D78*E78 -> 1353.888 | I78: aterro (topografia) | J78: 2189 | K78: 0.15 | L78: 1283
C79: Área total | D79: 2256.48 | E79: 0.3 | F79: =D79*E79 -> 676.944 | I79: aterro (nivel de projeto) | J79: 2189 | K79: 0.1 | L79: =J79*K79 -> 218.9
D80: Apiloamento 30%: | F80: =SUM(F78:F79)*0.3 -> 609.2496 | I80: contração volumetrica | L80: 0.9
C81: TOTAL | F81: =ROUND(SUM(F78:F80),2) -> 2640.08 | G81: OK | I81: Vol.de aterro | L81: =((L78+L79)/L80) -> 1668.7778

Sheet Super
B3: Superestrutura
B7: Área construída (m2) | D7: Fôrma (m2) | E7: Aço (kg) | F7: Concreto (m3)
B8: 1104.98 | F8: =B8*C9 -> 110.498
B9: m3 concreto/m2 construído: | C9: 0.1
B10: kgf aço/m3 concreto: | C10: 80 | E10: =F8*C10 -> 8839.84
B11: m2 forma/m3 concreto: | C11: 10 | D11: =F8*C11 -> 1104.98
C13: TOTAL | D13: =SUM(D8:D12) -> 1104.98 | E13: =SUM(E8:E12) -> 8839.84 | F13: =SUM(F8:F12) -> 110.498 | G13: OK
B18: Lajes
B21: Área (m2) | C21: Peça estrutural | D21: Aço (kg) | E21: Concreto (m3)
B22: 1104.98 | E22: =B22*C23 -> 110.498
B23: m3 concreto/m2 construído: | C23: 0.1 | D23: =E22*C24 -> 8839.84
B24: kgf aço/m3 concreto: | C24: 80
B25: m2 forma/m3 concreto: | C25: 10
C28: TOTAL | D28: =SUM(D22:D27) -> 8839.84 | E28: =SUM(E22:E27) -> 110.498 | F28: OK
B36: RESUMO
B37: Item | C37: Total | D37: Unidade
B38: Forma | C38: =ROUND(D13,2) -> 1104.98 | D38: m2 | E38: OK
B39: Aço | C39: =ROUND(SUM(E13,D28),2) -> 17679.68 | D39: kg | E39: OK
B40: Concreto | C40: =ROUND(SUM(F13,E28),2) -> 221 | D40: m3 | E40: OK
C41: =SUM(J15,J30) -> 0
B46: JUNTAS DE DILATAÇÃO
B47: Ambiente | C47: Comp.(m) | D47: Altura (m) | E47: Espaçamento (m)
B48: Térreo e cobertura | C48: 200 | D48: 3 | E48: 10
D49: Total (m) | E49: =ROUND((C48/E48)*D48,2) -> 60 | F49: OK

Sheet Alvenaria
A1: JANELAS | B1: C01 | C1: 4.2 | D1: 2 | E1: 2.1 | I1: J01 | J1: 0.6 | K1: 1 | L1: 0.6 | N1: PORTAS
I2: J02 | J2: 0.8 | K2: 1 | L2: 0.8 | O2: P2 | P2: 1.68 | Q2: 0.8 | R2: 2.1
I3: J03 | J3: 1.2 | K3: 1.5 | L3: 0.8 | O3: P3 E PV3 | P3: 1.89 | Q3: 0.9 | R3: 2.1
I4: J04 | J4: 1.8 | K4: 1.5 | L4: 1.2 | O4: P4 | P4: =0.9*2.1 -> 1.89 | Q4: 0.9 | R4: 2.1
I5: J05 | J5: 2.31 | K5: 1.4 | L5: 1.65 | O5: P5 | P5: 1.68 | Q5: 0.8 | R5: 2.1
B6: C06 | C6: =1.5*2.1 -> 3.15 | D6: 1.5 | E6: 2.1 | O6: P6 | P6: =3*3 -> 9 | Q6: 3 | R6: 3
I7: J07 | J7: 1.2 | K7: 2 | L7: 0.6 | O7: P7 | P7: =3.5*2.5 -> 8.75 | Q7: 3.5 | R7: 2.5
I8: J08 | J8: 2.4 | K8: 2 | L8: 1.2 | O8: P8 | P8: =4*2.2 -> 8.8 | Q8: 4 | R8: 2.2
I9: J09 | J9: =2*1 -> 2 | K9: 2 | L9: 1 | O9: P9 | P9: =4.7*2.5 -> 11.75 | Q9: 4.7 | R9: 2.5
I10: J10 | J10: =2*1.65 -> 3.3 | K10: 2 | L10: 1.65
I11: J11 | J11: =2.5*0.9 -> 2.25 | K11: 2.5 | L11: 0.9
I12: J12 | J12: =2.5*1.2 -> 3 | K12: 2.5 | L12: 1.2
I13: J13 | J13: =3*1.2 -> 3.6 | K13: 3 | L13: 1.2
B17: Levantamento de Quantitativos de Alvenaria
B20: Alvenaria
D22: DADOS DE ENTRADA | H22: ALVENARIA
B23: Descrição | E23: Dimensões
B24: Pavimento | C24: Ambiente | D24: Quantidade | E24: Perímetro (m) | F24: Pé-direito (m) | G24: Descontos (m2) | H24: Material | I24: Área (m2)
B25: Térreo | C25: Muro | D25: 1 | E25: 170.9505 | F25: 2.5 | G25: =2*(3.5*2.5) -> 17.5 | H25: Bloco concreto 14cm | I25: =((E25*F25)-G25)*D25 -> 409.87625
B26: Térreo | C26: Parede ext. horizontal | D26: 1 | E26: 143.892 | F26: 3.1 | G26: =(J12+J12+J12+J12+P5+J7+P5+P8+J7+P8+P8+J7+P8+C1+C1+P8+J7+P8+P8+J7+P8+J11+J9+J12+J13+J1+J1+J8+J13+J1+J1+J1) -> 120.01 | H26: Bloco concreto 14cm | I26: =((E26*F26)-G26)*D26 -> 326.0552
B27: Térreo | C27: Parede ext. vertical | D27: 1 | E27: =(6.05+6.05+14.85+14.85+14.55+0.51+0.51+0.65+0.65+0.4+0.4+0.4+0.4+0.65+0.65)*(1.05) -> 64.6485 | F27: 3.1 | G27: =(P8+P8+J12+J12+J7+J12+J12+J12+J12+J8+J12+J12+J2+P3+P3+J4+J11+J9+C6+C6+J1+J1+P3+P3+J1) -> 67.71 | H27: Bloco concreto 14cm | I27: =((E27*F27)-G27)*D27 -> 132.70035
B28: Térreo | C28: Parede int. horizontal | D28: 1 | E28: =(2.6+0.9+2.6+3.68+2.1+0.9+10.15+6.06+6.06+2.15+1.52)*(1.05) -> 40.656 | F28: 3.1 | G28: 26.79 | H28: Tijolo Cerâmico 14cm | I28: =((E28*F28)-G28)*D28 -> 99.2436
B29: Térreo | C29: Parede int. vertical | D29: 1 | E29: =(6.05+6.05+6+6+6+6+6+6+2.5+2.5+2.5+6.05+6.05+6.05+6.05+6.05+6.05+5.3+0.71+6.29+6.35+9.09+9.2+2.05)*(1.05) -> 137.4345 | F29: 3.1 | G29: =(P3+P3+P3+P3+P3+P3+(1*2.1)+J10+J5+P8+J13+P4+P3+P3+(1.03*2.1)+P3+P2+P2+P3) -> 46.423 | H29: Tijolo Cerâmico 14cm | I29: =((E29*F29)-G29)*D29 -> 379.62395
B30: Térreo recepção | C30: Parede ext. horizontal | D30: 1 | E30: =(13.57+19.27+2.56+3.05)*(1.05) -> 40.3725 | F30: 3.95 | H30: Bloco Concreto 14cm | I30: =((E30*F30)-G30)*D30 -> 159.47138
B31: Térreo recepção | C31: Parede ext. vertical | D31: 1 | E31: =(12.46+3.92+1.51+1.77)*(1.05) -> 20.643 | F31: 3.95 | H31: Bloco Concreto 14cm | I31: =((E31*F31)-G31)*D31 -> 81.53985
B32: Térreo recepção | C32: Parede int. horizontal | D32: 1 | E32: =(1.3+10.25+7.55+7.75)*(1.05) -> 28.1925 | F32: 3.95 | H32: Tijolo Cerâmico 14cm | I32: =((E32*F32)-G32)*D32 -> 111.36038
B33: Térreo recepção | C33: Parede int. vertical | D33: 1 | E33: =(7.3+5.67+5.52+5.67+2.3+3.2+2.77+2.77+1.8+2.77)*(1.05) -> 41.7585 | F33: 3.95 | H33: Tijolo Cerâmico 14cm | I33: =((E33*F33)-G33)*D33 -> 164.94608
B34: Térreo pilares | C34: 06 pilares fachada | D34: 1 | E34: =2*(2.08+2.08+2.08)+2*(2.12+2.12+2.12) -> 25.2 | F34: 5.26 | H34: Tijolo Cerâmico 14cm | I34: =((E34*F34)-G34)*D34 -> 132.552
B35: Térreo pórtico | C35: Pórtico à esquerda | D35: 1 | E35: =2*(3.3)*(1.05) -> 6.93 | F35: 5.36 | H35: Tijolo Cerâmico 14cm | I35: =((E35*F35)-G35)*D35 -> 37.1448
B36: Térreo portão | C36: Portão acesso principal | D36: 2 | E36: =2*(1.18)*(10.5) -> 24.78 | F36: 2.5 | H36: Tijolo Cerâmico 14cm | I36: =((E36*F36)-G36)*D36 -> 123.9
B37: Térreo mureta | C37: Mureta entrada | D37: 1 | E37: =(19.87+3.21)*(1.05) -> 24.234 | F37: 0.8 | H37: Bloco Concreto 14cm | I37: =((E37*F37)-G37)*D37 -> 19.3872
B38: Cobertura | C38: Empena ou oitão | D38: 4 | E38: 6.75 | F38: 1.05 | H38: Bloco concreto 14cm | I38: =((E38*F38)-G38)*D38 -> 28.35
B39: Cobertura | C39: Caixa D'água | D39: 1 | E39: =(25.79)*(1.05) -> 27.0795 | F39: 2.7 | H39: Bloco concreto 14cm | I39: =((E39*F39)-G39)*D39 -> 73.11465
B40: Cobertura | C40: Platibanda | D40: 1 | E40: =(43.42+52.87+50.39+56.85+75.7)*(1.05) -> 293.1915 | F40: 1.5 | H40: Bloco concreto 14cm | I40: =((E40*F40)-G40)*D40 -> 439.78725
D41: TOTAL | E41: =SUM(E25:E40) -> 1096.713 | G41: =SUM(G25:G40) -> 278.433 | I41: =SUM(I25:I40) -> 2719.0529
B44: Resumo Alvenaria
B45: Total Geral
D46: RESUMO ALVENARIA
D47: TIPO DE MATERIAL | E47: +10% | F47: Área (m2)
D48: Tijolo Cerâmico 14cm | E48: 1.1 | F48: =ROUND(SUMIF(H25:I40,"Tijolo Cerâmico 14cm",I25:I40)*E48,2) -> 1153.65 | G48: OK
...

Sheet Acabamentos
A1: JANELAS | B1: C01 | C1: 4.2 | D1: 2 | E1: 2.1 | I1: J01 | J1: 0.6 | K1: 1 | L1: 0.6 | N1: PORTAS
I2: J02 | J2: 0.8 | K2: 1 | L2: 0.8 | O2: P2 | P2: 1.68 | Q2: 0.8 | R2: 2.1
I3: J03 | J3: 1.2 | K3: 1.5 | L3: 0.8 | O3: P3 E PV3 | P3: 1.89 | Q3: 0.9 | R3: 2.1
I4: J04 | J4: 1.8 | K4: 1.5 | L4: 1.2 | O4: P4 | P4: 1.89 | Q4: 0.9 | R4: 2.1
I5: J05 | J5: 2.31 | K5: 1.4 | L5: 1.65 | O5: P5 | P5: 1.68 | Q5: 0.8 | R5: 2.1
B6: C06 | C6: 3.15 | D6: 1.5 | E6: 2.1 | O6: P6 | P6: =3*3 -> 9 | Q6: 3 | R6: 3
I7: J07 | J7: =2*0.6 -> 1.2 | K7: 2 | L7: 0.6 | O7: P7 | P7: =3.5*2.5 -> 8.75 | Q7: 3.5 | R7: 2.5
I8: J08 | J8: 2.4 | K8: 2 | L8: 1.2 | O8: P8 | P8: 8.8 | Q8: 4 | R8: 2.2
I9: J09 | J9: =2*1 -> 2 | K9: 2 | L9: 1 | O9: P9 | P9: 11.75 | Q9: 4.7 | R9: 2.5
I10: J10 | J10: 3.3 | K10: 2 | L10: 1.65
I11: J11 | J11: 2.25 | K11: 2.5 | L11: 0.9
I12: J12 | J12: 3 | K12: 2.5 | L12: 1.2
I13: J13 | J13: 3.6 | K13: 3 | L13: 1.2
B19: Acabamentos
E21: DADOS DE ENTRADA | Q21: REVESTIMENTO
B22: DESCRIÇÃO | E22: DIMENSÕES | I22: DESCONTOS | L22: PAREDES | N22: PAREDES | P22: TETOS | R22: PISOS | T22: RODAPÉ
B23: Pavimento | C23: Ambiente | D23: Quantidade | E23: Área (m2) | F23: Perímetro (m) | G23: Pé-direito (m) | H23: Parede (m2) | I23: Teto (m2) | J23: Piso (m2) | K23: Rodapé (m) | L23: Tipo de Revestimento | M23: ÁREA (m²) | N23: Pintura e emassamento | O23: ÁREA (m²) | P23: Pintura e emassamento | Q23: Área (m2) | R23: Tipo de Revestimento | S23: Área (m2) | T23: Tipo de Revestimento | U23: Comprimento (m)
B24: Térreo | C24: Recepção | D24: 1 | E24: 40.16 | F24: 33.39 | G24: 2.8 | H24: =P8+J13+(3.28*2.8)+(8.84*2.8)+(1.65*2.8)+P5 -> 52.636 | K24: 17.65 | L24: Porcelanato 60x60 Avorio | M24: =((F24*G24-H24)*D24)/2 -> 20.428 | N24: Pintura PVA | O24: =M24 -> 20.428 | P24: Pintura PVA | Q24: =(E24-I24)*D24 -> 40.16 | R24: Granito | S24: =(E24-J24)*D24 -> 40.16 | T24: =R24 -> Granito | U24: =(F24-K24)*D24 -> 15.74
B25: Térreo | C25: Secretaria | D25: 1 | E25: 25.95 | F25: 20.44 | G25: 2.8 | H25: =J13+J13+P4+P5 -> 10.77 | K25: =Q6+Q4 -> 3.9 | L25: Pintura PVA | M25: =(F25*G25-H25)*D25 -> 46.462 | P25: Pintura PVA | Q25: =(E25-I25)*D25 -> 25.95 | R25: Porcelanato | S25: =(E25-J25)*D25 -> 25.95 | T25: =R25 -> Porcelanato | U25: =(F25-K25)*D25 -> 16.54
B26: Térreo | C26: Arquivo | D26: 1 | E26: 14.03 | F26: 16.44 | G26: 2.8 | H26: =J1+P4 -> 2.49 | K26: =Q4 -> 0.9 | L26: Pintura PVA | M26: =(F26*G26-H26)*D26 -> 43.542 | P26: Pintura PVA | Q26: =(E26-I26)*D26 -> 14.03 | R26: Porcelanato | S26: =(E26-J26)*D26 -> 14.03 | T26: =R26 -> Porcelanato | U26: =(F26-K26)*D26 -> 15.54
B27: Térreo | C27: Circulação | D27: 1 | E27: 25.8 | F27: 41.56 | G27: 2.8 | H27: =(1.65*2.8)+P5+P5+P5+P3+P3+J1+J1+P3 -> 16.53 | K27: =1.65+Q5+Q3+Q3+Q3+Q5+Q5 -> 6.75 | L27: Porcelanato 60x60 Avorio | M27: =((F27*G27-H27)*D27)/2 -> 49.919 | N27: Pintura PVA | O27: =M27 -> 49.919 | P27: Pintura PVA | Q27: =(E27-I27)*D27 -> 25.8 | R27: Granito | S27: =(E27-J27)*D27 -> 25.8 | T27: =R27 -> Granito | U27: =(F27-K27)*D27 -> 34.81
B28: Térreo | C28: Coordenação | D28: 1 | E28: 11.67 | F28: 14.14 | G28: 2.8 | H28: 10.248 | K28: =Q5+3.06 -> 3.86 | L28: Pintura PVA | M28: =(F28*G28-H28)*D28 -> 29.344 | P28: Pintura PVA | Q28: =(E28-I28)*D28 -> 11.67 | R28: Porcelanato | S28: =(E28-J28)*D28 -> 11.67 | T28: =R28 -> Porcelanato | U28: =(F28-K28)*D28 -> 10.28
B29: Térreo | C29: Direção | D29: 1 | E29: 9.73 | F29: 14.2 | G29: 2.8 | H29: =J8+P5+P2 -> 5.76 | K29: =Q5+Q2 -> 1.6 | L29: Pintura PVA | M29: =(F29*G29-H29)*D29 -> 34 | P29: Pintura PVA | Q29: =(E29-I29)*D29 -> 9.73 | R29: Porcelanato | S29: =(E29-J29)*D29 -> 9.73 | T29: =R29 -> Porcelanato | U29: =(F29-K29)*D29 -> 12.6
B30: Térreo | C30: Banho | D30: 1 | E30: 2.8 | F30: 6.9 | G30: 2.8 | H30: =J1+P2 -> 2.28 | K30: 6.9 | L30: Cerâmica ret. 30x50 Branca | M30: =(F30*G30-H30)*D30 -> 17.04 | P30: Pintura PVA | Q30: =(E30-I30)*D30 -> 2.8 | R30: Porcelanato | S30: =(E30-J30)*D30 -> 2.8 | T30: =R30 -> Porcelanato
B31: Térreo | C31: Sala de Professores | D31: 1 | E31: 19.84 | F31: 18.8 | G31: 2.8 | H31: =J13+P5 -> 5.28 | K31: =Q5 -> 0.8 | L31: Pintura PVA | M31: =(F31*G31-H31)*D31 -> 47.36 | P31: Pintura PVa | Q31: =(E31-I31)*D31 -> 19.84 | R31: Porcelanato | S31: =(E31-J31)*D31 -> 19.84 | T31: =R31 -> Porcelanato | U31: =(F31-K31)*D31 -> 18
B32: Térreo | C32: WC PNE Fem | D32: 1 | E32: 2.7 | F32: 6.6 | G32: 2.8 | H32: =P3+J1 -> 2.49 | K32: 6.6 | L32: Porcelanato 60x60 Avorio | M32: =(F32*G32-H32)*D32 -> 15.99 | P32: Pintura PVA | Q32: =(E32-I32)*D32 -> 2.7 | R32: Porcelanato | S32: =(E32-J32)*D32 -> 2.7 | T32: =R32 -> Porcelanato
B33: Térreo | C33: WC PNE | D33: 1 | E33: 2.7 | F33: 6.6 | G33: 2.8 | H33: =P3+J1 -> 2.49 | K33: 6.6 | L33: Porcelanato 60x60 Avorio | M33: =(F33*G33-H33)*D33 -> 15.99 | P33: Pintura PVA | Q33: =(E33-I33)*D33 -> 2.7 | R33: Porcelanato | S33: =(E33-J33)*D33 -> 2.7 | T33: =R33 -> Porcelanato
