Workbook
Name ASDF: #REF!
Name Bm.Periodos: '[1]Orçamento e Medição'!$Q$12:$AB$12
Name Bm.posAtual: IF(mediçao<N(Bm.Periodos),-1,MATCH(mediçao,Bm.Periodos)-1)
Name de: #REF!
Name dsadsd: 'MEDIÇÃO 01'!$A$1:$P$7
Name dsadsd: orçamento!$A$1:$H$7
Name DSFSFSD: 'MEDIÇÃO 01'!$1:$7
Name DSFSFSD: orçamento!$1:$7
Name éAcertoGlosa: SUM(Orç.éGlosado)
Name éAditadoDepois: COUNTIF(Orç.colAdit,">"&mediçao)
Name éAditadoNoPeríodo: COUNTIF(Orç.colAdit,mediçao)
Name eqwewqewqeqwe: 'MEDIÇÃO 01'!$1:$7
Name eqwewqewqeqwe: orçamento!$1:$7
Name FDSA: #N/A
Name fdsdsfadsfadsf: 'MEDIÇÃO 01'!$1:$7
Name fdsdsfadsfadsf: orçamento!$1:$7
Name gghfdgds: 'MEDIÇÃO 01'!$1:$7
Name gghfdgds: orçamento!$1:$7
Name jkljj: 'MEDIÇÃO 01'!$A$1:$P$260
Name jkljj: orçamento!$A$1:$H$405
Name mediçao: [1]RESUMO!$M$2
Name Orç.colAcum: '[1]Orçamento e Medição'!$N$13:$N$51
Name Orç.colAdit: '[1]Orçamento e Medição'!$J$13:$J$51
Name Orç.éAditado: LEN(TRIM(Orç.colAdit))
Name Orç.éGlosado: IF(Orç.colAdit=mediçao,IF(ISNUMBER(Orç.colAcum),IF(Orç.colAcum-IF(ISNUMBER(Bm.colAtual),Bm.colAtual)>IF(Orç.quantLic<Orç.quant,Orç.quantLic,Orç.quant),1)))*1
Name Orç.quant: IF(Orç.éAditado*ISNUMBER(Orç.quantAlt),Orç.quantAlt,Orç.quantLic)
Name Orç.quantAlt: '[1]Orçamento e Medição'!$H$13:$H$51
Name Orç.quantLic: '[1]Orçamento e Medição'!$F$13:$F$51
Name reqferff: 'MEDIÇÃO 01'!$A$1:$P$260
Name reqferff: orçamento!$A$1:$H$405
Name Res.éAditadoDepois: COUNTIF(OFFSET(Orç.colAdit,Res.posInicio,,Res.posDelta,1),">"&mediçao)
Name Res.éAditadoNoPeriodo: COUNTIF(OFFSET(Orç.colAdit,Res.posInicio,,Res.posDelta,1),mediçao)
Name Res.posDelta: INDIRECT(ADDRESS(ROW(),16))
Name Res.posInicio: INDIRECT(ADDRESS(ROW(),15))
Name tabBM: '[1]Orçamento e Medição'!$Q$13:$AB$51
Name TipoContrato: #REF!
Name wqeqwe: 'MEDIÇÃO 01'!$1:$7
Name wqeqwe: orçamento!$1:$7

Sheet orçamento
A1: ESTADO DO ESPIRITO SANTO | E1: Planilha Orçamentária
A2: MUNICIPIO DE GUARAPARI
A3: OBJETO: | B3: CONSTRUÇÃO DO PRÉDIO ESCOLAR - CEMEI PORTAL CLUB | G3: ÁREA: | H3: 1434,21 m²
A4: CONTRATANTE: | B4: PREFEITURA MUNICIPAL DE GUARAPARI/ES | G4: DATA: | H4: 44314
A5: REFERENCIAS | B5: SINAPI 2021/01, IOPES 2021/01, ORSE 2021/01, SUDECAP 2021/01 E SETOP 2021/01. | G5: BDI: | H5: 0.2661
A7: Item | B7: Cod | C7: Referência | D7: Descrição do Serviço | E7: Unid. | F7: Quant. | G7: P. Unit. | H7: Total
A8: 1 | D8: SERVIÇOS PRELIMINARES
A9: 1.1 | D9: LIMPEZA DO TERRENO | J9: VALOR S/ BDI | L9: VALOR C/BDI
A10: 1.2 | B10: 10402 | C10: IOPES | D10: Raspagem e limpeza do terreno (manual) | E10: m² | F10: =INFRA!C122 -> 3094.93 | G10: =L10 -> 4.15 | H10: =IF(E10<>0,F10*G10,"") -> 12843.96 | J10: 3.28 | L10: =ROUND((J10*(1+$H$5)),2) -> 4.15
A11: 2 | D11: LOCAÇÃO | L11: =ROUND((J11*(1+$H$5)),2) -> 0
A12: 2.1 | B12: 10501 | C12: IOPES | D12: Locação de obra com gabarito de madeira | E12: m² | F12: =INFRA!C124 -> 1434.21 | G12: =L12 -> 9.55 | H12: =IF(E12<>0,F12*G12,"") -> 13696.706 | J12: 7.54 | L12: =ROUND((J12*(1+$H$5)),2) -> 9.55
A13: 3 | D13: INSTALAÇÃO DO CANTEIRO DE OBRAS | L13: =ROUND((J13*(1+$H$5)),2) -> 0
A14: 3.1 | D14: TAPUMES, BARRACÕES E COBERTURAS | L14: =ROUND((J14*(1+$H$5)),2) -> 0
A15: 3.1.1 | B15: 20305 | C15: IOPES | D15: Placa de obra nas dimensões de 2.0 x 4.0 m, padrão IOPES | E15: m² | F15: =2*4 -> 8 | G15: =L15 -> 307.09 | H15: =IF(E15<>0,F15*G15,"") -> 2456.72 | J15: 242.55 | L15: =ROUND((J15*(1+$H$5)),2) -> 307.09
A16: 3.1.2 | B16: 20350 | C16: IOPES | D16: Tapume Telha Metálica Ondulada em aço galvalume 0,50mm Branca h=2,20m, incl. montagem estr. mad. 8"x8", c/adesivo "IOPES" 60x60cm a cada 10m, incl. faixas pint. esmalte sint. cores azul c/ h=30cm e rosa c/ h=10cm (Reaproveitamento 2x) | E16: m | F16: =INFRA!B128 -> 53.66 | G16: =L16 -> 205.75 | H16: =IF(E16<>0,F16*G16,"") -> 11040.545 | J16: 162.51 | L16: =ROUND((J16*(1+$H$5)),2) -> 205.75
A17: 3.2 | D17: INSTALAÇÃO DO CANTEIRO DE OBRAS (UTILIZAÇÃO 2 VEZES), PROJETO PADRÃO LABOR - NR.18 (OBRAS COM PRAZO DE EXECUÇÃO DE 6 A 12 MESES) | L17: =ROUND((J17*(1+$H$5)),2) -> 0
A18: 3.2.1 | B18: 20702 | C18: IOPES | D18: Barracão para almoxarifado área de 10.90m2, de chapa de compensado de 12mm e pontalete 8x8cm, piso cimentado e cobertura de telhas de fibrocimento de 6mm, incl. ponto de luz, conf. projeto (1 utilização) | E18: m² | F18: 10.9 | G18: =L18 -> 506.57 | H18: =IF(E18<>0,F18*G18,"") -> 5521.613 | J18: 400.1 | L18: =ROUND((J18*(1+$H$5)),2) -> 506.57
A19: 3.2.2 | B19: 20810 | C19: IOPES | D19: Reservatório de poliestileno de 500 L, incl. suporte em madeira de 7x12cm e 5x7cm, elevado de 4m, conforme projeto (2 utilizações) | E19: und | F19: 1 | G19: =L19 -> 1320.16 | H19: =IF(E19<>0,F19*G19,"") -> 1320.16 | J19: 1042.7 | L19: =ROUND((J19*(1+$H$5)),2) -> 1320.16
A20: 3.2.3 | B20: 20812 | C20: IOPES | D20: Rede de água, com padrão de entrada d'água diâm. 3/4", conf. espec. CESAN, incl. tubos e conexões para alimentação, distribuição, extravasor e limpeza, cons. o padrão a 25m, conf. projeto (2 utilizações) | E20: m | F20: =INFRA!A131 -> 5 | G20: =L20 -> 31.59 | H20: =IF(E20<>0,F20*G20,"") -> 157.95 | J20: 24.95 | L20: =ROUND((J20*(1+$H$5)),2) -> 31.59
A21: 3.2.4 | B21: 20713 | C21: IOPES | D21: Rede de luz, incl. padrão entrada de energia trifás., cabo de ligação até barracões, quadro de distrib., disj. E chave de força (quando necessário), cons. 20m entre padrão entrada e QDG, conf. projeto (1 utilização) | E21: m | F21: 20 | G21: =L21 -> 626.62 | H21: =IF(E21<>0,F21*G21,"") -> 12532.4 | J21: 494.92 | L21: =ROUND((J21*(1+$H$5)),2) -> 626.62
A22: 3.2.5 | B22: 20704 | C22: IOPES | D22: Refeitório com paredes de chapa de compens. 12mm e pontaletes 8x8cm, piso ciment. e cob. de telhas fibroc. 6mm, incl. ponto de luz e cx. de inspeção (cons. 1.21 m2/func./turno), conf. projeto (1 utilização) | E22: m² | F22: 12 | G22: =L22 -> 408.52 | H22: =IF(E22<>0,F22*G22,"") -> 4902.24 | J22: 322.66 | L22: =ROUND((J22*(1+$H$5)),2) -> 408.52
A23: 3.2.6 | B23: 20706 | C23: IOPES | D23: Unidade de sanitário e vestiário de 20 a 40 func. área 25.40m2, paredes de chapa compens. 12mm e pontalete 8x8cm, piso cimentado, cobert. telha fibroc. 6mm, incl. inst. de luz e cx. de inspeção, conf. Projeto (1 utilização) | E23: und | F23: 1 | G23: =L23 -> 20293.87 | H23: =IF(E23<>0,F23*G23,"") -> 20293.87 | J23: 16028.65 | L23: =ROUND((J23*(1+$H$5)),2) -> 20293.87
A24: 3.2.7 | B24: 20714 | C24: IOPES | D24: Rede de esgoto, contendo fossa e filtro, inclusive tubos e conexões de ligação entre caixas, considerando distância de 25m, conforme projeto (1 utilização) | E24: m | F24: 25 | G24: =L24 -> 364.24 | H24: =IF(E24<>0,F24*G24,"") -> 9106 | J24: 287.69 | L24: =ROUND((J24*(1+$H$5)),2) -> 364.24
A25: 4 | D25: MOVIMENTAÇÃO DE TERRA | H25: =IF(E25<>0,F25*G25,"") | L25: =ROUND((J25*(1+$H$5)),2) -> 0
A26: 4.1 | D26: ESCAVAÇÃO | H26: =IF(E26<>0,F26*G26,"") | L26: =ROUND((J26*(1+$H$5)),2) -> 0
A27: 4.1.1 | B27: 030101 | C27: IOPES | D27: Escavação manual em material de 1a. categoria, até 1.50m de profundidade | E27: m³ | F27: =INFRA!W52 -> 194.1198 | G27: =L27 -> 53.99 | H27: =IF(E27<>0,F27*G27,"") -> 10480.528 | J27: 42.64 | L27: =ROUND((J27*(1+$H$5)),2) -> 53.99
A28: 4.1.2 | B28: 030119 | C28: IOPES | D28: Apiloamento do fundo de vala com maço de 30 a 60 kg | E28: m² | F28: =INFRA!X97 -> 160.326 | G28: =L28 -> 28.23 | H28: =IF(E28<>0,F28*G28,"") -> 4526.003 | J28: 22.3 | L28: =ROUND((J28*(1+$H$5)),2) -> 28.23
A29: 4.2 | D29: REATERRO E COMPACTAÇÃO | H29: =IF(E29<>0,F29*G29,"") | L29: =ROUND((J29*(1+$H$5)),2) -> 0
A30: 4.2.1 | B30: 030201 | C30: IOPES | D30: Reaterro apiloado de cavas de fundação, em camadas de 20cm | E30: m³ | F30: =INFRA!X80 -> 128.97913 | G30: =L30 -> 58.14 | H30: =IF(E30<>0,F30*G30,"") -> 7498.8467 | J30: 45.92 | L30: =ROUND((J30*(1+$H$5)),2) -> 58.14
A31: 4.2.2 | B31: 030210 | C31: IOPES | D31: Aterro compactado utilizando compactador de placa vibratória com reaproveitamento do material | E31: m³ | F31: =INFRA!AC80 -> 2202.5 | G31: =L31 -> 28.84 | H31: =IF(E31<>0,F31*G31,"") -> 63520.1 | J31: 22.78 | L31: =ROUND((J31*(1+$H$5)),2) -> 28.84
A32: 4.3 | D32: TRANSPORTES | H32: =IF(E32<>0,F32*G32,"") | L32: =ROUND((J32*(1+$H$5)),2) -> 0
A33: 4.3.1 | B33: 30304 | C33: IOPES | D33: Índice de preço para remoção de entulho decorrente da execução de obras (classe a CONAMA - NBR 10.004 - Classe II-B), incluindo aluguel da caçamba, carga, transporte e descraga em área licenciada. | E33: m³ | F33: =INFRA!X89 -> 84.682869 | G33: =L33 -> 67.45 | H33: =IF(E33<>0,F33*G33,"") -> 5711.8595 | J33: 53.27 | L33: =ROUND((J33*(1+$H$5)),2) -> 67.45
A34: 5 | D34: ESTRUTURAS | H34: =IF(E34<>0,F34*G34,"") | L34: =ROUND((J34*(1+$H$5)),2) -> 0
A35: 5.1 | D35: INFRA-ESTRUTURA (FUNDAÇÃO) | H35: =IF(E35<>0,F35*G35,"") | L35: =ROUND((J35*(1+$H$5)),2) -> 0
A36: 5.1.1 | B36: 040206 | C36: IOPES | D36: Fôrma de tábua de madeira de 2.5 x 30.0cm para fundações, levando-se em conta a utilização 5 vezes ( incluido o material, corte, montagem, escoramneto e desforma) | E36: m² | F36: =INFRA!W66 -> 543.13836 | G36: =L36 -> 76.98 | H36: =IF(E36<>0,F36*G36,"") -> 41810.791 | J36: 60.8 | L36: =ROUND((J36*(1+$H$5)),2) -> 76.98
A37: 5.1.2 | B37: 30203 | C37: IOPES | D37: Lastro de brita 3 e 4, apiloado manualmente | E37: m³ | F37: =INFRA!Y110 -> 8.0163 | G37: =L37 -> 178.32 | H37: =IF(E37<>0,F37*G37,"") -> 1429.4666 | J37: 140.84 | L37: =ROUND((J37*(1+$H$5)),2) -> 178.32
A38: 5.1.3 | B38: 040240 | C38: IOPES | D38: Fornecimento e aplicação de concreto USINADO Fck=25 MPa - considerando lançamento MANUAL para INFRA-ESTRUTURA (5% de perdas já incluido no custo) | E38: m³ | F38: =INFRA!W59 -> 68.397702 | G38: =L38 -> 553.32 | H38: =IF(E38<>0,F38*G38,"") -> 37845.816 | J38: 437.03 | L38: =ROUND((J38*(1+$H$5)),2) -> 553.32
A39: 5.1.4 | B39: 040243 | C39: IOPES | D39: Fornecimento, dobragem e colocação em fôrma, de armadura CA- 50A média, diâmetro de 6.3 a 10.0mm | E39: kg | F39: =SUPER!M8 -> 1378.22 | G39: =L39 -> 13.76 | H39: =IF(E39<>0,F39*G39,"") -> 18964.307 | J39: 10.87 | L39: =ROUND((J39*(1+$H$5)),2) -> 13.76
A40: 5.1.5 | B40: 040245 | C40: IOPES | D40: Fornecimento, dobragem e colocação em fôrma, de armadura CA- 50A grossa, diâmetro de 12.5 a 25.0mm ( 1/2 a 1") | E40: kg | F40: =SUPER!M9 -> 627.76 | G40: =L40 -> 13.79 | H40: =IF(E40<>0,F40*G40,"") -> 8656.8104 | J40: 10.89 | L40: =ROUND((J40*(1+$H$5)),2) -> 13.79
A41: 5.1.6 | B41: 040246 | C41: IOPES | D41: Fornecimento, dobragem e colocação em fôrma, de armadura CA- 60 B fina, diâmetro de 4.0 a 7.0mm | E41: kg | F41: =SUPER!M10 -> 842.67 | G41: =L41 -> 15.16 | H41: =IF(E41<>0,F41*G41,"") -> 12774.877 | J41: 11.97 | L41: =ROUND((J41*(1+$H$5)),2) -> 15.16
...

Sheet Cronograma Fís-Financ 
B3: CRONOGRAMA FÍSICO - FINANCEIRO
B4: OBRA: | C4: =orçamento!B3 -> CONSTRUÇÃO DO PRÉDIO ESCOLAR - CEMEI PORTAL CLUB
B5: LOCAL: | C5: BAIRRO PORTAL CLUBE
B6: DATA: | C6: =orçamento!H4 -> 44314
B8: ITEM | C8: ATIVIDADE | D8: CUSTO TOTAL | F8: 1º Mês | G8: 2º Mês | H8: 3º Mês | I8: 4º Mês | J8: 5º Mês | K8: 6º Mês | L8: 7º Mês | M8: 8º Mês | N8: 9º Mês | O8: 10º Mês | P8: 11º Mês | Q8: 12º Mês
F9: _____________ | G9: _____________ | H9: _____________ | I9: _____________ | J9: _____________ | K9: _____________ | L9: _____________ | M9: _____________ | N9: _____________ | O9: _____________ | P9: _____________ | Q9: _____________
B10: 1 | C10: =[2]Planilha!C21 -> SERVIÇOS PRELIMINARES | D10: =E10/$E$68 -> 0.0032748758 | E10: =orçamento!H10 -> 12843.96 | F10: =E10*F11 -> 12843.96
D11: =E11/$E$68 -> 0 | F11: 1
B12: 2 | C12: =[2]Planilha!C24 -> LOCAÇÃO | D12: =E12/$E$68 -> 0.0034923038 | E12: =orçamento!H12 -> 13696.706 | F12: =$E$12*F13 -> 13696.706
F13: 1
B14: 3 | C14: =[2]Planilha!C26 -> INSTALAÇÃO DO CANTEIRO DE OBRAS | D14: =E14/$E$68 -> 0.017167782 | E14: =SUM(orçamento!H15:H24) -> 67331.498 | F14: =$E$14*F15 -> 67331.498
F15: 1
B16: 4 | C16: =[2]Planilha!C35 -> MOVIMENTO DE TERRA | D16: =E16/$E$68 -> 0.023390636 | E16: =SUM(orçamento!H27:H33) -> 91737.337 | F16: =$E$16*F17 -> 55042.402 | G16: =$E$16*G17 -> 18347.467 | H16: =$E$16*H17 -> 18347.467
F17: 0.6 | G17: 0.2 | H17: 0.2
B18: 5 | C18: =[2]Planilha!C43 -> ESTRUTURAS | D18: =E18/$E$68 -> 0.30911173 | E18: =SUM(orçamento!H36:H52) -> 1212326.4 | G18: =$E$18*G19 -> 303081.61 | H18: =$E$18*H19 -> 303081.61 | I18: =$E$18*I19 -> 303081.61 | J18: =$E$18*J19 -> 303081.61
G19: 0.25 | H19: 0.25 | I19: 0.25 | J19: 0.25
B20: 6 | C20: =[2]Planilha!C52 -> PAREDES E PAINÉIS | D20: =E20/$E$68 -> 0.032298648 | E20: =SUM(orçamento!H55:H59) -> 126674.28 | J20: =$E$20*J21 -> 38002.284 | K20: =$E$20*K21 -> 38002.284 | L20: =$E$20*L21 -> 38002.284 | M20: =$E$20*M21 -> 12667.428
J21: 0.3 | K21: 0.3 | L21: 0.3 | M21: 0.1
B22: 7 | C22: ESQUADRIAS DE MADEIRA | D22: =E22/$E$68 -> 0.0070996773 | E22: =SUM(orçamento!H62:H66) -> 27844.71 | K22: =$E$22*K23 -> 6961.1776 | L22: =$E$22*L23 -> 6961.1776 | M22: =$E$22*M23 -> 6961.1776 | N22: =$E$22*N23 -> 6961.1776
K23: 0.25 | L23: 0.25 | M23: 0.25 | N23: 0.25
B24: 8 | C24: =[2]Planilha!C57 -> ESQUADRIAS METÁLICAS | D24: =E24/$E$68 -> 0.021592527 | E24: =SUM(orçamento!H69:H70) -> 84685.211 | K24: =$E$24*K25 -> 21171.303 | L24: =$E$24*L25 -> 21171.303 | M24: =$E$24*M25 -> 21171.303 | N24: =$E$24*N25 -> 21171.303
K25: 0.25 | L25: 0.25 | M25: 0.25 | N25: 0.25
B26: 9 | C26: =[2]Planilha!C63 -> VIDROS E ESPELHOS | D26: =E26/$E$68 -> 0.022745299 | E26: =SUM(orçamento!H73:H76) -> 89206.344 | P26: =$E$26*P27 -> 44603.172 | Q26: =$E$26*Q27 -> 44603.172
P27: 0.5 | Q27: 0.5
B28: 10 | C28: =[2]Planilha!C65 -> COBERTURA | D28: =E28/$E$68 -> 0.095540359 | E28: =SUM(orçamento!H79:H90) -> 374706.27 | J28: =$E$28*J29 -> 187353.14 | K28: =$E$28*K29 -> 187353.14
J29: 0.5 | K29: 0.5
B30: 11 | C30: =[2]Planilha!C74 -> IMPERMEABILIZAÇÃO | D30: =E30/$E$68 -> 0.014543626 | E30: =SUM(orçamento!H93:H94) -> 57039.642 | J30: =$E$30*J31 -> 22815.857 | L30: =$E$30*L31 -> 22815.857 | M30: =$E$30*M31 -> 5703.9642 | N30: =$E$30*N31 -> 5703.9642
J31: 0.4 | L31: 0.4 | M31: 0.1 | N31: 0.1
B32: 12 | C32: =[2]Planilha!C77 -> TETOS E FORROS | D32: =E32/$E$68 -> 0.091067757 | E32: =SUM(orçamento!H97:H104) -> 357164.87 | K32: =$E$32*K33 -> 71432.974 | L32: =$E$32*L33 -> 71432.974 | M32: =$E$32*M33 -> 71432.974 | N32: =$E$32*N33 -> 35716.487 | O32: =$E$32*O33 -> 35716.487 | P32: =$E$32*P33 -> 35716.487 | Q32: =$E$32*Q33 -> 35716.487
K33: 0.2 | L33: 0.2 | M33: 0.2 | N33: 0.1 | O33: 0.1 | P33: 0.1 | Q33: 0.1
B34: 13 | C34: PISOS INTERNOS E EXTERNOS | D34: =E34/$E$68 -> 0.098836084 | E34: =SUM(orçamento!H107:H117) -> 387632 | J34: =$E$34*J35 -> 77526.4 | L34: =$E$34*L35 -> 77526.4 | N34: =$E$34*N35 -> 58144.8 | O34: =$E$34*O35 -> 58144.8 | P34: =$E$34*P35 -> 58144.8 | Q34: =$E$34*Q35 -> 58144.8
J35: 0.2 | L35: 0.2 | N35: 0.15 | O35: 0.15 | P35: 0.15 | Q35: 0.15
B36: 14 | C36: =[2]Planilha!C104 -> INSTALAÇÕES HIDROSSANITÁRIAS | D36: =E36/$E$68 -> 0.014426705 | E36: =SUM(orçamento!H120:H136) -> 56581.08 | H36: =$E$36*H37 -> 2829.054 | I36: =$E$36*I37 -> 2829.054 | J36: =$E$36*J37 -> 5658.108 | K36: =$E$36*K37 -> 11316.216 | L36: =$E$36*L37 -> 11316.216 | M36: =$E$36*M37 -> 11316.216 | N36: =$E$36*N37 -> 5658.108 | O36: =$E$36*O37 -> 5658.108
H37: 0.05 | I37: 0.05 | J37: 0.1 | K37: 0.2 | L37: 0.2 | M37: 0.2 | N37: 0.1 | O37: 0.1
B38: 15 | C38: =[2]Planilha!C130 -> INSTALAÇÕES ELÉTRICAS | D38: =E38/$E$68 -> 0.014609511 | E38: =SUM(orçamento!H139:H165) -> 57298.04 | H38: =$E$38*H39 -> 2864.902 | I38: =$E$38*I39 -> 2864.902 | J38: =$E$38*J39 -> 5729.804 | K38: =$E$38*K39 -> 11459.608 | L38: =$E$38*L39 -> 11459.608 | M38: =$E$38*M39 -> 11459.608 | N38: =$E$38*N39 -> 5729.804 | O38: =$E$38*O39 -> 5729.804
H39: 0.05 | I39: 0.05 | J39: 0.1 | K39: 0.2 | L39: 0.2 | M39: 0.2 | N39: 0.1 | O39: 0.1
B40: 16 | C40: OUTRAS INSTALAÇÕES | D40: =E40/$E$68 -> 0.0016572392 | E40: =SUM(orçamento!H168:H175) -> 6499.64 | M40: =$E$40*M41 -> 1299.928 | N40: =$E$40*N41 -> 1299.928 | O40: =$E$40*O41 -> 1299.928 | P40: =$E$40*P41 -> 1299.928 | Q40: =$E$40*Q41 -> 1299.928
M41: 0.2 | N41: 0.2 | O41: 0.2 | P41: 0.2 | Q41: 0.2
B42: 17 | C42: INSTALAÇÕES DE GÁS | D42: =E42/$E$68 -> 0.001901744 | E42: =orçamento!H177 -> 7458.58 | M42: =$E$42*M43 -> 2983.432 | N42: =$E$42*N43 -> 1118.787 | O42: =$E$42*O43 -> 1118.787 | P42: =$E$42*P43 -> 1118.787 | Q42: =$E$42*Q43 -> 1118.787
M43: 0.4 | N43: 0.15 | O43: 0.15 | P43: 0.15 | Q43: 0.15
...

Sheet Curva ABC
A2: COD. | B2: DESCRIÇÃO | C2: VALOR TOTAL | D2: % | E2: % ACUMUL. | F2: CLASSE
A4: 5.2.3 | B4: Fornecimento, dobragem e colocação em fôrma, de armadura CA- 50A grossa, diâmetro de 12.5 a 25.0mm | C4: 429548.43 | D4: =C4/$C$318 -> 0.10952368 | E4: =D4 -> 0.10952368 | F4: =IF(E4<=$J$5,"A",IF(E4<=$J$6,"B","C")) -> A | I4: Classe | J4: Corte
A5: 5.2.10 | B5: Fornecimento, dobragem e colocação em fôrma, de armadura CA- 50A grossa, diâmetro de 12.5 a 25.0mm | C5: 207649.06 | D5: =C5/$C$318 -> 0.052945113 | E5: =D5+E4 -> 0.1624688 | F5: =IF(E5<=$J$5,"A",IF(E5<=$J$6,"B","C")) -> A | I5: A | J5: 0.8
A6: 29.1 | B6: Administração Local OBS.: A taxa de Administração Local será paga PROPORCIONALMENTE ao andamento da obra. | C6: 183631.3 | D6: =C6/$C$318 -> 0.046821209 | E6: =D6+E5 -> 0.20929001 | F6: =IF(E6<=$J$5,"A",IF(E6<=$J$6,"B","C")) -> A | I6: B | J6: 0.95
A7: 13.2.2 | B7: Porcelanato natural, acabamento acetinado, dim. 60x60cm, ref. PLATINA NA Eliane/equiv, utilizando dupla colagem de argamassa colante para porcelanato tipo ACIII e rejunte 1mm para porcelanato | C7: 138956.56 | D7: =C7/$C$318 -> 0.03543031 | E7: =D7+E6 -> 0.24472032 | F7: =IF(E7<=$J$5,"A",IF(E7<=$J$6,"B","C")) -> A | I7: C | J7: 1
A8: 10.1.1 | B8: Estrutura de madeira de lei tipo Paraju, peroba mica, angelim pedra ou equivalente para telhado de telha ondulada de fibrocimento esp. 6mm, com pontaleste e caibros, inclusive travamento com cupinicida, exclusive telhas | C8: 126120.23 | D8: =C8/$C$318 -> 0.032157381 | E8: =D8+E7 -> 0.2768777 | F8: =IF(E8<=$J$5,"A",IF(E8<=$J$6,"B","C")) -> A
A9: 13.2.3 | B9: Piso em granito aplicado em ambientes internos. AF_06/2018 | C9: 125848 | D9: =C9/$C$318 -> 0.032087968 | E9: =D9+E8 -> 0.30896567 | F9: =IF(E9<=$J$5,"A",IF(E9<=$J$6,"B","C")) -> A
A10: 5.2.2 | B10: Fornecimento e aplicação de concreto USINADO Fck=25 MPa - considerandoBOMBEAMENTO (5% de perdas já incluido no custo) (6% de taxa p/concr. bombeavel) | C10: 123393.35 | D10: =C10/$C$318 -> 0.031462096 | E10: =D10+E9 -> 0.34042776 | F10: =IF(E10<=$J$5,"A",IF(E10<=$J$6,"B","C")) -> A
A11: 12.3.1 | B11: Emboço de argamassa de cimento, cal hidratada CH1 e areia média ou grossa lavada no traço 1:0,5:6, espessura 20 mm | C11: 115976.14 | D11: =C11/$C$318 -> 0.029570901 | E11: =D11+E10 -> 0.36999866 | F11: =IF(E11<=$J$5,"A",IF(E11<=$J$6,"B","C")) -> A
A12: 6.3.1 | B12: Alvenaria de blocos cerâmicos 10 furos 10x20x20cm, assentados c/argamassa de cimento, cal hidratada CH1 e areia traço 1:0,5:8, esp. das juntas 12mm e esp. das paredes s/revestimento, 10 ( bloco comprado na fábrica, posto obra) | C12: 109430.33 | D12: =C12/$C$318 -> 0.027901888 | E12: =D12+E11 -> 0.39790055 | F12: =IF(E12<=$J$5,"A",IF(E12<=$J$6,"B","C")) -> A
A13: 25.1.1 | B13: Muro de alvenaria de blocos cerâmicos 10x20x20cm, c/ pilares a cada 2 m, esp. 10cm e h=2.5m, revestido com chapisco, reboco e pintura acrílica a 2 demãos, incl. pilares, cintas e sapatas, empregando arg. cimento cal e areia | C13: 91822.899 | D13: =C13/$C$318 -> 0.023412452 | E13: =D13+E12 -> 0.421313 | F13: =IF(E13<=$J$5,"A",IF(E13<=$J$6,"B","C")) -> A
A14: 12.2.2 | B14: Porcelanato polido, acabamento acetinado, dim. 60x60cm, ref. Potobello/equiv., utilizndo dupla colagem de argamassa colante para porcelanato tipo ACIII e rejunte 1mm para porcelanato | C14: 82727.633 | D14: =C14/$C$318 -> 0.021093396 | E14: =D14+E13 -> 0.4424064 | F14: =IF(E14<=$J$5,"A",IF(E14<=$J$6,"B","C")) -> A
A15: 10.2.2 | B15: Vidro laminado 8mm (4+4mm), incolor | C15: 75835.829 | D15: =C15/$C$318 -> 0.019336165 | E15: =D15+E14 -> 0.46174256 | F15: =IF(E15<=$J$5,"A",IF(E15<=$J$6,"B","C")) -> A
A16: 5.2.6 | B16: Montagem e desmontagem de fôrma de laje nervurada com cubeta e assoalhão com area média maior que 20m², pé -direito simples, em chapa de madeira compensada resinada, 8 utilizações. | C16: 71716.967 | D16: =C16/$C$318 -> 0.018285962 | E16: =D16+E15 -> 0.48002853 | F16: =IF(E16<=$J$5,"A",IF(E16<=$J$6,"B","C")) -> A
A17: 5.2.5 | B17: Fôrma de tábua de madeira de 2.5 x 30.0cm para fundações, levando-se em conta a utilização 5 vezes ( incluido o material, corte, montagem, escoras em eucalipto e desforma) | C17: 70057.287 | D17: =C17/$C$318 -> 0.017862787 | E17: =D17+E16 -> 0.49789131 | F17: =IF(E17<=$J$5,"A",IF(E17<=$J$6,"B","C")) -> A
A18: 10.2.1 | B18: Cobertura nova de telhas onduladas de fibrocimento 6.0mm, inclusive cumeeiras e acessórios de fixação | C18: 64892.936 | D18: =C18/$C$318 -> 0.016546012 | E18: =D18+E17 -> 0.51443732 | F18: =IF(E18<=$J$5,"A",IF(E18<=$J$6,"B","C")) -> A
A19: 12.1.1 | B19: Forro de gesso acabamento tipo liso | C19: 64813.067 | D19: =C19/$C$318 -> 0.016525647 | E19: =D19+E18 -> 0.53096297 | F19: =IF(E19<=$J$5,"A",IF(E19<=$J$6,"B","C")) -> A
... A316: 23.3.4 | B316: Disjuntor termomagnetico monopolar 16 A, padrão DIN (linha branca) curva de disparo B, corrente de interrupção 5KA, ref.: Siemens 5 SX1 ou similar. | C316: 19.11 | D316: =C316/$C$318 -> 4.8725532e-06 | E316: =D316+E315 -> 1 | F316: =IF(E316<=$J$5,"A",IF(E316<=$J$6,"B","C")) -> C
B318: total | C318: =SUM(C4:C316) -> 3921968.4

Sheet composiçoes
A4: LISTA DE MATERIAL CFTV
A5: COMP-01 FORNECIMENTO E INSTALAÇAO DE CAMERA IP IR BULLET REF. INTELBRAS/VIP 3230 D OU SIMILAR
A6: BASE :ORSE 11520
A8: Levantamento de preços de mercado - Data: 02/03/2021
A10: Estabelecimento | B10: Contato | D10: Unid | E10: Pr. Unit.
A11: Monitora - Alarmes e Câmeras | B11: 27 996516462 | D11: und | E11: 525.05
A12: CRISSOM SEGUR. ELETRONICA | B12: 27 33611105 | D12: und | E12: 498.39
A13: lojas americanas | B13: 27 988859614 | D13: und | E13: 455.6
A14: Pr.Unit | E14: =E13 -> 455.6
A16: MÃO DE OBRA | B16: Unid | C16: Código | D16: Coefic. | E16: C. Prod. | F16: Pr. Prod. | G16: Pr. Improd. | H16: Pr. Unit. | I16: Fator Ac.
A17: Técnico | B17: H | C17: 6698 | D17: 1 | H17: 9.8 | I17: =D17*H17 -> 9.8
A18: SubTotal: | I18: =I17 -> 9.8
A20: MATERIAL | B20: Unid | C20: Código | D20: Coefic. | E20: C. Prod. | F20: Pr. Prod. | G20: Pr. Improd. | H20: Pr. Unit. | I20: Fator Ac.
A21: CAMERA IP IR BULLET (INTELBRAS/VIP3230 D) | B21: UN | C21: Mercado | D21: 1 | H21: =E14 -> 455.6 | I21: =H21 -> 455.6
A22: SubTotal: | I22: =I21 -> 455.6
A24: RESUMO
A25: DISCRIMINAÇÃO | D25: TAXA(%) | E25: VALORES
A26: Mão-de-Obra(A) | D26: 128.33 | E26: =I18 -> 9.8
A27: Materiais(B) | E27: =I22 -> 455.6
A28: Equipamentos(C) | E28: 0
A29: Produção da Equipe(D) | E29: 1
A30: Custo Horário Total(A+C) | E30: =E26+E28 -> 9.8
A31: Custo Unitário da Execução[(A/D)+(C/D)] = E | E31: =(E26/E29)+(E28/E29) -> 9.8
A32: Custo Direto Total(B+E) | E32: =E27+E31 -> 465.4
A33: Bonificações e Despesas Indiretas - BDI | D33: 0 | E33: =E32*(D33/100) -> 0
A34: CUSTO UNITÁRIO (Adotado) | E34: =E32+E33 -> 465.4
A39: COMP-02 FORNECIMENTO E INSTALAÇAO DE CAMERA IP IR DOME INTELBRAS/VIP 3230 D OU SIMILAR (CFTV)
A40: BASE :ORSE 11520
A42: Levantamento de preços de mercado - Data: 02/03/2021
A44: Estabelecimento | B44: Contato | D44: Unid | E44: Pr. Unit.
A45: Monitora - Alarmes e Câmeras | B45: 27 996516462 | D45: und | E45: 548.3
A46: CRISSOM SEGUR. ELETRONICA | B46: 27 33611105 | D46: und | E46: 579.53
A47: lojas americanas | B47: 27 988859614 | D47: und | E47: 550.76
A48: Pr.Unit | E48: =E45 -> 548.3
A50: MÃO DE OBRA | B50: Unid | C50: Código | D50: Coefic. | E50: C. Prod. | F50: Pr. Prod. | G50: Pr. Improd. | H50: Pr. Unit. | I50: Fator Ac.
A51: Técnico | B51: H | C51: 6698 | D51: 1 | H51: 9.8 | I51: =D51*H51 -> 9.8
A52: SubTotal: | I52: =I51 -> 9.8
A54: MATERIAL | B54: Unid | C54: Código | D54: Coefic. | E54: C. Prod. | F54: Pr. Prod. | G54: Pr. Improd. | H54: Pr. Unit. | I54: Fator Ac.
A55: CAMERA IP IR DOME (INTELBRAS/VIP3230 D) | B55: UN | C55: Mercado | D55: 1 | H55: =E48 -> 548.3 | I55: =D55*H55 -> 548.3
A56: SubTotal: | I56: =I55 -> 548.3
...

Sheet MEDIÇÃO 01
A1: ESTADO DO ESPIRITO SANTO | E1: BOLETIM DE MEDIÇÃO
A2: MUNICIPIO DE GUARAPARI | E2: 1
A3: OBJETO: | D3: CONSTRUÇÃO DO PRÉDIO ESCOLAR - CEMEI PORTAL CLUB | F3: VALOR DO CONTRATO | H3: Contrato Nº: | I3: 148/2019 | K3: Período Medicao: | N3: Valor Acumulado: | P3: =+J260 -> 0
A4: CONTRATANTE: | D4: PREFEITURA MUNICIPAL DE GUARAPARI/ES | H4: Local/U.F.: | I4: GUARAPARI/ES | L4: a | N4: Valor Medido: | P4: =+L260 -> 131841.14
A5: EMPRESA : | D5: NAZCA ENGENHARIA LTDA | F5: =+H260 -> 1883431.8 | H5: Periodo da Obra: | I5: 43673 | J5: a 27/07/2020 | K5: Emissão: | L5: 43710 | N5: Saldo de Contrato: | P5: =+P260 -> 1757462.1
A6: Item | B6: Cod | C6: Referência | D6: Descrição do Serviço | E6: Unid. | F6: Quant. | G6: P. Unit. | H6: Total | I6: Acumulado Anterior | K6: Medição Atual | M6: Acumulado Atual | O6: Saldo | R6: =F5 -> 1883431.8 | T6: =SUM(T8:T260) -> 219737.79 | U6: =T6/R6 -> 0.11666883
I7: Quant. | J7: Total | K7: Quant. | L7: Total | M7: Quant. | N7: Total | O7: Quant. | P7: Total
A8: 1 | D8: SERVIÇOS PRELIMINARES | H8: =+SUM(H10:H12) -> 25078.915
A9: 1.1 | D9: DEMOLIÇÕES E RETIRADAS
A10: 1.1.1 | B10: 73948/016 | C10: IOPES | D10: Demolição de edificação existente (hora máquina - pá carregadeira) | E10: h | F10: 44 | G10: 111.41 | H10: =+IF(E10<>0,F10*G10,"") -> 4902.04 | J10: =+IF(E10<>0,I10*G10,"") -> 0 | L10: =IF(E10<>0,K10*G10,"") -> 0 | M10: =+I10+K10 -> 0 | N10: 0 | O10: =IF(E10<>0,+F10-M10,"") -> 44 | P10: 4902.04
A11: 1.2 | D11: LOCAÇÃO | M11: =+I11+K11 -> 0
A12: 1.2.1 | B12: 010501 | C12: IOPES | D12: Locação de obra com gabarito de madeira | E12: m² | F12: 1529.71 | G12: 13.19 | H12: =+IF(E12<>0,F12*G12,"") -> 20176.875 | J12: =+IF(E12<>0,I12*G12,"") -> 0 | K12: 1529.71 | L12: 20176.875 | M12: =+I12+K12 -> 1529.71 | N12: 20176.87 | O12: =IF(E12<>0,+F12-M12,"") -> 0 | P12: 0
A13: 2 | D13: INSTALAÇÃO DO CANTEIRO DE OBRAS | H13: =+SUM(H15:H24) -> 25256.703 | J13: =+IF(E13<>0,I13*G13,"") | L13: =IF(E13<>0,K13*G13,"") | M13: =+I13+K13 -> 0 | O13: =IF(E13<>0,+F13-M13,"")
A14: 2.1 | D14: TAPUMES, BARRACÕES E COBERTURAS | M14: =+I14+K14 -> 0
A15: 2.1.2 | B15: 020305 | C15: IOPES | D15: Placa de obra nas dimensões de 2.0 x 4.0 m, padrão IOPES | E15: m² | F15: 8 | G15: 180.35 | H15: =+IF(E15<>0,F15*G15,"") -> 1442.8 | J15: =+IF(E15<>0,I15*G15,"") -> 0 | K15: 8 | L15: =IF(E15<>0,K15*G15,"") -> 1442.8 | M15: =+I15+K15 -> 8 | N15: 1442.8 | O15: =IF(E15<>0,+F15-M15,"") -> 0 | P15: =IF(E15<>0,O15*G15,"") -> 0
A16: 2.2 | D16: Instalação do canteiro de obras (utilização 1vez), projeto padrão LABOR - NR. 18 | M16: =+I16+K16 -> 0 | P16: =IF(E16<>0,O16*G16,"")
A17: 2.2.1 | B17: 020702 | C17: IOPES | D17: Barracão para almoxarifado área de 10.90m², de chapa de compensado de 12 mm e pontalete 8x8cm, piso cimentado e cobertura de telhas de fibrocimento de 6 mm, incl. ponto de luz, conf. projeto (1utilização). | E17: m² | F17: 10.9 | G17: 271.06 | H17: =+IF(E17<>0,F17*G17,"") -> 2954.554 | J17: =+IF(E17<>0,I17*G17,"") -> 0 | K17: 10.9 | L17: =IF(E17<>0,K17*G17,"") -> 2954.554 | M17: =+I17+K17 -> 10.9 | N17: =IF(E17<>0,M17*G17,"") -> 2954.554 | O17: =IF(E17<>0,+F17-M17,"") -> 0 | P17: =IF(E17<>0,O17*G17,"") -> 0
A18: 2.2.2 | B18: 020703 | C18: IOPES | D18: Barracão para depósito de cimento área de 10.90m², de chapa de compensado de 12 mm e pontalete 8x8cm, piso cimentado e cobertura de telhas de fibrocimento de 6 mm, incl. ponto de luz, conf. projeto (1utilização). | E18: m² | F18: 10.9 | G18: 235.01 | H18: =+IF(E18<>0,F18*G18,"") -> 2561.609 | J18: =+IF(E18<>0,I18*G18,"") -> 0 | K18: 10.9 | L18: =IF(E18<>0,K18*G18,"") -> 2561.609 | M18: =+I18+K18 -> 10.9 | N18: =IF(E18<>0,M18*G18,"") -> 2561.609 | O18: =IF(E18<>0,+F18-M18,"") -> 0 | P18: =IF(E18<>0,O18*G18,"") -> 0
A19: 2.2.3 | B19: 020704 | C19: IOPES | D19: Refeitório com paredes de chapa de compens. 12mm e pontaletes 8x8cm, piso ciment. e cob. de telhas fibroc. 6mm, incl ponto de luz e cx. de inspeção (cons. 1.21m²/func./turno), conf projeto (1utilização) | E19: m² | F19: 14.5 | G19: 259.64 | H19: =+IF(E19<>0,F19*G19,"") -> 3764.78 | J19: =+IF(E19<>0,I19*G19,"") -> 0 | K19: 14.5 | L19: =IF(E19<>0,K19*G19,"") -> 3764.78 | M19: =+I19+K19 -> 14.5 | N19: =IF(E19<>0,M19*G19,"") -> 3764.78 | O19: =IF(E19<>0,+F19-M19,"") -> 0 | P19: =IF(E19<>0,O19*G19,"") -> 0
A20: 2.2.4 | B20: 020705 | C20: IOPES | D20: Unidade de sanitário e vestiário para ate 20 func. área de 18.15m², paredes de chapa compens. 12mm e pontalere 8x8cm, piso cimentado, cobert telha fibroc. 6mm, incl. instalação de luz e cx. de inspeção, conf. projeto (1utilização) | E20: und | F20: 1 | G20: 7752.06 | H20: =+IF(E20<>0,F20*G20,"") -> 7752.06 | J20: =+IF(E20<>0,I20*G20,"") -> 0 | K20: 1 | L20: =IF(E20<>0,K20*G20,"") -> 7752.06 | M20: =+I20+K20 -> 1 | N20: =IF(E20<>0,M20*G20,"") -> 7752.06 | O20: =IF(E20<>0,+F20-M20,"") -> 0 | P20: =IF(E20<>0,O20*G20,"") -> 0
A21: 2.2.5 | B21: 020711 | C21: IOPES | D21: Reservatório de poliestileno de 1000L, incl suporte em madeira de 7x12cm, e 8x7cm, elevado de 4m, conf. projeto ( 1utilização) | E21: und | F21: 1 | G21: 1217.68 | H21: =+IF(E21<>0,F21*G21,"") -> 1217.68 | J21: =+IF(E21<>0,I21*G21,"") -> 0 | K21: 1 | L21: =IF(E21<>0,K21*G21,"") -> 1217.68 | M21: =+I21+K21 -> 1 | N21: =IF(E21<>0,M21*G21,"") -> 1217.68 | O21: =IF(E21<>0,+F21-M21,"") -> 0 | P21: =IF(E21<>0,O21*G21,"") -> 0
A22: 2.2.6 | B22: 020712 | C22: IOPES | D22: Rede de água com padrão de entrada d'agua diam. 3/4", conf. espec. cesan, incl tubos e conexões para alimentação, distribuição, extravasor e limpeza, cons o padrão a 25 m, conf. projeto( 1utilização) | E22: m | F22: 10 | G22: 24.09 | H22: =+IF(E22<>0,F22*G22,"") -> 240.9 | J22: =+IF(E22<>0,I22*G22,"") -> 0 | K22: 10 | L22: =IF(E22<>0,K22*G22,"") -> 240.9 | M22: =+I22+K22 -> 10 | N22: =IF(E22<>0,M22*G22,"") -> 240.9 | O22: =IF(E22<>0,+F22-M22,"") -> 0 | P22: =IF(E22<>0,O22*G22,"") -> 0
A23: 2.2.7 | B23: 020713 | C23: IOPES | D23: Rede de luz, incl. padrão entrada de energia trifás., cabo de ligação até barracões, quadro de distrib., disj. e chave de força (quando necessário), cons 20m entre padrão entrada e QDG, conf. projeto (1 utilização) | E23: m | F23: 10 | G23: 291.14 | H23: =+IF(E23<>0,F23*G23,"") -> 2911.4 | J23: =+IF(E23<>0,I23*G23,"") -> 0 | K23: 10 | L23: =IF(E23<>0,K23*G23,"") -> 2911.4 | M23: =+I23+K23 -> 10 | N23: =IF(E23<>0,M23*G23,"") -> 2911.4 | O23: =IF(E23<>0,+F23-M23,"") -> 0 | P23: =IF(E23<>0,O23*G23,"") -> 0
A24: 2.2.8 | B24: 020714 | C24: IOPES | D24: Rede de esgoto, contendo fossa e filtro, inclusive tubos e conexões de ligação entre caixas, considerando distância de 25m, conforme projeto (1 utilização) | E24: m | F24: 12 | G24: 200.91 | H24: =+IF(E24<>0,F24*G24,"") -> 2410.92 | K24: 12 | L24: =IF(E24<>0,K24*G24,"") -> 2410.92 | M24: =+I24+K24 -> 12 | N24: =IF(E24<>0,M24*G24,"") -> 2410.92 | O24: =IF(E24<>0,+F24-M24,"") -> 0 | P24: =IF(E24<>0,O24*G24,"") -> 0
A25: 3 | D25: MOVIMENTAÇÃO DE TERRA | H25: =SUM(H27:H34) -> 154381.61 | J25: =+IF(E25<>0,I25*G25,"") | L25: =IF(E25<>0,K25*G25,"") | M25: =+I25+K25 -> 0 | N25: =IF(E25<>0,M25*G25,"") | O25: =IF(E25<>0,+F25-M25,"") | P25: =IF(E25<>0,O25*G25,"")
D26: ESCAVAÇÃO | L26: =IF(E26<>0,K26*G26,"") | M26: =+I26+K26 -> 0 | N26: =IF(E26<>0,M26*G26,"")
A27: 3.1.1 | B27: 030101 | C27: IOPES | D27: Escavação manual em material de 1a. categoria, até 1.50m de profundidade | E27: m³ | F27: 151.88 | G27: 29.82 | H27: =+IF(E27<>0,F27*G27,"") -> 4529.0616 | J27: =+IF(E27<>0,I27*G27,"") -> 0 | L27: =IF(E27<>0,K27*G27,"") -> 0 | M27: =+I27+K27 -> 0 | N27: =IF(E27<>0,M27*G27,"") -> 0 | O27: =IF(E27<>0,+F27-M27,"") -> 151.88 | P27: =IF(E27<>0,O27*G27,"") -> 4529.0616
A28: 3.1.2 | B28: 030119 | C28: IOPES | D28: Apiloamento do fundo de vala com maço de 30 a 60 kg | E28: m² | F28: 101.25 | G28: 15.59 | H28: =+IF(E28<>0,F28*G28,"") -> 1578.4875 | J28: =+IF(E28<>0,I28*G28,"") -> 0 | L28: =IF(E28<>0,K28*G28,"") -> 0 | M28: =+I28+K28 -> 0 | N28: =IF(E28<>0,M28*G28,"") -> 0 | O28: =IF(E28<>0,+F28-M28,"") -> 101.25 | P28: =IF(E28<>0,O28*G28,"") -> 1578.4875
A29: 0302 | D29: REATERRO E COMPACTAÇÃO | L29: =IF(E29<>0,K29*G29,"") | M29: =+I29+K29 -> 0 | N29: =IF(E29<>0,M29*G29,"")
A30: 3.1.3 | B30: 030201 | C30: IOPES | D30: Reaterro apiloado de cavas de fundação, em camadas de 20cm | E30: m³ | F30: 124.88 | G30: 32.1 | H30: =+IF(E30<>0,F30*G30,"") -> 4008.648 | J30: =+IF(E30<>0,I30*G30,"") -> 0 | L30: =IF(E30<>0,K30*G30,"") -> 0 | M30: =+I30+K30 -> 0 | N30: =IF(E30<>0,M30*G30,"") -> 0 | O30: =IF(E30<>0,+F30-M30,"") -> 124.88 | P30: =IF(E30<>0,O30*G30,"") -> 4008.648
A31: 3.1.4 | B31: 030210 | C31: IOPES | D31: Aterro compactado utilizando compactador de placa vibratória com reaproveitamento do material | E31: m³ | F31: 917.83 | G31: 16.05 | H31: =+IF(E31<>0,F31*G31,"") -> 14731.172 | J31: =+IF(E31<>0,I31*G31,"") -> 0 | L31: =IF(E31<>0,K31*G31,"") -> 0 | M31: =+I31+K31 -> 0 | N31: =IF(E31<>0,M31*G31,"") -> 0 | O31: =IF(E31<>0,+F31-M31,"") -> 917.83 | P31: =IF(E31<>0,O31*G31,"") -> 14731.172
A32: 3.1.4 | B32: 3.4 | C32: 94319 SINAPI | D32: Aterro manual de valas com solo argilo-arenoso e compactação mecanizada. Af_05/2016 (conforme projeto) | E32: M3 | F32: 2640.08 | G32: 46.22 | H32: =+IF(E32<>0,F32*G32,"") -> 122024.5 | J32: =+IF(E32<>0,I32*G32,"") -> 0 | L32: =IF(E32<>0,K32*G32,"") -> 0 | M32: =+I32+K32 -> 0 | N32: =IF(E32<>0,M32*G32,"") -> 0 | O32: =IF(E32<>0,+F32-M32,"") -> 2640.08 | P32: =IF(E32<>0,O32*G32,"") -> 122024.5 | Q32: M3 | R32: 2202.5 | S32: =G32 -> 46.22 | T32: =R32*S32 -> 101799.55
A33: 0303 | D33: TRANSPORTES | L33: =IF(E33<>0,K33*G33,"") | M33: =+I33+K33 -> 0 | N33: =IF(E33<>0,M33*G33,"")
A34: 3.1.5 | B34: 030304 | C34: IOPES | D34: Índice de preço para remoção de entulho decorrente da execução de obras (classe a CONAMA - NBR 10.004 - Classe II-B), incluindo aluguel da caçamba, carga, transporte e descraga em área licenciada. | E34: m³ | F34: 193.6 | G34: 38.79 | H34: =+IF(E34<>0,F34*G34,"") -> 7509.744 | J34: =+IF(E34<>0,I34*G34,"") -> 0 | L34: =IF(E34<>0,K34*G34,"") -> 0 | M34: =+I34+K34 -> 0 | N34: =IF(E34<>0,M34*G34,"") -> 0 | O34: =IF(E34<>0,+F34-M34,"") -> 193.6 | P34: =IF(E34<>0,O34*G34,"") -> 7509.744
A35: 4 | D35: ESTRUTURAS | H35: =SUM(H37:H49) -> 340101.7 | L35: =IF(E35<>0,K35*G35,"") | M35: =+I35+K35 -> 0 | N35: =IF(E35<>0,M35*G35,"")
A36: 0402 | D36: INFRA-ESTRUTURA (FUNDAÇÃO) | L36: =IF(E36<>0,K36*G36,"") | M36: =+I36+K36 -> 0 | N36: =IF(E36<>0,M36*G36,"")
A37: 4.1.1 | B37: 040206 | C37: IOPES | D37: Fôrma de tábua de madeira de 2.5 x 30.0cm para fundações, levando-se em conta a utilização 5 vezes ( incluido o material, corte, montagem, escoramneto e desforma) | E37: m² | F37: 448.59 | G37: 74.32 | H37: =+IF(E37<>0,F37*G37,"") -> 33339.209 | J37: =+IF(E37<>0,I37*G37,"") -> 0 | L37: =IF(E37<>0,K37*G37,"") -> 0 | M37: =+I37+K37 -> 0 | N37: =IF(E37<>0,M37*G37,"") -> 0 | O37: =IF(E37<>0,+F37-M37,"") -> 448.59 | P37: =IF(E37<>0,O37*G37,"") -> 33339.209 | Q37: M2 | R37: =SUPER!M6-F37 -> 97.97 | S37: =G37 -> 74.32 | T37: =R37*S37 -> 7281.1304
A38: 4.1.2 | B38: 040231 | C38: IOPES | D38: Fornecimento, preparo e aplicação de concreto magro com consumo mínimo de cimento de 250kg/m³ ( brita 1 e 2) - (5% de perdas já incluido no custo) | E38: m³ | F38: 5.06 | G38: 322.91 | H38: =+IF(E38<>0,F38*G38,"") -> 1633.9246 | J38: =+IF(E38<>0,I38*G38,"") -> 0 | L38: =IF(E38<>0,K38*G38,"") -> 0 | M38: =+I38+K38 -> 0 | N38: =IF(E38<>0,M38*G38,"") -> 0 | O38: =IF(E38<>0,+F38-M38,"") -> 5.06 | P38: =IF(E38<>0,O38*G38,"") -> 1633.9246
A39: 4.1.3 | B39: 040240 | C39: IOPES | D39: Fornecimento e aplicação de concreto USINADO Fck=25 MPa - considerando lançamento MANUAL para INFRA-ESTRUTURA (5% de perdas já incluido no custo) | E39: m³ | F39: 53.59 | G39: 291.04 | H39: =+IF(E39<>0,F39*G39,"") -> 15596.834 | L39: =IF(E39<>0,K39*G39,"") -> 0 | M39: =+I39+K39 -> 0 | N39: 0 | O39: =IF(E39<>0,+F39-M39,"") -> 53.59 | P39: =IF(E39<>0,O39*G39,"") -> 15596.834 | Q39: M3 | R39: =SUPER!M7-F39 -> 21.23 | S39: =G39 -> 291.04 | T39: =R39*S39 -> 6178.7792
A40: 4.1.4 | B40: 040243 | C40: IOPES | D40: Fornecimento, dobragem e colocação em fôrma, de armadura CA- 50A média, diâmetro de 6.3 a 10.0mm | E40: kg | F40: 2411.57 | G40: 5.69 | H40: =+IF(E40<>0,F40*G40,"") -> 13721.833 | L40: =IF(E40<>0,K40*G40,"") -> 0 | M40: =+I40+K40 -> 0 | N40: =IF(E40<>0,M40*G40,"") -> 0 | O40: =IF(E40<>0,+F40-M40,"") -> 2411.57 | P40: =IF(E40<>0,O40*G40,"") -> 13721.833
...

Sheet INFRA
P2: PORTAL CLUBE | V2: ALT.MEDIA DAS SAPATAS
V3: =AVERAGE(R7:R39) -> 0.37727273
D4: RESUMO DE QUANTITATIVO DAS SAPATAS
A6: ITEM | B6: QTD. | C6: LARG.(M) | E6: COMP(M) | G6: ALT.(m) | H6: VOL.(M3) | I6: ALT.(SAIA) | J6: CONCRET | K6: AREA SAP. | M6: ITEM | N6: QTD. | O6: LARG.(M) | P6: COMP(M) | Q6: ALT.MEDIA(SAIA) | R6: ALT.SAIA REAL | S6: FORMA.SAP (M2) | T6: SEÇAO.PILAR (CM) | V6: ALT.PILARETE | W6: FORMA.PILAR | X6: VOL.CONC PILAR
A7: S1 E S2 | B7: 2 | C7: 1 | D7: 1.2 | E7: 1 | F7: 1.2 | G7: 0.93 | H7: =(D7*F7*G7)*B7 -> 2.6784 | I7: 0.25 | J7: =(C7*E7*I7)*B7 -> 0.5 | K7: =(C7*E7)*B7 -> 2 | M7: S1 E S2 | N7: 2 | O7: 1 | P7: 1 | Q7: 0.25 | R7: 0.3 | S7: =((O7*R7*2)+(R7*P7*2))*N7 -> 2.4 | T7: 0.2 | U7: 0.4 | V7: =G7-$V$3 -> 0.55272727 | W7: =((T7*V7*2)+(U7*V7*2))*N7 -> 1.3265455 | X7: =(T7*U7)*V7 -> 0.044218182
A8: S3 | B8: 1 | C8: 1.1 | D8: 1.3 | E8: 1.1 | F8: 1.3 | G8: 0.98 | H8: =(D8*F8*G8)*B8 -> 1.6562 | I8: 0.3 | J8: =(C8*E8*I8)*B8 -> 0.363 | K8: =(C8*E8)*B8 -> 1.21 | M8: S3 | N8: 1 | O8: 1.1 | P8: 1.1 | Q8: 0.3 | R8: 0.35 | S8: =((O8*R8*2)+(R8*P8*2))*N8 -> 1.54 | T8: 0.2 | U8: 0.4 | V8: =G8-$V$3 -> 0.60272727 | W8: =((T8*V8*2)+(U8*V8*2))*N8 -> 0.72327273 | X8: =(T8*U8)*V8 -> 0.048218182
A9: S4=S28 | B9: 2 | C9: 1 | D9: 1.2 | E9: 1 | F9: 1.2 | G9: 0.93 | H9: =(D9*F9*G9)*B9 -> 2.6784 | I9: 0.25 | J9: =(C9*E9*I9)*B9 -> 0.5 | K9: =(C9*E9)*B9 -> 2 | M9: S4=S28 | N9: 2 | O9: 1 | P9: 1 | Q9: 0.25 | R9: 0.3 | S9: =((O9*R9*2)+(R9*P9*2))*N9 -> 2.4 | T9: 0.2 | U9: 0.4 | V9: =G9-$V$3 -> 0.55272727 | W9: =((T9*V9*2)+(U9*V9*2))*N9 -> 1.3265455 | X9: =(T9*U9)*V9 -> 0.044218182
A10: S5=S6 | B10: 2 | C10: 1.2 | D10: 1.4 | E10: 1.2 | F10: 1.4 | G10: 0.93 | H10: =(D10*F10*G10)*B10 -> 3.6456 | I10: 0.325 | J10: =(C10*E10*I10)*B10 -> 0.936 | K10: =(C10*E10)*B10 -> 2.88 | M10: S5=S6 | N10: 2 | O10: 1.2 | P10: 1.2 | Q10: 0.325 | R10: 0.4 | S10: =((O10*R10*2)+(R10*P10*2))*N10 -> 3.84 | T10: 0.2 | U10: 0.4 | V10: =G10-$V$3 -> 0.55272727 | W10: =((T10*V10*2)+(U10*V10*2))*N10 -> 1.3265455 | X10: =(T10*U10)*V10 -> 0.044218182
A11: S7 | B11: 1 | C11: 1.3 | D11: 1.5 | E11: 1.3 | F11: 1.5 | G11: 1.03 | H11: =(D11*F11*G11)*B11 -> 2.3175 | I11: 0.325 | J11: =(C11*E11*I11)*B11 -> 0.54925 | K11: =(C11*E11)*B11 -> 1.69 | M11: S7 | N11: 1 | O11: 1.3 | P11: 1.3 | Q11: 0.325 | R11: 0.4 | S11: =((O11*R11*2)+(R11*P11*2))*N11 -> 2.08 | T11: 0.2 | U11: 0.4 | V11: =G11-$V$3 -> 0.65272727 | W11: =((T11*V11*2)+(U11*V11*2))*N11 -> 0.78327273 | X11: =(T11*U11)*V11 -> 0.052218182
A12: S8=S9 | B12: 2 | C12: 1 | D12: 1.2 | E12: 1 | F12: 1.2 | G12: 0.93 | H12: =(D12*F12*G12)*B12 -> 2.6784 | I12: 0.25 | J12: =(C12*E12*I12)*B12 -> 0.5 | K12: =(C12*E12)*B12 -> 2 | M12: S8=S9 | N12: 2 | O12: 1 | P12: 1 | Q12: 0.25 | R12: 0.3 | S12: =((O12*R12*2)+(R12*P12*2))*N12 -> 2.4 | T12: 0.2 | U12: 0.4 | V12: =G12-$V$3 -> 0.55272727 | W12: =((T12*V12*2)+(U12*V12*2))*N12 -> 1.3265455 | X12: =(T12*U12)*V12 -> 0.044218182
A13: S10 | B13: 1 | C13: 1.9 | D13: 2.1 | E13: 1.9 | F13: 2.1 | G13: 1.23 | H13: =(D13*F13*G13)*B13 -> 5.4243 | I13: 0.45 | J13: =(C13*E13*I13)*B13 -> 1.6245 | K13: =(C13*E13)*B13 -> 3.61 | M13: S10 | N13: 1 | O13: 1.9 | P13: 1.9 | Q13: 0.45 | R13: 0.5 | S13: =((O13*R13*2)+(R13*P13*2))*N13 -> 3.8 | T13: 0.2 | U13: 0.4 | V13: =G13-$V$3 -> 0.85272727 | W13: =((T13*V13*2)+(U13*V13*2))*N13 -> 1.0232727 | X13: =(T13*U13)*V13 -> 0.068218182
A14: S11 | B14: 1 | C14: 1.1 | D14: 1.3 | E14: 1.1 | F14: 1.3 | G14: 0.93 | H14: =(D14*F14*G14)*B14 -> 1.5717 | I14: 0.3 | J14: =(C14*E14*I14)*B14 -> 0.363 | K14: =(C14*E14)*B14 -> 1.21 | M14: S11 | N14: 1 | O14: 1.1 | P14: 1.1 | Q14: 0.3 | R14: 0.35 | S14: =((O14*R14*2)+(R14*P14*2))*N14 -> 1.54 | T14: 0.2 | U14: 0.4 | V14: =G14-$V$3 -> 0.55272727 | W14: =((T14*V14*2)+(U14*V14*2))*N14 -> 0.66327273 | X14: =(T14*U14)*V14 -> 0.044218182
A15: S12 | B15: 1 | C15: 1 | D15: 1.2 | E15: 1 | F15: 1.2 | G15: 0.93 | H15: =(D15*F15*G15)*B15 -> 1.3392 | I15: 0.25 | J15: =(C15*E15*I15)*B15 -> 0.25 | K15: =(C15*E15)*B15 -> 1 | M15: S12 | N15: 1 | O15: 1 | P15: 1 | Q15: 0.25 | R15: 0.35 | S15: =((O15*R15*2)+(R15*P15*2))*N15 -> 1.4 | T15: 0.2 | U15: 0.4 | V15: =G15-$V$3 -> 0.55272727 | W15: =((T15*V15*2)+(U15*V15*2))*N15 -> 0.66327273 | X15: =(T15*U15)*V15 -> 0.044218182
A16: S13 | B16: 1 | C16: 1.2 | D16: 1.4 | E16: 1.2 | F16: 1.4 | G16: 1.03 | H16: =(D16*F16*G16)*B16 -> 2.0188 | I16: 0.325 | J16: =(C16*E16*I16)*B16 -> 0.468 | K16: =(C16*E16)*B16 -> 1.44 | M16: S13 | N16: 1 | O16: 1.2 | P16: 1.2 | Q16: 0.325 | R16: 0.4 | S16: =((O16*R16*2)+(R16*P16*2))*N16 -> 1.92 | T16: 0.2 | U16: 0.4 | V16: =G16-$V$3 -> 0.65272727 | W16: =((T16*V16*2)+(U16*V16*2))*N16 -> 0.78327273 | X16: =(T16*U16)*V16 -> 0.052218182
A17: S14 | B17: 1 | C17: 1.3 | D17: 1.5 | E17: 1.3 | F17: 1.5 | G17: 1.03 | H17: =(D17*F17*G17)*B17 -> 2.3175 | I17: 0.325 | J17: =(C17*E17*I17)*B17 -> 0.54925 | K17: =(C17*E17)*B17 -> 1.69 | M17: S14 | N17: 1 | O17: 1.3 | P17: 1.3 | Q17: 0.325 | R17: 0.4 | S17: =((O17*R17*2)+(R17*P17*2))*N17 -> 2.08 | T17: 0.2 | U17: 0.5 | V17: =G17-$V$3 -> 0.65272727 | W17: =((T17*V17*2)+(U17*V17*2))*N17 -> 0.91381818 | X17: =(T17*U17)*V17 -> 0.065272727
A18: S15 | B18: 1 | C18: 1.2 | D18: 1.4 | E18: 1.2 | F18: 1.4 | G18: 0.98 | H18: =(D18*F18*G18)*B18 -> 1.9208 | I18: 0.325 | J18: =(C18*E18*I18)*B18 -> 0.468 | K18: =(C18*E18)*B18 -> 1.44 | M18: S15 | N18: 1 | O18: 1.2 | P18: 1.2 | Q18: 0.325 | R18: 0.4 | S18: =((O18*R18*2)+(R18*P18*2))*N18 -> 1.92 | T18: 0.2 | U18: 0.4 | V18: =G18-$V$3 -> 0.60272727 | W18: =((T18*V18*2)+(U18*V18*2))*N18 -> 0.72327273 | X18: =(T18*U18)*V18 -> 0.048218182
... A36: S35 | B36: 1 | C36: 1.2 | D36: 1.4 | E36: 1.2 | F36: 1.4 | G36: 1.11 | H36: =(D36*F36*G36)*B36 -> 2.1756 | I36: 0.325 | J36: =(C36*E36*I36)*B36 -> 0.468 | K36: =(C36*E36)*B36 -> 1.44 | M36: S35 | N36: 1 | O36: 1.2 | P36: 1.2 | Q36: 0.325 | R36: 0.4 | S36: =((O36*R36*2)+(R36*P36*2))*N36 -> 1.92 | T36: 0.2 | U36: 0.4 | V36: =G36-$V$3 -> 0.73272727 | W36: =((T36*V36*2)+(U36*V36*2))*N36 -> 0.87927273 | X36: =(T36*U36)*V36 -> 0.058618182
A37: S36 | B37: 1 | C37: 1 | D37: 1.2 | E37: 1 | F37: 1.2 | G37: 0.96 | H37: =(D37*F37*G37)*B37 -> 1.3824 | I37: 0.25 | J37: 0.25 | K37: =(C37*E37)*B37 -> 1 | M37: S36 | N37: 1 | O37: 1 | P37: 1 | Q37: 0.25 | R37: 0.3 | S37: =((O37*R37*2)+(R37*P37*2))*N37 -> 1.2 | T37: 0.2 | U37: 0.4 | V37: =G37-$V$3 -> 0.58272727 | W37: =((T37*V37*2)+(U37*V37*2))*N37 -> 0.69927273 | X37: =(T37*U37)*V37 -> 0.046618182
A38: S37 | B38: 1 | C38: 1.1 | D38: 1.3 | E38: 1.1 | F38: 1.3 | G38: 1.06 | H38: =(D38*F38*G38)*B38 -> 1.7914 | I38: 0.3 | J38: =(C38*E38*I38)*B38 -> 0.363 | K38: =(C38*E38)*B38 -> 1.21 | M38: S37 | N38: 1 | O38: 1.1 | P38: 1.1 | Q38: 0.3 | R38: 0.35 | S38: =((O38*R38*2)+(R38*P38*2))*N38 -> 1.54 | T38: 0.2 | U38: 0.4 | V38: =G38-$V$3 -> 0.68272727 | W38: =((T38*V38*2)+(U38*V38*2))*N38 -> 0.81927273 | X38: =(T38*U38)*V38 -> 0.054618182
A39: S38 | B39: 1 | C39: 1.1 | D39: 1.3 | E39: 1.1 | F39: 1.3 | G39: 1.01 | H39: =(D39*F39*G39)*B39 -> 1.7069 | I39: 0.25 | J39: =(C39*E39*I39)*B39 -> 0.3025 | K39: =(C39*E39)*B39 -> 1.21 | M39: S38 | N39: 1 | O39: 1.1 | P39: 1.1 | Q39: 0.25 | R39: 0.3 | S39: =((O39*R39*2)+(R39*P39*2))*N39 -> 1.32 | T39: 0.2 | U39: 0.5 | V39: =G39-$V$3 -> 0.63272727 | W39: =((T39*V39*2)+(U39*V39*2))*N39 -> 0.88581818 | X39: =(T39*U39)*V39 -> 0.063272727
A41: TOT GERAL DE ESCAVAÇAO DAS SAPATAS | E41: (M3) | H41: =SUM(H7:H39) -> 84.4938 | M41: TOT.GER FORMAS P/SAPATAS (M2) | S41: =SUM(S7:S39) -> 71.56
M42: TOT.GER FORMAS P/PILAR DE ARRANQUE (M2) | W42: =SUM(W7:W39) -> 33.074364
A43: TOT.GERAL DE CONCRETO P/ AS SAPATAS | E43: (M3) | J43: =SUM(J7:J39) -> 19.28925 | M43: VOL.FINAL DE CONCRETO DOS PILARETES (M3) | X43: =SUM(X7:X39) -> 2.0010182
D47: RESUMO DE QUANTITATIVO DAS VIGAS BALDRAMES
B49: VIGA BALDRAME 20X40 cm | H49: VIGA BALDRAME P/ESCAVAÇAO 0,4X50 cm | O49: FORMA DAS VIGA BALDRAME 12X40 cm | U49: VOLUME GERAL DE ESCAVAÇAO DA FUNDAÇAO
A50: ITEM | B50: LARG (M) | C50: ALT (M) | D50: COMP (M) | E50: VOL.CON (M3) | H50: ITEM | I50: LARG (M) | J50: ALT (M) | K50: COMP (M) | L50: ESC.(M3) | O50: ITEM | P50: LARG (M) | Q50: ALT (M) | R50: COMP (M) | S50: AREA M2 | U50: VOL.DAS SAPATAS | W50: =H41 -> 84.4938
A51: V1 | B51: 0.2 | C51: 0.4 | D51: 14.85 | E51: =(D51*B51)*C51 -> 1.188 | H51: V1 | I51: 0.4 | J51: 0.5 | K51: 14.85 | L51: =(K51*I51)*J51 -> 2.97 | O51: V1 | P51: 20 | Q51: 0.4 | R51: 14.85 | S51: =(R51*Q51)*2 -> 11.88 | U51: VOL.DAS BALDRAMES | W51: =L115 -> 109.626
A52: V2 | B52: 0.2 | C52: 0.4 | D52: 5.45 | E52: =(D52*B52)*C52 -> 0.436 | H52: V2 | I52: 0.4 | J52: 0.5 | K52: 5.45 | L52: =(K52*I52)*J52 -> 1.09 | O52: V2 | P52: 20 | Q52: 0.4 | R52: 5.45 | S52: =(R52*Q52)*2 -> 4.36 | U52: VOL.FINAL (M3) | W52: =SUM(W50:X51) -> 194.1198
A53: V3 | B53: 0.2 | C53: 0.4 | D53: 11 | E53: =(D53*B53)*C53 -> 0.88 | H53: V3 | I53: 0.4 | J53: 0.5 | K53: 11 | L53: =(K53*I53)*J53 -> 2.2 | O53: V3 | P53: 20 | Q53: 0.4 | R53: 11 | S53: =(R53*Q53)*2 -> 8.8
A54: V4 | B54: 0.2 | C54: 0.4 | D54: 9.1 | E54: =(D54*B54)*C54 -> 0.728 | H54: V4 | I54: 0.4 | J54: 0.5 | K54: 9.1 | L54: =(K54*I54)*J54 -> 1.82 | O54: V4 | P54: 20 | Q54: 0.4 | R54: 9.1 | S54: =(R54*Q54)*2 -> 7.28
A55: V5 | B55: 0.2 | C55: 0.4 | D55: 9.25 | E55: =(D55*B55)*C55 -> 0.74 | H55: V5 | I55: 0.4 | J55: 0.5 | K55: 9.25 | L55: =(K55*I55)*J55 -> 1.85 | O55: V5 | P55: 20 | Q55: 0.4 | R55: 9.25 | S55: =(R55*Q55)*2 -> 7.4 | U55: VOLUME GERAL DE CONCRETO DA FUNDAÇAO
A56: V6 | B56: 0.2 | C56: 0.4 | D56: 1.7 | E56: =(D56*B56)*C56 -> 0.136 | H56: V6 | I56: 0.4 | J56: 0.5 | K56: 1.7 | L56: =(K56*I56)*J56 -> 0.34 | O56: V6 | P56: 20 | Q56: 0.4 | R56: 1.7 | S56: =(R56*Q56)*2 -> 1.36 | U56: VOL.DAS SAPATAS | W56: =J43 -> 19.28925
A57: V7 | B57: 0.2 | C57: 0.4 | D57: 1.7 | E57: =(D57*B57)*C57 -> 0.136 | H57: V7 | I57: 0.4 | J57: 0.5 | K57: 1.7 | L57: =(K57*I57)*J57 -> 0.34 | O57: V7 | P57: 20 | Q57: 0.4 | R57: 1.7 | S57: =(R57*Q57)*2 -> 1.36 | U57: VOL.DAS BALDRAMES | W57: =E115 -> 43.8504
A58: V8 | B58: 0.2 | C58: 0.4 | D58: 14.7 | E58: =(D58*B58)*C58 -> 1.176 | H58: V8 | I58: 0.4 | J58: 0.5 | K58: 14.7 | L58: =(K58*I58)*J58 -> 2.94 | O58: V8 | P58: 20 | Q58: 0.4 | R58: 14.7 | S58: =(R58*Q58)*2 -> 11.76 | U58: VOL.DOS PILARETES | W58: =X43 -> 2.0010182
A59: V9 | B59: 0.2 | C59: 0.4 | D59: 14.5 | E59: =(D59*B59)*C59 -> 1.16 | H59: V9 | I59: 0.4 | J59: 0.5 | K59: 14.5 | L59: =(K59*I59)*J59 -> 2.9 | O59: V9 | P59: 20 | Q59: 0.4 | R59: 14.5 | S59: =(R59*Q59)*2 -> 11.6 | U59: VOL.FINAL (M3) | W59: =SUM(W56:X58)*1.05 -> 68.397702
A60: V10 | B60: 0.2 | C60: 0.4 | D60: 7.95 | E60: =(D60*B60)*C60 -> 0.636 | H60: V10 | I60: 0.4 | J60: 0.5 | K60: 7.95 | L60: =(K60*I60)*J60 -> 1.59 | O60: V10 | P60: 20 | Q60: 0.4 | R60: 7.95 | S60: =(R60*Q60)*2 -> 6.36
A61: V11 | B61: 0.2 | C61: 0.4 | D61: 8.3 | E61: =(D61*B61)*C61 -> 0.664 | H61: V11 | I61: 0.4 | J61: 0.5 | K61: 8.3 | L61: =(K61*I61)*J61 -> 1.66 | O61: V11 | P61: 20 | Q61: 0.4 | R61: 8.3 | S61: =(R61*Q61)*2 -> 6.64
A62: V12 | B62: 0.2 | C62: 0.4 | D62: 11.6 | E62: =(D62*B62)*C62 -> 0.928 | H62: V12 | I62: 0.4 | J62: 0.5 | K62: 11.6 | L62: =(K62*I62)*J62 -> 2.32 | O62: V12 | P62: 20 | Q62: 0.4 | R62: 11.6 | S62: =(R62*Q62)*2 -> 9.28 | U62: VOLUME GERAL DE FORMAS DA FUNDAÇAO
A63: V13 | B63: 0.2 | C63: 0.4 | D63: 6.8 | E63: =(D63*B63)*C63 -> 0.544 | H63: V13 | I63: 0.4 | J63: 0.5 | K63: 6.8 | L63: =(K63*I63)*J63 -> 1.36 | O63: V13 | P63: 20 | Q63: 0.4 | R63: 6.8 | S63: =(R63*Q63)*2 -> 5.44 | U63: VOL.DAS SAPATAS | W63: =S41 -> 71.56
A64: V14 | B64: 0.2 | C64: 0.4 | D64: 2.75 | E64: =(D64*B64)*C64 -> 0.22 | H64: V14 | I64: 0.4 | J64: 0.5 | K64: 2.75 | L64: =(K64*I64)*J64 -> 0.55 | O64: V14 | P64: 20 | Q64: 0.4 | R64: 2.75 | S64: =(R64*Q64)*2 -> 2.2 | U64: VOL.DAS BALDRAMES | W64: =S115 -> 438.504
...

Sheet SUPER
B2: INFRAESTRUTURA
B4: SAPATAS | L4: RESUMO INFRA
B5: CA-50 | C5: ᴓ10 | D5: ᴓ25 | M5: KG
A6: OK | B6: AÇO | C6: 508.19 | D6: 50.32 | L6: FORMA | M6: =C8+C16 -> 546.56
A7: OK | B7: CONCRETO | C7: 24.85 | L7: CONCRETO | M7: =C7+C15 -> 74.82
A8: OK | B8: FORMA | C8: 71.24 | L8: CA-50 6.3 A 10 | M8: =C6+G14+H14 -> 1378.22
L9: CA-50 12.5 A 25 | M9: =D6+I14 -> 627.76
L10: CA-60 4.0 A 7.0 | M10: =C14+D14 -> 842.67
B11: VIGA BALDRAME
B13: CA-60 | C13: ᴓ05 | D13: ᴓ6.3 | F13: CA-50 | G13: ᴓ08 | H13: ᴓ10 | I13: ᴓ12.5
A14: OK | B14: AÇO | C14: 787.23 | D14: 55.44 | G14: 423.63 | H14: 446.4 | I14: 577.44
A15: OK | B15: CONCRETO | C15: 49.97
A16: OK | B16: FORMA | C16: 475.32
B19: SUPERESTRUTURA
B22: VIGA COBERTURA
L23: RESUMO SUPER
B24: CA-60 | C24: ᴓ05 | D24: ᴓ6.3 | F24: CA-50 | G24: ᴓ08 | H24: ᴓ10 | I24: ᴓ12.5 | M24: KG
A25: OK | B25: AÇO | C25: 289.4 | D25: 99.9 | G25: 198.2 | H25: 385.4 | I25: 777.3 | L25: FORMA | M25: =C27+C34+C42 -> 2244.01
A26: OK | B26: CONCRETO | C26: 18.07 | L26: CONCRETO | M26: =C26+C33+C41 -> 254.262
A27: OK | B27: FORMA | C27: =475.32+120.18 -> 595.5 | L27: CA-50 6.3 A 10 | M27: =G25+H25+G32+H32+C40+D40 -> 3677.2348
L28: CA-50 12.5 A 25 | M28: =I25+I32+F40+G40+H40+I40 -> 31149.27
B29: PILARES | L29: CA-60 4.0 A 7.0 | M29: =C25+D25+C32+D32 -> 723.99216
L30: FORMA,PILARES E VIGAS | M30: =C27+C34 -> 738.3
B31: CA-60 | C31: ᴓ05 | D31: ᴓ6.3 | F31: CA-50 | G31: ᴓ08 | H31: ᴓ10 | I31: ᴓ12.5
B32: AÇO | C32: =B101 -> 334.69216 | H32: =B102 -> 605.4048 | I32: =B103 -> 256.08 | J32: 0
B33: CONCRETO | C33: =O66 -> 10.332
B34: FORMA | C34: =O54 -> 142.8 | L34: LAJE BALDRAME
L35: CA-50 | M35: ᴓ06.3 | N35: ᴓ08 | O35: ᴓ10 | P35: ᴓ12.5 | Q35: ᴓ16 | R35: ᴓ20 | S35: ᴓ25
L36: AÇO | M36: =C40/2 -> 773.235 | N36: =D40/2 -> 470.88 | O36: =E40/2 -> 1389.69 | P36: =F40/2 -> 3020.31 | Q36: =G40/2 -> 4701.15 | R36: =H40/2 -> 5321.88 | S36: =I40/2 -> 2014.605
B37: LAJE | L37: CONCRETO | M37: =C41/2 -> 112.93
L38: FORMA | M38: =C42/2 -> 752.855
B39: CA-50 | C39: ᴓ06.3 | D39: ᴓ08 | E39: ᴓ10 | F39: ᴓ12.5 | G39: ᴓ16 | H39: ᴓ20 | I39: ᴓ25
B40: AÇO | C40: 1546.47 | D40: 941.76 | E40: 2779.38 | F40: 6040.62 | G40: 9402.3 | H40: 10643.76 | I40: 4029.21 | L40: CA-50 6.3 A 10 | M40: =SUM(M36:O36) -> 2633.805
B41: CONCRETO | C41: =ROUND(C42*0.15,2) -> 225.86 | L41: CA-50 12.5 A 25 | M41: =SUM(P36,Q36,R36,S36) -> 15057.945
B42: FORMA | C42: 1505.71 | L42: CA-60 4.0 A 7.0 | M42: 0
A44: QRADRO DE RESUMO DE PILARES
A46: QUADRO DE RESUMO DE AÇO | I46: FORMAS (M2)
A47: AÇO | B47: BIT (mm) | C47: QTD | D47: COMPRIMENTO | G47: PESO+10% kg
D48: UNIT. (cm) | E48: TOTAL(cm) | F48: TOTAL (M) | I48: ITEM | K48: QTD | L48: SEÇÃO (CM) | N48: ALT. (M) | O48: FORMAS (M2)
A49: P1=P2=P11=P12=P13=P17=P19=P36 | B49: 10 | C49: =6*8 -> 48 | D49: 440 | E49: =C49*D49 -> 21120 | F49: =E49/100 -> 211.2 | G49: =(F49*0.63)*1.1 -> 146.3616 | I49: P1 a P37 menos | K49: 21 | L49: 0.2 | M49: 0.4 | N49: 3 | O49: =((L49*N49*2)+(M49*N49*2))*K49 -> 75.6
...
