Workbook

Sheet Planilha Orçamentária
C2: ESTADO DO ESPÍRITO SANTO
C3: PREFEITURA MUNICIPAL DE GUARAPARI
C4: Secretaria Municipal de Obras Públicas
B6: Tabela de preços : 223 - Referencial de Preços outubro 2018 com desoneração | D6: Data base: Outubro/2018 BDI : 29,63%
B7: BDI: 29,63%
B8: Objeto: Contratação de empresa para pavimentação de aproximadamente 700m da estrada principal da Comunidade de Alto Jabuti, neste município.
B10: 1 | C10: SERVIÇOS PRELIMINARES | D10: Unidade | E10: Unidade | F10: Valor Unitário | G10: Quantidade | H10: Valor Total
B11: 41500 | C11: Placa de obra nas dimensões de 3,0 x 6,0 m, padrão DER-ES | D11: M2 | E11: m2 | F11: 274.76 | G11: 18 | H11: =G11*F11 -> 4945.68
B12: 41454 | C12: Aluguel de container tipo vestiário, 2 luminárias, piso especial e janela | D12: Mes | E12: Ud | F12: 440.74 | G12: 1 | H12: =G12*F12 -> 440.74
B13: 41495 | C13: Mobilização e desmobilização de container até 50 km | D13: Ud | E13: Ud | F13: 1021.13 | G13: 1 | H13: =G13*F13 -> 1021.13
B14: 41501 | C14: Rede de água c/ padrão de entrada d'água diâm. 3/4" conf. CESAN, incl. tubos e conexões p/ aliment., distrib., extravas. e limp., cons. o padrão a 25m | D14: M | E14: m | F14: 36.69 | G14: 6 | H14: =G14*F14 -> 220.14
B15: 41499 | C15: Rede de esgoto, contendo fossa e filtro, incl. tubos e conexões de ligação entre caixas, considerando distância de 25m | D15: M | E15: m | F15: 306.09 | G15: 6 | H15: =G15*F15 -> 1836.54
B16: 41527 | C16: Reservatório de fibra de vidro de 1000 L, incl. suporte em madeira de 7x12cm, elevado de 4m | D16: Ud | E16: Ud | F16: 1855.18 | G16: 2 | H16: =G16*F16 -> 3710.36
B17: 2 | C17: PAVIMENTAÇÃO | J17: =SUM(H11:H16) -> 12174.59 | K17: =J17-H13 -> 11153.46
B18: 40754 | C18: Regularização e compactação do sub-leito (100% P.I.) H = 0,20 m | D18: M2 | E18: m2 | F18: 1.25 | G18: 4200 | H18: =G18*F18 -> 5250 | K18: =K17/2 -> 5576.73
B19: 40787 | C19: Base de brita graduada, inclusive fornecimento e transporte da brita, h=15cm | D19: M3 | E19: m3 | F19: =103.23+32.52 -> 135.75 | G19: =G18*0.15 -> 630 | H19: =G19*F19 -> 85522.5
B20: 40112 | C20: Pintura de ligação, inclusive fornecimento e transporte da emulsão | D20: M2 | E20: m2 | F20: 2.03 | G20: 4200 | H20: =G20*F20 -> 8526
B21: 40816 | C21: Imprimação exclusive fornecimento e transporte comercial do material betuminoso | D21: M2 | E21: m2 | F21: 0.8 | G21: 4200 | H21: =G21*F21 -> 3360
B22: 40831 | C22: T.S.B.D. com capa selante inclusive fornecimento e transporte comercial dos materiais e lavagem da brita | D22: M2 | E22: m2 | F22: =20.8+2.4848 -> 23.2848 | G22: 4200 | H22: =G22*F22 -> 97796.16
B23: 3 | C23: AQUISIÇÃO E TRANSPORTE DO MATERIAL BETUMINOSO | J23: =SUM(H18:H22) -> 200454.66
B24: 40968 | C24: CM-30, fornecimento | D24: t | E24: t | F24: 4446.4 | G24: =G22*0.0012 -> 5.04 | H24: =G24*F24 -> 22409.856
B25: 972 | C25: Bonificação de 20,93% sobre Materiais Betuminosos | D25: % | F25: 0.15 | G25: =H24 -> 22409.856 | H25: =G25*F25 -> 3361.4784
B26: 60006 | C26: TR-301-00 = (1,000x58,6 + 1,039x03 + 7,697) | D26: t | E26: t | F26: 69.41 | G26: =G24 -> 5.04 | H26: =G26*F26 -> 349.8264
B27: 4 | C27: ADMINISTRAÇÃO LOCAL | J27: =SUM(H24:H26) -> 26121.161
C28: Administração Local | D28: Ud | E28: Ud | F28: =Administracao!F6 -> 11971.365 | G28: 1 | H28: =G28*F28 -> 11971.365
G29: Valor Total | H29: =SUM(H11:H28) -> 250721.78 | J29: =H28 -> 11971.365

Sheet Administracao
B1: Administração local
D2: Preço Unit. | E2: Quant. | F2: Valor Total
A3: 20070 | B3: Engenheiro junior | C3: Mês | D3: 13830.78 | E3: 0.5 | F3: =E3*D3 -> 6915.39
A4: 99301 | B4: Encarregado Geral | C4: h | D4: 23.34 | E4: 120 | F4: =E4*D4 -> 2800.8
A5: 20015 | B5: Topógrafo auxiliar (nivelador) | C5: Mes | D5: 4510.35 | E5: 0.5 | F5: =E5*D5 -> 2255.175
F6: =SUM(F3:F5) -> 11971.365

Sheet Cronograma
E1: CRONOGRAMA FÍSICO-FINANCEIRO
A3: Objeto: Contratação de empresa para pavimentação de 700m da estrada principal da Comunidade de Alto Jabuti, neste município.
A5: Item | B5: serviços | C5: TOTAL dos serviços R$ | D5: % dos serviços R$ | E5: serviços a executar
E6: Mês 1 | G6: Mês 2
A8: 1 | B8: ='Planilha Orçamentária'!C10 -> SERVIÇOS PRELIMINARES | C8: ='Planilha Orçamentária'!J17 -> 12174.59 | D8: =C8/C$16*100% -> 0.048558168 | E8: =C8*0.8 -> 9739.672 | F8: =E8/C8 -> 0.8 | G8: =C8*0.2 -> 2434.918 | H8: =G8/C8 -> 0.2
H9: =F8+H8 -> 1
A10: 2 | B10: ='Planilha Orçamentária'!C17 -> PAVIMENTAÇÃO | C10: ='Planilha Orçamentária'!J23 -> 200454.66 | D10: =C10/C$16*100% -> 0.79951037 | E10: =C10/2 -> 100227.33 | F10: =E10/C10 -> 0.5 | G10: =C10/2 -> 100227.33 | H10: =G10/C10 -> 0.5
H11: =F10+H10 -> 1
A12: 3 | B12: ='Planilha Orçamentária'!C23 -> AQUISIÇÃO E TRANSPORTE DO MATERIAL BETUMINOSO | C12: ='Planilha Orçamentária'!J27 -> 26121.161 | D12: =C12/C$16*100% -> 0.10418385 | E12: =C12/2 -> 13060.58 | F12: =E12/C12 -> 0.5 | G12: =C12/2 -> 13060.58 | H12: =G12/C12 -> 0.5
H13: =F12+H12 -> 1
A14: 4 | B14: ='Planilha Orçamentária'!C27 -> ADMINISTRAÇÃO LOCAL | C14: ='Planilha Orçamentária'!J29 -> 11971.365 | D14: =C14/C$16*100% -> 0.047747608 | E14: =C14/2 -> 5985.6825 | F14: =E14/C14 -> 0.5 | G14: =C14/2 -> 5985.6825 | H14: =G14/C14 -> 0.5
H15: =F14+H14 -> 1
B16: TOTAL R$ | C16: =SUM(C8:C15) -> 250721.78 | D16: =SUM(D8:D15) -> 1 | E16: =SUM(E8:E15) -> 129013.26 | F16: =E16/C16 -> 0.51456745 | G16: =SUM(G8:G15) -> 121708.51 | H16: =G16/C16 -> 0.48543255
B17: Acumulado | E17: =E16 -> 129013.26 | F17: =F16 -> 0.51456745 | G17: =G16+E17 -> 250721.78 | H17: =H16+F17 -> 1
